{"text_format":"2","workbook":"xlsx","n_sheets":2,"sheets":["Förderrechner_neu","Übersicht Wohngebäude"],"not_rendered":{"charts":0,"images":1,"macros":0,"external_links":0,"defined_names":0,"comments":0,"pivot_tables":0},"unopened":[],"bounds":{"document_bytes":16777216,"sheet_cells":100000,"run_cost":"one","rows_first":2000,"rows_last":500,"rows_between":2000,"halvings":0,"cell_chars":16384,"cell_head_chars":4096},"cells_cut":0,"cells_raw":0,"read":"whole","date_system":"1900"}

{"sheet":"Förderrechner_neu","index":0,"n_rows":42,"n_cols":7,"rows_kept":42,"cut":false,"hidden":false,"merged":[[41,0,41,6],[7,0,7,4],[7,5,7,6],[6,3,6,4],[6,5,6,6],[38,0,38,6],[39,0,39,6],[33,0,33,4],[33,5,33,6],[10,0,10,6],[13,0,13,6],[16,0,16,6],[37,0,37,6],[18,5,18,6],[19,5,19,6],[22,5,22,6],[25,5,25,6],[26,5,26,6],[2,0,2,6],[35,4,35,5],[35,1,35,2],[18,0,18,4],[5,5,5,6],[4,0,4,1],[4,5,4,6],[12,0,12,5],[28,0,31,6],[24,5,24,6]]}
[]
["Förderrechner für den Heizungstausch ab 2024"]
["Mit diesem Rechner können Sie die Höhe des Zuschusses in der Bundesförderung effiziente Gebäude (BEG-EM) für den Austausch von Heizungsanlagen ab 2024 berechnen. Füllen Sie dazu die grünen Felder aus. "]
[]
["Allgemeine Angaben",{"$nulls":4},"Wohngebäude"]
["Art des neuen Wärmeerzeugers",{"$nulls":4},"Wärmepumpe"]
[{"$f":"IF(F5=\"Wohngebäude\",\"Anzahl der Wohneinheiten:\",\"Nettogrundfläche NGF [m²]\")","v":"Anzahl der Wohneinheiten:"},null,8,{"$f":"IF(F5=\"Wohngebäude\",\"davon selbstgenutzt:\",\"\")","v":"davon selbstgenutzt:"},null,4]
["Ausgaben für den Heizungstausch: ",{"$nulls":4},60000]
[]
["Ist der Klimageschwindigkeits-Bonus anwendbar?",{"$nulls":5},"ja"]
[{"$f":"IF(F5=\"Wohngebäude\",\"Beim Ersatz von funktionierenden Öl-, Gasetagen-, Gaszentral-, Kohle- oder Nachtspeicherheizungen wird ein 'Klimageschwindigkeits-Bonus' gewährt.\"&\" Dies gilt auch für Gas- und Biomasseheizungen, die mindestens 20 Jahre alt sind. Der Bonus wird nur für selbstgenutzte Wohneinheiten gewährt und liegt bis 2028 bei 20 %. Danach wird er alle zwei Jahre um 3 Prozentpunkte reduziert.\"&\" \",\"Dieser Bonus ist bei Nichtwohngebäuden nicht anwendbar.\")","v":"Beim Ersatz von funktionierenden Öl-, Gasetagen-, Gaszentral-, Kohle- oder Nachtspeicherheizungen wird ein 'Klimageschwindigkeits-Bonus' gewährt. Dies gilt auch für Gas- und Biomasseheizungen, die mindestens 20 Jahre alt sind. Der Bonus wird nur für selbstgenutzte Wohneinheiten gewährt und liegt bis 2028 bei 20 %. Danach wird er alle zwei Jahre um 3 Prozentpunkte reduziert. "}]
[]
[{"$f":"IF(F6=\"Biomasseheizung\",\"Ist der Emmissionsminderungs-Zuschlag anwendbar?\",\"Ist der Effizienzbonus anwendbar?\")","v":"Ist der Effizienzbonus anwendbar?"},{"$nulls":5},"ja"]
[{"$f":"IF(F6=\"Biomasseheizung\", \"2.500 € extra Förderung bei Errichtung von Biomasseheizungen mit nachweislich geringeren Staub-Emissionen als 2,5 mg/m³.\",\"5 % Bonus für die Nutzung von natürlichen Kältemitteln oder Erd-, Wasser- oder Abwasserwärme bei Wärmepumpen.\")","v":"5 % Bonus für die Nutzung von natürlichen Kältemitteln oder Erd-, Wasser- oder Abwasserwärme bei Wärmepumpen."}]
[]
["Für wie viele Wohneinheiten ist der Einkommensbonus anwendbar? ",{"$nulls":5},0]
[{"$f":"IF(F5=\"Wohngebäude\",\"Einkommensbonus von zusätzlich 30 % für selbstgenutzte Wohneinheiten bei einem zu versteuernden Haushaltseinkommen von bis zu 40.000 €.\",\"Dieser Bonus ist für Nichtwohngebäude nicht anwendbar.\")","v":"Einkommensbonus von zusätzlich 30 % für selbstgenutzte Wohneinheiten bei einem zu versteuernden Haushaltseinkommen von bis zu 40.000 €."}]
[]
["Mögliche Förderung bei Antrag in (bitte Jahr wählen)",{"$nulls":4},2024]
["Fördersatz gesamt (prozentual) ",{"$nulls":4},{"$f":"IF(F5=\"Wohngebäude\",'Übersicht Wohngebäude'!I32,MIN(IF(AND($G$13=\"ja\",$F$6=\"Wärmepumpe\"),0.05,0)+0.3,0.7))","v":0.45}]
["Hinweis: Die maximale Förderquote beträgt 70 %. "]
[]
["Förderfähige Ausgaben für den Heizungstausch",{"$nulls":4},{"$f":"IF(F5=\"Wohngebäude\",IF(C7<7,30000+IF(AND(C7<7,C7>1),(C7-1)*15000),30000+5*15000+(C7-6)*8000),IF(C7<=150,30000,0)+IF(Förderrechner_neu!C7>150,IF(Förderrechner_neu!C7<=1000,IF(Förderrechner_neu!C7<=400,200*C7,120*(C7-400)+200*400),80*(C7-1000)+120*(600)+200*400),0))","v":121000}]
[]
["Förderung Zwischensumme",{"$nulls":4},{"$f":"IF(F8<=F23,F8,F23)*F20","v":27000}]
["Emissionsminderungs-Zuschlag (auf den Förderbetrag)",{"$nulls":4},{"$f":"IF(AND(F6=\"Biomasseheizung\",G13=\"ja\"),2500,0)","v":0}]
["Höhe der Förderung für den Heizungstausch",{"$nulls":4},{"$f":"IF(F8<=F23,F8,F23)*F20+F26","v":27000}]
[]
["Ab 2024 stehen für Effizienzmaßnahmen zusätzliche förderfähige Ausgaben zur Verfügung. Weitere Arbeiten (z.B. Dämmung, Fenstertausch) können mit 15% (ggf. +5 % iSFP-Bonus) zusätzlich gefördert werden. \nDie Förderung einer neuen Heizungsanlage kann jedoch NICHT mit der Einzelmaßnahme \"Heizungsoptimierung\" kombiniert werden. Hier gilt weiterhin, dass eine zu optimierende Heizungsanlage mindestens 2 Jahre alt sein muss (Ziffer 4.1 der Richtlinie BEG EM). "]
[]
[]
[]
[]
["Aktuelle Infos zur BEG-Förderung finden Sie immer unter: ",{"$nulls":4},"https://oekozentrum.nrw/beg/"]
[]
["Legende:","Eingabefelder",null,null,"Ergebnisfelder"]
[]
["*Hinweis: Kalkulation von Maßnahmen zum Heizungstausch inkl. Umfeldmaßnahmen. "]
[]
["Die Angaben basieren auf der BEG EM Richtlinie vom 21.12.2023, die am 29.12.2023 im Bundesanzeiger veröffentlicht wurde."]
[]
["Hinweis: Die Berechnung bildet unser derzeitiges Verständnis der Richtlinie ab. Details zum Emissionsminderungszuschlag bei Biomasseheizungen sowie zur Aufteilung der Ausgaben bei mehreren Wohneinheiten sind weiterhin unklar. Wir sind zunächst davon ausgegangen, dass die Ausgaben den betroffenen Wohneinheiten gleichmäßig und nicht entsprechend der Flächenanteile zugeordnet werden. "]

{"sheet":"Übersicht Wohngebäude","index":1,"n_rows":37,"n_cols":13,"rows_kept":37,"cut":false,"hidden":false,"merged":[[36,0,36,12],[1,7,1,12],[1,0,1,6],[35,0,35,12],[2,12,3,12],[2,11,3,11],[2,9,3,9],[2,5,3,5],[2,10,3,10],[30,1,30,2],[30,3,30,4],[2,2,3,2],[2,1,3,1],[2,3,2,4],[2,6,2,8],[2,0,3,0],[32,4,32,11],[33,4,33,11],[29,0,29,12],[30,5,30,7],[30,8,30,9],[30,10,30,11],[31,8,31,9],[31,5,31,7],[31,10,31,11],[31,3,31,4],[31,1,31,2]]}
[{"$f":"\"Übersicht der möglichen Förderung \"&Förderrechner_neu!F19&\" für Wohngebäude\"","v":"Übersicht der möglichen Förderung 2024 für Wohngebäude"}]
[{"$f":"Förderrechner_neu!F6","v":"Wärmepumpe"},{"$nulls":6},{"$f":"IF(Förderrechner_neu!F5=\"Nichtwohngebäude\",\"Achtung! Nichtwohngebäude gewählt!\",IF(Förderrechner_neu!C7>25,\"Nicht alle Wohneinheiten abbildbar!\",\"\"))","v":""}]
["Wohneinheit Nr.","selbstgenutzt?","Einkommen ≤ 40.000 € ?","Förderfähige Ausgaben",null,"Grundförderung","Boni",null,null,"maximale Förderquote","angesetzte Ausgaben (tatsächliche bzw. max. förderfähige Ausgaben)","Förderquote","Förderbetrag"]
[null,null,null,"Berechnung"," pro Wohneinheit",null,"Klimageschwindigkeit","Effizienz (Wärmep.)","Einkommen"]
[1,{"$f":"IF(Förderrechner_neu!$F$7>=A5,\"x\",\"\")","v":"x"},{"$f":"IF(Förderrechner_neu!$G$16>=A5,\"x\",\"\")","v":""},{"$f":"IF(Förderrechner_neu!$C$7>=A5,30000,\"\")","v":30000},{"$f":"IF(D5<>\"\",SUM($D$5:$D$29)/COUNT($D$5:$D$29),\"\")","v":15125},{"$f":"IF(D5<>\"\",30%,\"\")","v":0.3},{"$f":"IF(AND(D5<>\"\",Förderrechner_neu!$G$10=\"ja\",B5<>\"\"),IF(Förderrechner_neu!$F$19<2029,20%,IF(Förderrechner_neu!$F$19<2031,17%,IF(Förderrechner_neu!$F$19<2033,14%,IF(Förderrechner_neu!F$19<2035,11%,8%)))),\"\")","v":0.2},{"$f":"IF(AND(D5<>\"\",Förderrechner_neu!$G$13=\"ja\",Förderrechner_neu!$F$6=\"Wärmepumpe\"),5%,\"\")","v":0.05},{"$f":"IF(C5<>\"\",30%,\"\")","v":""},{"$f":"IF(D5<>\"\",IF(B5<>\"\",70%,70%),\"\")","v":0.7},{"$f":"IF(E5<>\"\",MIN(E5,(Förderrechner_neu!$F$8/Förderrechner_neu!$C$7)),\"\")","v":7500},{"$f":"IF(J5=\"\",\"\",MIN(J5,SUM(F5:I5)))","v":0.55000000000000004},{"$f":"IFERROR(K5*L5,\"\")","v":4125}]
[2,{"$f":"IF(Förderrechner_neu!$F$7>=A6,\"x\",\"\")","v":"x"},{"$f":"IF(Förderrechner_neu!$G$16>=A6,\"x\",\"\")","v":""},{"$f":"IF(Förderrechner_neu!$C$7>=A6,15000,\"\")","v":15000},15125,{"$f":"IF(D6<>\"\",30%,\"\")","v":0.3},{"$f":"IF(AND(D6<>\"\",Förderrechner_neu!$G$10=\"ja\",B6<>\"\"),IF(Förderrechner_neu!$F$19<2029,20%,IF(Förderrechner_neu!$F$19<2031,17%,IF(Förderrechner_neu!$F$19<2033,14%,IF(Förderrechner_neu!F$19<2035,11%,8%)))),\"\")","v":0.2},{"$f":"IF(AND(D6<>\"\",Förderrechner_neu!$G$13=\"ja\",Förderrechner_neu!$F$6=\"Wärmepumpe\"),5%,\"\")","v":0.05},{"$f":"IF(C6<>\"\",30%,\"\")","v":""},{"$f":"IF(D6<>\"\",IF(B6<>\"\",70%,70%),\"\")","v":0.7},{"$f":"IF(E6<>\"\",MIN(E6,(Förderrechner_neu!$F$8/Förderrechner_neu!$C$7)),\"\")","v":7500},{"$f":"IF(J6=\"\",\"\",MIN(J6,SUM(F6:I6)))","v":0.55000000000000004},{"$f":"IFERROR(K6*L6,\"\")","v":4125}]
[3,{"$f":"IF(Förderrechner_neu!$F$7>=A7,\"x\",\"\")","v":"x"},{"$f":"IF(Förderrechner_neu!$G$16>=A7,\"x\",\"\")","v":""},{"$f":"IF(Förderrechner_neu!$C$7>=A7,15000,\"\")","v":15000},15125,0.3,{"$f":"IF(AND(D7<>\"\",Förderrechner_neu!$G$10=\"ja\",B7<>\"\"),IF(Förderrechner_neu!$F$19<2029,20%,IF(Förderrechner_neu!$F$19<2031,17%,IF(Förderrechner_neu!$F$19<2033,14%,IF(Förderrechner_neu!F$19<2035,11%,8%)))),\"\")","v":0.2},{"$f":"IF(AND(D7<>\"\",Förderrechner_neu!$G$13=\"ja\",Förderrechner_neu!$F$6=\"Wärmepumpe\"),5%,\"\")","v":0.05},"",{"$f":"IF(D7<>\"\",IF(B7<>\"\",70%,70%),\"\")","v":0.7},{"$f":"IF(E7<>\"\",MIN(E7,(Förderrechner_neu!$F$8/Förderrechner_neu!$C$7)),\"\")","v":7500},0.55000000000000004,4125]
[4,{"$f":"IF(Förderrechner_neu!$F$7>=A8,\"x\",\"\")","v":"x"},{"$f":"IF(Förderrechner_neu!$G$16>=A8,\"x\",\"\")","v":""},{"$f":"IF(Förderrechner_neu!$C$7>=A8,15000,\"\")","v":15000},15125,0.3,{"$f":"IF(AND(D8<>\"\",Förderrechner_neu!$G$10=\"ja\",B8<>\"\"),IF(Förderrechner_neu!$F$19<2029,20%,IF(Förderrechner_neu!$F$19<2031,17%,IF(Förderrechner_neu!$F$19<2033,14%,IF(Förderrechner_neu!F$19<2035,11%,8%)))),\"\")","v":0.2},{"$f":"IF(AND(D8<>\"\",Förderrechner_neu!$G$13=\"ja\",Förderrechner_neu!$F$6=\"Wärmepumpe\"),5%,\"\")","v":0.05},"",0.7,{"$f":"IF(E8<>\"\",MIN(E8,(Förderrechner_neu!$F$8/Förderrechner_neu!$C$7)),\"\")","v":7500},0.55000000000000004,4125]
[5,{"$f":"IF(Förderrechner_neu!$F$7>=A9,\"x\",\"\")","v":""},{"$f":"IF(Förderrechner_neu!$G$16>=A9,\"x\",\"\")","v":""},{"$f":"IF(Förderrechner_neu!$C$7>=A9,15000,\"\")","v":15000},15125,0.3,{"$f":"IF(AND(D9<>\"\",Förderrechner_neu!$G$10=\"ja\",B9<>\"\"),IF(Förderrechner_neu!$F$19<2029,20%,IF(Förderrechner_neu!$F$19<2031,17%,IF(Förderrechner_neu!$F$19<2033,14%,IF(Förderrechner_neu!F$19<2035,11%,8%)))),\"\")","v":""},{"$f":"IF(AND(D9<>\"\",Förderrechner_neu!$G$13=\"ja\",Förderrechner_neu!$F$6=\"Wärmepumpe\"),5%,\"\")","v":0.05},"",0.7,{"$f":"IF(E9<>\"\",MIN(E9,(Förderrechner_neu!$F$8/Förderrechner_neu!$C$7)),\"\")","v":7500},0.35,2625]
[6,{"$f":"IF(Förderrechner_neu!$F$7>=A10,\"x\",\"\")","v":""},{"$f":"IF(Förderrechner_neu!$G$16>=A10,\"x\",\"\")","v":""},{"$f":"IF(Förderrechner_neu!$C$7>=A10,15000,\"\")","v":15000},15125,0.3,{"$f":"IF(AND(D10<>\"\",Förderrechner_neu!$G$10=\"ja\",B10<>\"\"),IF(Förderrechner_neu!$F$19<2029,20%,IF(Förderrechner_neu!$F$19<2031,17%,IF(Förderrechner_neu!$F$19<2033,14%,IF(Förderrechner_neu!F$19<2035,11%,8%)))),\"\")","v":""},{"$f":"IF(AND(D10<>\"\",Förderrechner_neu!$G$13=\"ja\",Förderrechner_neu!$F$6=\"Wärmepumpe\"),5%,\"\")","v":0.05},"",0.7,{"$f":"IF(E10<>\"\",MIN(E10,(Förderrechner_neu!$F$8/Förderrechner_neu!$C$7)),\"\")","v":7500},0.35,2625]
[7,{"$f":"IF(Förderrechner_neu!$F$7>=A11,\"x\",\"\")","v":""},{"$f":"IF(Förderrechner_neu!$G$16>=A11,\"x\",\"\")","v":""},{"$f":"IF(Förderrechner_neu!$C$7>=A11,8000,\"\")","v":8000},15125,0.3,{"$f":"IF(AND(D11<>\"\",Förderrechner_neu!$G$10=\"ja\",B11<>\"\"),IF(Förderrechner_neu!$F$19<2029,20%,IF(Förderrechner_neu!$F$19<2031,17%,IF(Förderrechner_neu!$F$19<2033,14%,IF(Förderrechner_neu!F$19<2035,11%,8%)))),\"\")","v":""},{"$f":"IF(AND(D11<>\"\",Förderrechner_neu!$G$13=\"ja\",Förderrechner_neu!$F$6=\"Wärmepumpe\"),5%,\"\")","v":0.05},"",0.7,{"$f":"IF(E11<>\"\",MIN(E11,(Förderrechner_neu!$F$8/Förderrechner_neu!$C$7)),\"\")","v":7500},0.35,2625]
[8,{"$f":"IF(Förderrechner_neu!$F$7>=A12,\"x\",\"\")","v":""},{"$f":"IF(Förderrechner_neu!$G$16>=A12,\"x\",\"\")","v":""},{"$f":"IF(Förderrechner_neu!$C$7>=A12,8000,\"\")","v":8000},15125,0.3,{"$f":"IF(AND(D12<>\"\",Förderrechner_neu!$G$10=\"ja\",B12<>\"\"),IF(Förderrechner_neu!$F$19<2029,20%,IF(Förderrechner_neu!$F$19<2031,17%,IF(Förderrechner_neu!$F$19<2033,14%,IF(Förderrechner_neu!F$19<2035,11%,8%)))),\"\")","v":""},{"$f":"IF(AND(D12<>\"\",Förderrechner_neu!$G$13=\"ja\",Förderrechner_neu!$F$6=\"Wärmepumpe\"),5%,\"\")","v":0.05},"",0.7,{"$f":"IF(E12<>\"\",MIN(E12,(Förderrechner_neu!$F$8/Förderrechner_neu!$C$7)),\"\")","v":7500},0.35,2625]
[9,{"$f":"IF(Förderrechner_neu!$F$7>=A13,\"x\",\"\")","v":""},{"$f":"IF(Förderrechner_neu!$G$16>=A13,\"x\",\"\")","v":""},{"$f":"IF(Förderrechner_neu!$C$7>=A13,8000,\"\")","v":""},"",{"$f":"IF(D13<>\"\",30%,\"\")","v":""},{"$f":"IF(AND(D13<>\"\",Förderrechner_neu!$G$10=\"ja\",B13<>\"\"),IF(Förderrechner_neu!$F$19<2029,20%,IF(Förderrechner_neu!$F$19<2031,17%,IF(Förderrechner_neu!$F$19<2033,14%,IF(Förderrechner_neu!F$19<2035,11%,8%)))),\"\")","v":""},{"$f":"IF(AND(D13<>\"\",Förderrechner_neu!$G$13=\"ja\",Förderrechner_neu!$F$6=\"Wärmepumpe\"),5%,\"\")","v":""},"","",{"$f":"IF(E13<>\"\",MIN(E13,(Förderrechner_neu!$F$8/Förderrechner_neu!$C$7)),\"\")","v":""},"",""]
[10,{"$f":"IF(Förderrechner_neu!$F$7>=A14,\"x\",\"\")","v":""},{"$f":"IF(Förderrechner_neu!$G$16>=A14,\"x\",\"\")","v":""},{"$f":"IF(Förderrechner_neu!$C$7>=A14,8000,\"\")","v":""},"","",{"$f":"IF(AND(D14<>\"\",Förderrechner_neu!$G$10=\"ja\",B14<>\"\"),IF(Förderrechner_neu!$F$19<2029,20%,IF(Förderrechner_neu!$F$19<2031,17%,IF(Förderrechner_neu!$F$19<2033,14%,IF(Förderrechner_neu!F$19<2035,11%,8%)))),\"\")","v":""},{"$f":"IF(AND(D14<>\"\",Förderrechner_neu!$G$13=\"ja\",Förderrechner_neu!$F$6=\"Wärmepumpe\"),5%,\"\")","v":""},"","",{"$f":"IF(E14<>\"\",MIN(E14,(Förderrechner_neu!$F$8/Förderrechner_neu!$C$7)),\"\")","v":""},"",""]
[11,{"$f":"IF(Förderrechner_neu!$F$7>=A15,\"x\",\"\")","v":""},{"$f":"IF(Förderrechner_neu!$G$16>=A15,\"x\",\"\")","v":""},{"$f":"IF(Förderrechner_neu!$C$7>=A15,8000,\"\")","v":""},"","",{"$f":"IF(AND(D15<>\"\",Förderrechner_neu!$G$10=\"ja\",B15<>\"\"),IF(Förderrechner_neu!$F$19<2029,20%,IF(Förderrechner_neu!$F$19<2031,17%,IF(Förderrechner_neu!$F$19<2033,14%,IF(Förderrechner_neu!F$19<2035,11%,8%)))),\"\")","v":""},{"$f":"IF(AND(D15<>\"\",Förderrechner_neu!$G$13=\"ja\",Förderrechner_neu!$F$6=\"Wärmepumpe\"),5%,\"\")","v":""},"","",{"$f":"IF(E15<>\"\",MIN(E15,(Förderrechner_neu!$F$8/Förderrechner_neu!$C$7)),\"\")","v":""},"",""]
[12,{"$f":"IF(Förderrechner_neu!$F$7>=A16,\"x\",\"\")","v":""},{"$f":"IF(Förderrechner_neu!$G$16>=A16,\"x\",\"\")","v":""},{"$f":"IF(Förderrechner_neu!$C$7>=A16,8000,\"\")","v":""},"","",{"$f":"IF(AND(D16<>\"\",Förderrechner_neu!$G$10=\"ja\",B16<>\"\"),IF(Förderrechner_neu!$F$19<2029,20%,IF(Förderrechner_neu!$F$19<2031,17%,IF(Förderrechner_neu!$F$19<2033,14%,IF(Förderrechner_neu!F$19<2035,11%,8%)))),\"\")","v":""},{"$f":"IF(AND(D16<>\"\",Förderrechner_neu!$G$13=\"ja\",Förderrechner_neu!$F$6=\"Wärmepumpe\"),5%,\"\")","v":""},"","",{"$f":"IF(E16<>\"\",MIN(E16,(Förderrechner_neu!$F$8/Förderrechner_neu!$C$7)),\"\")","v":""},"",""]
[13,{"$f":"IF(Förderrechner_neu!$F$7>=A17,\"x\",\"\")","v":""},{"$f":"IF(Förderrechner_neu!$G$16>=A17,\"x\",\"\")","v":""},{"$f":"IF(Förderrechner_neu!$C$7>=A17,8000,\"\")","v":""},"","",{"$f":"IF(AND(D17<>\"\",Förderrechner_neu!$G$10=\"ja\",B17<>\"\"),IF(Förderrechner_neu!$F$19<2029,20%,IF(Förderrechner_neu!$F$19<2031,17%,IF(Förderrechner_neu!$F$19<2033,14%,IF(Förderrechner_neu!F$19<2035,11%,8%)))),\"\")","v":""},{"$f":"IF(AND(D17<>\"\",Förderrechner_neu!$G$13=\"ja\",Förderrechner_neu!$F$6=\"Wärmepumpe\"),5%,\"\")","v":""},"","",{"$f":"IF(E17<>\"\",MIN(E17,(Förderrechner_neu!$F$8/Förderrechner_neu!$C$7)),\"\")","v":""},"",""]
[14,{"$f":"IF(Förderrechner_neu!$F$7>=A18,\"x\",\"\")","v":""},{"$f":"IF(Förderrechner_neu!$G$16>=A18,\"x\",\"\")","v":""},{"$f":"IF(Förderrechner_neu!$C$7>=A18,8000,\"\")","v":""},"","",{"$f":"IF(AND(D18<>\"\",Förderrechner_neu!$G$10=\"ja\",B18<>\"\"),IF(Förderrechner_neu!$F$19<2029,20%,IF(Förderrechner_neu!$F$19<2031,17%,IF(Förderrechner_neu!$F$19<2033,14%,IF(Förderrechner_neu!F$19<2035,11%,8%)))),\"\")","v":""},{"$f":"IF(AND(D18<>\"\",Förderrechner_neu!$G$13=\"ja\",Förderrechner_neu!$F$6=\"Wärmepumpe\"),5%,\"\")","v":""},"","",{"$f":"IF(E18<>\"\",MIN(E18,(Förderrechner_neu!$F$8/Förderrechner_neu!$C$7)),\"\")","v":""},"",""]
[15,null,null,{"$f":"IF(Förderrechner_neu!$C$7>=A19,8000,\"\")","v":""},{"$f":"IF(D19<>\"\",SUM($D$5:$D$29)/COUNT($D$5:$D$29),\"\")","v":""},{"$f":"IF(D19<>\"\",30%,\"\")","v":""},{"$f":"IF(AND(D19<>\"\",Förderrechner_neu!$G$10=\"ja\",B19<>\"\"),IF(Förderrechner_neu!$F$19<2029,20%,IF(Förderrechner_neu!$F$19<2031,17%,IF(Förderrechner_neu!$F$19<2033,14%,IF(Förderrechner_neu!F$19<2035,11%,8%)))),\"\")","v":""},{"$f":"IF(AND(D19<>\"\",Förderrechner_neu!$G$13=\"ja\",Förderrechner_neu!$F$6=\"Wärmepumpe\"),5%,\"\")","v":""},{"$f":"IF(C19<>\"\",30%,\"\")","v":""},"",{"$f":"IF(E19<>\"\",MIN(E19,(Förderrechner_neu!$F$8/Förderrechner_neu!$C$7)),\"\")","v":""},"",{"$f":"IFERROR(K19*L19,\"\")","v":""}]
[16,null,null,{"$f":"IF(Förderrechner_neu!$C$7>=A20,8000,\"\")","v":""},"","",{"$f":"IF(AND(D20<>\"\",Förderrechner_neu!$G$10=\"ja\",B20<>\"\"),IF(Förderrechner_neu!$F$19<2029,20%,IF(Förderrechner_neu!$F$19<2031,17%,IF(Förderrechner_neu!$F$19<2033,14%,IF(Förderrechner_neu!F$19<2035,11%,8%)))),\"\")","v":""},{"$f":"IF(AND(D20<>\"\",Förderrechner_neu!$G$13=\"ja\",Förderrechner_neu!$F$6=\"Wärmepumpe\"),5%,\"\")","v":""},"","",{"$f":"IF(E20<>\"\",MIN(E20,(Förderrechner_neu!$F$8/Förderrechner_neu!$C$7)),\"\")","v":""},"",""]
[17,null,null,{"$f":"IF(Förderrechner_neu!$C$7>=A21,8000,\"\")","v":""},"","",{"$f":"IF(AND(D21<>\"\",Förderrechner_neu!$G$10=\"ja\",B21<>\"\"),IF(Förderrechner_neu!$F$19<2029,20%,IF(Förderrechner_neu!$F$19<2031,17%,IF(Förderrechner_neu!$F$19<2033,14%,IF(Förderrechner_neu!F$19<2035,11%,8%)))),\"\")","v":""},{"$f":"IF(AND(D21<>\"\",Förderrechner_neu!$G$13=\"ja\",Förderrechner_neu!$F$6=\"Wärmepumpe\"),5%,\"\")","v":""},"","",{"$f":"IF(E21<>\"\",MIN(E21,(Förderrechner_neu!$F$8/Förderrechner_neu!$C$7)),\"\")","v":""},"",""]
[18,null,null,{"$f":"IF(Förderrechner_neu!$C$7>=A22,8000,\"\")","v":""},"","",{"$f":"IF(AND(D22<>\"\",Förderrechner_neu!$G$10=\"ja\",B22<>\"\"),IF(Förderrechner_neu!$F$19<2029,20%,IF(Förderrechner_neu!$F$19<2031,17%,IF(Förderrechner_neu!$F$19<2033,14%,IF(Förderrechner_neu!F$19<2035,11%,8%)))),\"\")","v":""},{"$f":"IF(AND(D22<>\"\",Förderrechner_neu!$G$13=\"ja\",Förderrechner_neu!$F$6=\"Wärmepumpe\"),5%,\"\")","v":""},"","",{"$f":"IF(E22<>\"\",MIN(E22,(Förderrechner_neu!$F$8/Förderrechner_neu!$C$7)),\"\")","v":""},"",""]
[19,null,null,{"$f":"IF(Förderrechner_neu!$C$7>=A23,8000,\"\")","v":""},"","",{"$f":"IF(AND(D23<>\"\",Förderrechner_neu!$G$10=\"ja\",B23<>\"\"),IF(Förderrechner_neu!$F$19<2029,20%,IF(Förderrechner_neu!$F$19<2031,17%,IF(Förderrechner_neu!$F$19<2033,14%,IF(Förderrechner_neu!F$19<2035,11%,8%)))),\"\")","v":""},{"$f":"IF(AND(D23<>\"\",Förderrechner_neu!$G$13=\"ja\",Förderrechner_neu!$F$6=\"Wärmepumpe\"),5%,\"\")","v":""},"","",{"$f":"IF(E23<>\"\",MIN(E23,(Förderrechner_neu!$F$8/Förderrechner_neu!$C$7)),\"\")","v":""},"",""]
[20,null,null,{"$f":"IF(Förderrechner_neu!$C$7>=A24,8000,\"\")","v":""},"","",{"$f":"IF(AND(D24<>\"\",Förderrechner_neu!$G$10=\"ja\",B24<>\"\"),IF(Förderrechner_neu!$F$19<2029,20%,IF(Förderrechner_neu!$F$19<2031,17%,IF(Förderrechner_neu!$F$19<2033,14%,IF(Förderrechner_neu!F$19<2035,11%,8%)))),\"\")","v":""},{"$f":"IF(AND(D24<>\"\",Förderrechner_neu!$G$13=\"ja\",Förderrechner_neu!$F$6=\"Wärmepumpe\"),5%,\"\")","v":""},"","",{"$f":"IF(E24<>\"\",MIN(E24,(Förderrechner_neu!$F$8/Förderrechner_neu!$C$7)),\"\")","v":""},"",""]
[21,null,null,{"$f":"IF(Förderrechner_neu!$C$7>=A25,8000,\"\")","v":""},"","",{"$f":"IF(AND(D25<>\"\",Förderrechner_neu!$G$10=\"ja\",B25<>\"\"),IF(Förderrechner_neu!$F$19<2029,20%,IF(Förderrechner_neu!$F$19<2031,17%,IF(Förderrechner_neu!$F$19<2033,14%,IF(Förderrechner_neu!F$19<2035,11%,8%)))),\"\")","v":""},{"$f":"IF(AND(D25<>\"\",Förderrechner_neu!$G$13=\"ja\",Förderrechner_neu!$F$6=\"Wärmepumpe\"),5%,\"\")","v":""},"","",{"$f":"IF(E25<>\"\",MIN(E25,(Förderrechner_neu!$F$8/Förderrechner_neu!$C$7)),\"\")","v":""},"",""]
[22,null,null,{"$f":"IF(Förderrechner_neu!$C$7>=A26,8000,\"\")","v":""},"","",{"$f":"IF(AND(D26<>\"\",Förderrechner_neu!$G$10=\"ja\",B26<>\"\"),IF(Förderrechner_neu!$F$19<2029,20%,IF(Förderrechner_neu!$F$19<2031,17%,IF(Förderrechner_neu!$F$19<2033,14%,IF(Förderrechner_neu!F$19<2035,11%,8%)))),\"\")","v":""},{"$f":"IF(AND(D26<>\"\",Förderrechner_neu!$G$13=\"ja\",Förderrechner_neu!$F$6=\"Wärmepumpe\"),5%,\"\")","v":""},"","",{"$f":"IF(E26<>\"\",MIN(E26,(Förderrechner_neu!$F$8/Förderrechner_neu!$C$7)),\"\")","v":""},"",""]
[23,null,null,{"$f":"IF(Förderrechner_neu!$C$7>=A27,8000,\"\")","v":""},"","",{"$f":"IF(AND(D27<>\"\",Förderrechner_neu!$G$10=\"ja\",B27<>\"\"),IF(Förderrechner_neu!$F$19<2029,20%,IF(Förderrechner_neu!$F$19<2031,17%,IF(Förderrechner_neu!$F$19<2033,14%,IF(Förderrechner_neu!F$19<2035,11%,8%)))),\"\")","v":""},{"$f":"IF(AND(D27<>\"\",Förderrechner_neu!$G$13=\"ja\",Förderrechner_neu!$F$6=\"Wärmepumpe\"),5%,\"\")","v":""},"","",{"$f":"IF(E27<>\"\",MIN(E27,(Förderrechner_neu!$F$8/Förderrechner_neu!$C$7)),\"\")","v":""},"",""]
[24,{"$f":"IF(Förderrechner_neu!$F$7>=A28,\"x\",\"\")","v":""},{"$f":"IF(Förderrechner_neu!$G$16>=A28,\"x\",\"\")","v":""},{"$f":"IF(Förderrechner_neu!$C$7>=A28,8000,\"\")","v":""},{"$f":"IF(D28<>\"\",SUM($D$5:$D$29)/COUNT($D$5:$D$29),\"\")","v":""},"",{"$f":"IF(AND(D28<>\"\",Förderrechner_neu!$G$10=\"ja\",B28<>\"\"),IF(Förderrechner_neu!$F$19<2029,20%,IF(Förderrechner_neu!$F$19<2031,17%,IF(Förderrechner_neu!$F$19<2033,14%,IF(Förderrechner_neu!F$19<2035,11%,8%)))),\"\")","v":""},{"$f":"IF(AND(D28<>\"\",Förderrechner_neu!$G$13=\"ja\",Förderrechner_neu!$F$6=\"Wärmepumpe\"),5%,\"\")","v":""},"","",{"$f":"IF(E28<>\"\",MIN(E28,(Förderrechner_neu!$F$8/Förderrechner_neu!$C$7)),\"\")","v":""},"",""]
[25,{"$f":"IF(Förderrechner_neu!$F$7>=A29,\"x\",\"\")","v":""},{"$f":"IF(Förderrechner_neu!$G$16>=A29,\"x\",\"\")","v":""},{"$f":"IF(Förderrechner_neu!$C$7>=A29,8000,\"\")","v":""},{"$f":"IF(D29<>\"\",SUM($D$5:$D$29)/COUNT($D$5:$D$29),\"\")","v":""},"",{"$f":"IF(AND(D29<>\"\",Förderrechner_neu!$G$10=\"ja\",B29<>\"\"),IF(Förderrechner_neu!$F$19<2029,20%,IF(Förderrechner_neu!$F$19<2031,17%,IF(Förderrechner_neu!$F$19<2033,14%,IF(Förderrechner_neu!F$19<2035,11%,8%)))),\"\")","v":""},{"$f":"IF(AND(D29<>\"\",Förderrechner_neu!$G$13=\"ja\",Förderrechner_neu!$F$6=\"Wärmepumpe\"),5%,\"\")","v":""},"","",{"$f":"IF(E29<>\"\",MIN(E29,(Förderrechner_neu!$F$8/Förderrechner_neu!$C$7)),\"\")","v":""},"",""]
["Summe gesamtes Gebäude"]
["Wohn-einheiten","davon selbst-genutzt",null," mit Einkommens-Bonus ",null,"Förderfähige Ausgaben gesamt",null,null,"Förder-satz",null,"Investitions-kosten",null,"Förder-betrag"]
[{"$f":"SUM(--(D5:D29<>\"\"))","v":8},{"$f":"SUM(--(B5:B29=\"x\"))","v":4},null,{"$f":"SUM(--(C5:C29=\"x\"))","v":0},null,{"$f":"SUM(D5:D29)","v":121000},null,null,{"$f":"M32/MIN(F32,Förderrechner_neu!F8)","v":0.45},null,{"$f":"Förderrechner_neu!F8","v":60000},null,{"$f":"SUM(M5:M29)","v":27000}]
[{"$nulls":4},"Emissionsminderungs-Zuschlag:",{"$nulls":7},{"$f":"Förderrechner_neu!F26","v":0}]
[{"$nulls":4},{"$f":"\"Förderbetrag (\"&ROUND(M34/(K32),3)*100&\" % der Gesamtinvestition):\"","v":"Förderbetrag (45 % der Gesamtinvestition):"},{"$nulls":7},{"$f":"M32+M33","v":27000}]
[]
[{"$f":"H2","v":""}]
["Hinweis: Die Berechnung bildet unser derzeitiges Verständnis der Richtlinie ab. Details zum Emissionsminderungszuschlag bei Biomasseheizungen sowie zur Aufteilung der Ausgaben bei mehreren Wohneinheiten sind weiterhin unklar. Wir sind zunächst davon ausgegangen, dass die Ausgaben den betroffenen Wohneinheiten gleichmäßig und nicht entsprechend der Flächenanteile zugeordnet werden. "]