{"text_format":"2","workbook":"xlsx","n_sheets":2,"sheets":["Förderrechner","Detailrechnung WEG"],"not_rendered":{"charts":0,"images":2,"macros":0,"external_links":0,"defined_names":0,"comments":2,"pivot_tables":0},"unopened":[],"bounds":{"document_bytes":16777216,"sheet_cells":100000,"run_cost":"one","rows_first":2000,"rows_last":500,"rows_between":2000,"halvings":0,"cell_chars":16384,"cell_head_chars":4096},"cells_cut":0,"cells_raw":0,"read":"whole","date_system":"1900"}

{"sheet":"Förderrechner","index":0,"n_rows":47,"n_cols":7,"rows_kept":47,"cut":false,"hidden":false,"merged":[[5,5,5,6],[31,5,31,6],[7,2,7,3],[29,5,29,6],[2,0,2,6],[7,4,7,5],[5,2,5,3],[6,2,6,3],[25,5,25,6],[15,0,15,6],[17,0,17,6],[20,0,20,6],[23,0,23,6],[8,0,9,3],[11,0,11,5],[14,0,14,5],[4,0,4,3],[26,5,26,6],[4,4,4,6],[32,5,32,6],[12,0,12,6],[46,0,46,6],[40,4,40,5],[25,0,25,4],[45,0,45,6],[43,0,43,6],[44,0,44,6],[38,0,38,4],[38,5,38,6],[42,0,42,6],[40,1,40,2],[34,0,36,6],[30,5,30,6]]}
[]
["Förderrechner für den Heizungstausch ab 2024"]
["Mit diesem Rechner können Sie die Höhe des Zuschusses in der Bundesförderung effiziente Gebäude (BEG-EM) für den Austausch von Heizungsanlagen ab 2024 berechnen. Füllen Sie dazu die grünen Felder aus. "]
[]
["Allgemeine Angaben zur neuen Heizung",null,null,null,"Allgemeine Angaben zum Gebäude"]
["Art des neuen Wärmeerzeugers:",null,"Wärmepumpe",null,"Gebäudetyp:","Wohngebäude"]
["Ausgaben für den Heizungstausch: ",null,30000,null,{"$f":"IF(F6=\"Wohngebäude\",\"Anzahl Wohneinheiten gesamt:\",\"Nettogrundfläche NGF [m²]\")","v":"Anzahl Wohneinheiten gesamt:"},null,1]
["davon berücksichtigte Ausgaben: ",null,{"$f":"C7-2500*(G12=\"ja\")*(C6=\"Biomasseheizung\")","v":30000},null,{"$f":"\"von neuer Heizung versorgt (\"&ROUND(G8/G7*100,2)&\" %):\"","v":"von neuer Heizung versorgt (100 %):"},null,1]
[{"$f":"IF(AND(F6=\"Wohngebäude\",G10=\"Ja\"),\"BITTE TABELLENBLATT ''Detailrechnung WEG'' AUSFÜLLEN!\",\"\")","v":""},null,null,null,{"$f":"IF(F6=\"Wohngebäude\",\"davon selbstgenutztes Eigentum:\",\"\")","v":"davon selbstgenutztes Eigentum:"},null,1]
[{"$nulls":4},"Wohnungseigentümergemeinschaft? ",null,"Nein"]
[]
["Ist der Emmissionsminderungs-Zuschlag anwendbar?",{"$nulls":5},"ja"]
["+2.500 € Förderung für Biomasseheizungen mit Staub-Emissionen nachweislich < 2,5 mg/m³."]
[]
["Ist der Effizienzbonus anwendbar?",{"$nulls":5},"nein"]
["5 % Bonus für Wärmepumpen mit natürlichem Kältemittel bzw. Wärmequelle Erdreich oder (Ab-)Wasser."]
[]
[{"$f":"IF(F6=\"Nichtwohngebäude\",\"Die folgenden Boni sind bei Nichtwohngebäuden NICHT anwendbar.\",IF(G10=\"Ja\",\"Bitte die Eigentumsanteile in ''Detailrechnung WEG'' eintragen. \",\"\")&\"Die folgenden Boni sind für max. eine selbst genutzte Wohneinheit je Eigentümer:in anwendbar und müssen über Zusatzanträge beantragt werden. \")","v":"Die folgenden Boni sind für max. eine selbst genutzte Wohneinheit je Eigentümer:in anwendbar und müssen über Zusatzanträge beantragt werden. "}]
[]
["Ist der Klimageschwindigkeits-Bonus anwendbar?",{"$nulls":5},"ja"]
[{"$f":"IF(F6=\"Wohngebäude\",\"Wird beim Tausch von intakten Öl-, Etagen-, Kohle- oder Nachtspeicherheizungen gegen erneuerbare Heizungen gewährt.  Dies gilt auch für Gas- und Biomasseheizungen, die mind. 20 Jahre alt sind. \"&\"Der Bonus liegt bis 2028 bei 20 % und sinkt dann alle zwei Jahre um 3 Prozentpunkte.\"&\" Neue Biomasseheizungen müssen für den Bonus von Solarthermie, PV für Warmwasser oder einer Wärmepumpe unterstützt werden. \",\"Dieser Bonus ist bei Nichtwohngebäuden nicht anwendbar.\")","v":"Wird beim Tausch von intakten Öl-, Etagen-, Kohle- oder Nachtspeicherheizungen gegen erneuerbare Heizungen gewährt.  Dies gilt auch für Gas- und Biomasseheizungen, die mind. 20 Jahre alt sind. Der Bonus liegt bis 2028 bei 20 % und sinkt dann alle zwei Jahre um 3 Prozentpunkte. Neue Biomasseheizungen müssen für den Bonus von Solarthermie, PV für Warmwasser oder einer Wärmepumpe unterstützt werden. "}]
[]
["Für wie viele Wohneinheiten ist der Einkommensbonus anwendbar? ",{"$nulls":5},1]
[{"$f":"IF(F6=\"Wohngebäude\",\"Einkommensbonus von 30 % bei einem zu versteuernden Haushaltseinkommen von bis zu 40.000 € jährlich.\",\"Dieser Bonus ist bei Nichtwohngebäuden nicht anwendbar.\")","v":"Einkommensbonus von 30 % bei einem zu versteuernden Haushaltseinkommen von bis zu 40.000 € jährlich."}]
[]
["Mögliche Förderung bei Antrag in (bitte Jahr wählen)",{"$nulls":4},"2024-2028"]
["Fördersatz gesamt (prozentual, bezogen auf berücksichtigte Ausgaben)",{"$nulls":4},{"$f":"IF(F6=\"Wohngebäude\",('Detailrechnung WEG'!L8/MIN('Detailrechnung WEG'!F6,C8)),IF(AND($G$15=\"ja\",OR($C$6=\"Wärmepumpe\",C6=\"mehrere EE-Wärmeerzeuger\")),0.05,0)+0.3)","v":0.7}]
[{"$f":"IF(F6=\"Wohngebäude\",\"Hinweis: Die maximale Förderquote beträgt 70 % ggf. zzgl. Emissionsminderungs-Zuschlag.\",\"Hinweis: Bei Nichtwohngebäuden sind 35 % Förderung möglich, ggf. zzgl. Emissionsminderungs-Zuschlag.\")","v":"Hinweis: Die maximale Förderquote beträgt 70 % ggf. zzgl. Emissionsminderungs-Zuschlag."}]
[]
["Förderfähige Ausgaben für den Heizungstausch",{"$nulls":4},{"$f":"IF(F6=\"Wohngebäude\",IF(G7<7,30000+IF(AND(G7<7,G7>1),(G7-1)*15000),30000+5*15000+(G7-6)*8000),IF(G7<=150,30000,0)+IF(Förderrechner!G7>150,IF(Förderrechner!G7<=1000,IF(Förderrechner!G7<=400,200*G7,120*(G7-400)+200*400),80*(G7-1000)+120*(600)+200*400),0))*(G8/G7)","v":30000}]
["Grundförderung inkl. Effizienzbonus & Emissionsminderungs-Zuschlag",{"$nulls":4},{"$f":"IF(F6=\"Nichtwohngebäude\",F33,IF(C8<=F30,C8,F30)*'Detailrechnung WEG'!H6)","v":9000}]
["Zusatzförderung für selbstgenutztes Eigentum (Klimab./ Einkommensb.) ",{"$nulls":4},{"$f":"'Detailrechnung WEG'!L7","v":11999.999999999998}]
["Höhe der Förderung für den Heizungstausch",{"$nulls":4},{"$f":"IF(C8<=F30,C8,F30)*F27+IF(AND(F6=\"Nichtwohngebäude\",OR(C6=\"Biomasseheizung\",C6=\"mehrere EE-Wärmeerzeuger\"),G12=\"ja\"),2500,0)","v":21000}]
[]
["Für Einzelmaßnahmen stehen bis zu 120.000 € Ergänzungskredit der KfW zur Verfügung. Bei Haushalten mit bis zu 90.000 € zu versteuerndem Jahreseinkommen gilt dafür ein vergünstigter Zinssatz. Bei weiteren Effizienzmaßnahmen (z.B. Dämmung, Fenstertausch) können zusätzliche Ausgaben mit 15% (ggf. +5 % iSFP-Bonus) gefördert werden. Die Förderung einer neuen Heizungsanlage kann jedoch NICHT mit der Einzelmaßnahme \"Heizungsoptimierung\" kombiniert werden (Ziffer 4.1 der Richtlinie BEG EM). "]
[]
[]
[]
["Aktuelle Infos zur BEG-Förderung finden Sie immer unter: ",{"$nulls":4},"https://oekozentrum.nrw/beg/"]
[]
["Legende:","Eingabefelder",null,null,"Ergebnisfelder"]
[]
["*Hinweis: Kalkulation von Maßnahmen zum Heizungstausch als Einzelmaßname der BEG. "]
[]
["Die Angaben bilden unser Verständnis der BEG EM Richtlinie ab (veröffentlicht am 29.12.23)."]
["Details zum Emissionsminderungszuschlag bei Biomasseheizungen sowie zur Aufteilung der Ausgaben bei mehreren Wohneinheiten sind den FAQ des BMWK auf www.energiewechsel.de entnommen. "]
["Details zur Kostenaufteilung bei ungeteilten MFH entstammen den FAQ der KfW auf www.kfw.de/458."]

{"sheet":"Detailrechnung WEG","index":1,"n_rows":149,"n_cols":12,"rows_kept":149,"cut":false,"hidden":false,"merged":[[0,0,1,11],[3,0,3,11],[17,9,17,11],[16,9,16,11],[15,9,15,11],[14,9,14,11],[5,7,5,8],[4,5,4,6],[5,5,5,6],[4,0,4,2],[5,0,5,2],[9,0,9,11],[5,9,5,10],[4,9,4,10],[13,9,13,11],[4,7,4,8],[170,0,170,10],[20,10,21,10],[20,9,21,9],[20,7,21,7],[20,8,21,8],[20,2,21,2],[20,1,21,1],[20,5,20,6],[20,0,21,0],[20,11,21,11],[11,9,11,11],[10,9,10,11],[6,0,6,10],[7,0,7,10],[19,0,19,11],[12,9,12,11],[17,0,17,8],[16,0,16,8],[15,0,15,8],[14,0,14,8],[13,0,13,8],[12,0,12,8],[11,0,11,8],[10,0,10,8],[20,4,21,4]]}
[{"$f":"\"Heizungstausch-Förderung (BEG EM) in \"&Förderrechner!F26&CHAR(10)&\"für Wohngebäude - \"&Förderrechner!C6","v":"Heizungstausch-Förderung (BEG EM) in 2024-2028\nfür Wohngebäude - Wärmepumpe"}]
[]
[]
["Zusammenfassung der Ergebnisse für alle Wohneinheiten des Gebäudes \n(bitte bei Wohnungseigentümergemeinschaften unten die Eigentumsanteile eintragen)"]
["betroffene Wohn-einheiten",null,null," davon selbst genutzt","davon mit \nEinkommens-Bonus ","Förderf. Ausgaben gesamt",null,"Fördersatz ",null,"Investition",null,"Grund-förderung"]
[{"$f":"SUM(--(H23:H164<>\"\"))","v":1},null,null,{"$f":"SUM(--(B23:B164=\"x\"))","v":1},{"$f":"SUM(--(C23:C164=\"x\"))","v":1},{"$f":"Förderrechner!F30","v":30000},null,{"$f":"L6/MIN(F6,Förderrechner!C8)","v":0.3},null,{"$f":"Förderrechner!C7","v":30000},null,{"$f":"J18","v":9000}]
[{"$f":"\"Zusatzförderung für selbstgenutztes Eigentum (\"&ROUND(L7/(J6),3)*100&\" % der Gesamtinvestition):\"","v":"Zusatzförderung für selbstgenutztes Eigentum (40 % der Gesamtinvestition):"},{"$nulls":10},{"$f":"SUM(K23:K147)","v":11999.999999999998}]
[{"$f":"\"gesamter Förderbetrag (\"&ROUND(L8/(J6),3)*100&\" % der Gesamtinvestition):\"","v":"gesamter Förderbetrag (70 % der Gesamtinvestition):"},{"$nulls":10},{"$f":"L6+L7","v":21000}]
[]
["Berechnung der Grundförderung und der immer verfügbaren Boni (Basisantrag)"]
["Ausgaben für den Heizungstausch: ",{"$nulls":8},{"$f":"Förderrechner!C7","v":30000}]
["Berücksichtigte Ausgaben (ggf. reduziert um Emissionsminderungs-Zuschlag):",{"$nulls":8},{"$f":"J11-J17","v":30000}]
["maximal förderfähige Ausgaben: ",{"$nulls":8},{"$f":"Förderrechner!F30","v":30000}]
["Effizienzbonus 5 % (Wärmepumpe): ",{"$nulls":8},{"$f":"IF(OR(Förderrechner!C6=\"Wärmepumpe\",Förderrechner!C6=\"mehrere EE-Wärmeerzeuger\"),Förderrechner!G15,0)","v":"nein"}]
[{"$f":"\"Grundfördersatz \"&IF(J14=\"ja\",\"inkl. Effizienzbonus\",\"\")&IF(Förderrechner!G8>1,\" (ggf. Zusatzanträge nötig)\",\"\")","v":"Grundfördersatz "},{"$nulls":8},{"$f":"0.3+0.05*--(J14=\"ja\")","v":0.3}]
["Zwischensumme Grundförderung:",{"$nulls":8},{"$f":"MIN(J12,J13)*J15","v":9000}]
["Emissionsminderungszuschlag:",{"$nulls":8},{"$f":"IF(OR(Förderrechner!C6=\"Biomasseheizung\",Förderrechner!C6=\"mehrere EE-Wärmeerzeuger\"),IF(Förderrechner!G12=\"ja\",2500,0),0)","v":0}]
[{"$f":"\"Grundförderung \"&IF(Förderrechner!G8>1, \"Basisantrag (ohne Boni f. selbstgenutztes Eigentum):\",\"(ohne Boni für selbstgenutztes Eigentum):\")","v":"Grundförderung (ohne Boni für selbstgenutztes Eigentum):"},{"$nulls":8},{"$f":"MIN(J12,J13)*J15+J17","v":9000}]
[]
[{"$f":"\"Berechnung der Boni für selbstgenutztes Eigentum\"&IF(Förderrechner!G8>1,\" (Zusatzantrag)\",\"\")","v":"Berechnung der Boni für selbstgenutztes Eigentum"}]
["Wohneinheit Nr.","selbstgenutztes Eigentum?","Einkommen ≤ 40.000 € ?","%","maximal förderfähige Ausgaben pro Wohneinheit","Boni",null,"maximaler Zusatz-Bonus","berücksichtigte bzw. max. förderfähige Ausgaben","Gesamter Fördersatz","zusätzlicher Förderbetrag  (selbstgenutztes Eigentum)","Eigenanteil der jeweiligen \nWE bei Aufteilung nach Eigentumsanteil"]
[null,null,null,"Eigentumsanteil an WEG?\n (falls geteiltes Eigentum)",null,"Klimageschwindigkeits-bonus","Einkommensbonus"]
[1,{"$f":"IF(Förderrechner!$G$9>=A23,\"x\",\"\")","v":"x"},{"$f":"IF(Förderrechner!$G$23>=A23,\"x\",\"\")","v":"x"},100,{"$f":"IF(B23<>\"\",IF(AND(D23=0,Förderrechner!$G$10=\"Ja\"),\"<--Eingabe?\",$F$6/(Förderrechner!$G$8)),\"\")","v":30000},{"$f":"IF(AND(H23<>\"\",Förderrechner!$G$20=\"ja\",B23<>\"\"),IF(Förderrechner!$F$26=\"2024-2028\",20%,IF(Förderrechner!$F$26=\"2029/30\",17%,IF(Förderrechner!$F$26=\"2031/32\",14%,IF(Förderrechner!F$26=\"2033/34\",11%,IF(Förderrechner!F$26=\"2035/36\",8%,0%))))),\"\")","v":0.2},{"$f":"IF(C23<>\"\",30%,\"\")","v":0.3},{"$f":"IF(B23<>\"\",0.7-$J$15,IF(A23<=Förderrechner!$G$8,0,\"\"))","v":0.39999999999999997},{"$f":"IF(ISNUMBER(E23),MIN(E23,IF(Förderrechner!$G$10=\"Nein\",$J$12/Förderrechner!$G$7*(Förderrechner!$G$8/Förderrechner!$G$7),IF($D$21=\"%\",D23/100,IF($D$21=\"10.000stel\",D23/10000,D23/1000))*$J$12)),\"\")","v":30000},{"$f":"IF(H23=\"\",\"\",MIN(H23,SUM(F23:G23))+$J$15)","v":0.7},{"$f":"IFERROR(IF(J23<>\"\",IFERROR(I23*(J23-$J$15),0),\"\"),\"\")","v":11999.999999999998},{"$f":"IFERROR((Förderrechner!$C$7-$J$18)*IF(D23=\"\",\"\",D23)/IF($D$21=\"%\",100,IF($D$21=\"10.000stel\",10000,1000))-K23,\"\")","v":9000.0000000000018}]
[2,{"$f":"IF(Förderrechner!$G$9>=A24,\"x\",\"\")","v":""},{"$f":"IF(Förderrechner!$G$23>=A24,\"x\",\"\")","v":""},null,{"$f":"IF(B24<>\"\",IF(AND(D24=0,Förderrechner!$G$10=\"Ja\"),\"<--Eingabe?\",$F$6/(Förderrechner!$G$8)),\"\")","v":""},{"$f":"IF(AND(H24<>\"\",Förderrechner!$G$20=\"ja\",B24<>\"\"),IF(Förderrechner!$F$26=\"2024-2028\",20%,IF(Förderrechner!$F$26=\"2029/30\",17%,IF(Förderrechner!$F$26=\"2031/32\",14%,IF(Förderrechner!F$26=\"2033/34\",11%,IF(Förderrechner!F$26=\"2035/36\",8%,0%))))),\"\")","v":""},{"$f":"IF(C24<>\"\",30%,\"\")","v":""},{"$f":"IF(B24<>\"\",0.7-$J$15,IF(A24<=Förderrechner!$G$8,0,\"\"))","v":""},{"$f":"IF(ISNUMBER(E24),MIN(E24,IF(Förderrechner!$G$10=\"Nein\",0,IF($D$21=\"%\",D24/100,IF($D$21=\"10.000stel\",D24/10000,D24/1000))*$J$12)),\"\")","v":""},{"$f":"IF(H24=\"\",\"\",MIN(H24,SUM(F24:G24))+$J$15)","v":""},{"$f":"IFERROR(IF(J24<>\"\",IFERROR(I24*(J24-$J$15),0),\"\"),\"\")","v":""},{"$f":"IFERROR((Förderrechner!$C$7-$J$18)*IF(D24=\"\",\"\",D24)/IF($D$21=\"%\",100,IF($D$21=\"10.000stel\",10000,1000))-K24,\"\")","v":""}]
[3,{"$f":"IF(Förderrechner!$G$9>=A25,\"x\",\"\")","v":""},{"$f":"IF(Förderrechner!$G$23>=A25,\"x\",\"\")","v":""},null,{"$f":"IF(B25<>\"\",IF(AND(D25=0,Förderrechner!$G$10=\"Ja\"),\"<--Eingabe?\",$F$6/(Förderrechner!$G$8)),\"\")","v":""},{"$f":"IF(AND(H25<>\"\",Förderrechner!$G$20=\"ja\",B25<>\"\"),IF(Förderrechner!$F$26=\"2024-2028\",20%,IF(Förderrechner!$F$26=\"2029/30\",17%,IF(Förderrechner!$F$26=\"2031/32\",14%,IF(Förderrechner!F$26=\"2033/34\",11%,IF(Förderrechner!F$26=\"2035/36\",8%,0%))))),\"\")","v":""},{"$f":"IF(C25<>\"\",30%,\"\")","v":""},{"$f":"IF(B25<>\"\",0.7-$J$15,IF(A25<=Förderrechner!$G$8,0,\"\"))","v":""},{"$f":"IF(ISNUMBER(E25),MIN(E25,IF(Förderrechner!$G$10=\"Nein\",0,IF($D$21=\"%\",D25/100,IF($D$21=\"10.000stel\",D25/10000,D25/1000))*$J$12)),\"\")","v":""},{"$f":"IF(H25=\"\",\"\",MIN(H25,SUM(F25:G25))+$J$15)","v":""},{"$f":"IFERROR(IF(J25<>\"\",IFERROR(I25*(J25-$J$15),0),\"\"),\"\")","v":""},{"$f":"IFERROR((Förderrechner!$C$7-$J$18)*IF(D25=\"\",\"\",D25)/IF($D$21=\"%\",100,IF($D$21=\"10.000stel\",10000,1000))-K25,\"\")","v":""}]
[4,{"$f":"IF(Förderrechner!$G$9>=A26,\"x\",\"\")","v":""},{"$f":"IF(Förderrechner!$G$23>=A26,\"x\",\"\")","v":""},null,{"$f":"IF(B26<>\"\",IF(AND(D26=0,Förderrechner!$G$10=\"Ja\"),\"<--Eingabe?\",$F$6/(Förderrechner!$G$8)),\"\")","v":""},{"$f":"IF(AND(H26<>\"\",Förderrechner!$G$20=\"ja\",B26<>\"\"),IF(Förderrechner!$F$26=\"2024-2028\",20%,IF(Förderrechner!$F$26=\"2029/30\",17%,IF(Förderrechner!$F$26=\"2031/32\",14%,IF(Förderrechner!F$26=\"2033/34\",11%,IF(Förderrechner!F$26=\"2035/36\",8%,0%))))),\"\")","v":""},"",{"$f":"IF(B26<>\"\",0.7-$J$15,IF(A26<=Förderrechner!$G$8,0,\"\"))","v":""},{"$f":"IF(ISNUMBER(E26),MIN(E26,IF(Förderrechner!$G$10=\"Nein\",0,IF($D$21=\"%\",D26/100,IF($D$21=\"10.000stel\",D26/10000,D26/1000))*$J$12)),\"\")","v":""},"","",{"$f":"IFERROR((Förderrechner!$C$7-$J$18)*IF(D26=\"\",\"\",D26)/IF($D$21=\"%\",100,IF($D$21=\"10.000stel\",10000,1000))-K26,\"\")","v":""}]
[5,{"$f":"IF(Förderrechner!$G$9>=A27,\"x\",\"\")","v":""},{"$f":"IF(Förderrechner!$G$23>=A27,\"x\",\"\")","v":""},null,{"$f":"IF(B27<>\"\",IF(AND(D27=0,Förderrechner!$G$10=\"Ja\"),\"<--Eingabe?\",$F$6/(Förderrechner!$G$8)),\"\")","v":""},{"$f":"IF(AND(H27<>\"\",Förderrechner!$G$20=\"ja\",B27<>\"\"),IF(Förderrechner!$F$26=\"2024-2028\",20%,IF(Förderrechner!$F$26=\"2029/30\",17%,IF(Förderrechner!$F$26=\"2031/32\",14%,IF(Förderrechner!F$26=\"2033/34\",11%,IF(Förderrechner!F$26=\"2035/36\",8%,0%))))),\"\")","v":""},"",{"$f":"IF(B27<>\"\",0.7-$J$15,IF(A27<=Förderrechner!$G$8,0,\"\"))","v":""},{"$f":"IF(ISNUMBER(E27),MIN(E27,IF(Förderrechner!$G$10=\"Nein\",0,IF($D$21=\"%\",D27/100,IF($D$21=\"10.000stel\",D27/10000,D27/1000))*$J$12)),\"\")","v":""},"","",{"$f":"IFERROR((Förderrechner!$C$7-$J$18)*IF(D27=\"\",\"\",D27)/IF($D$21=\"%\",100,IF($D$21=\"10.000stel\",10000,1000))-K27,\"\")","v":""}]
[6,{"$f":"IF(Förderrechner!$G$9>=A28,\"x\",\"\")","v":""},{"$f":"IF(Förderrechner!$G$23>=A28,\"x\",\"\")","v":""},null,{"$f":"IF(B28<>\"\",IF(AND(D28=0,Förderrechner!$G$10=\"Ja\"),\"<--Eingabe?\",$F$6/(Förderrechner!$G$8)),\"\")","v":""},{"$f":"IF(AND(H28<>\"\",Förderrechner!$G$20=\"ja\",B28<>\"\"),IF(Förderrechner!$F$26=\"2024-2028\",20%,IF(Förderrechner!$F$26=\"2029/30\",17%,IF(Förderrechner!$F$26=\"2031/32\",14%,IF(Förderrechner!F$26=\"2033/34\",11%,IF(Förderrechner!F$26=\"2035/36\",8%,0%))))),\"\")","v":""},"",{"$f":"IF(B28<>\"\",0.7-$J$15,IF(A28<=Förderrechner!$G$8,0,\"\"))","v":""},{"$f":"IF(ISNUMBER(E28),MIN(E28,IF(Förderrechner!$G$10=\"Nein\",0,IF($D$21=\"%\",D28/100,IF($D$21=\"10.000stel\",D28/10000,D28/1000))*$J$12)),\"\")","v":""},"","",{"$f":"IFERROR((Förderrechner!$C$7-$J$18)*IF(D28=\"\",\"\",D28)/IF($D$21=\"%\",100,IF($D$21=\"10.000stel\",10000,1000))-K28,\"\")","v":""}]
[7,{"$f":"IF(Förderrechner!$G$9>=A29,\"x\",\"\")","v":""},{"$f":"IF(Förderrechner!$G$23>=A29,\"x\",\"\")","v":""},null,{"$f":"IF(B29<>\"\",IF(AND(D29=0,Förderrechner!$G$10=\"Ja\"),\"<--Eingabe?\",$F$6/(Förderrechner!$G$8)),\"\")","v":""},{"$f":"IF(AND(H29<>\"\",Förderrechner!$G$20=\"ja\",B29<>\"\"),IF(Förderrechner!$F$26=\"2024-2028\",20%,IF(Förderrechner!$F$26=\"2029/30\",17%,IF(Förderrechner!$F$26=\"2031/32\",14%,IF(Förderrechner!F$26=\"2033/34\",11%,IF(Förderrechner!F$26=\"2035/36\",8%,0%))))),\"\")","v":""},"",{"$f":"IF(B29<>\"\",0.7-$J$15,IF(A29<=Förderrechner!$G$8,0,\"\"))","v":""},{"$f":"IF(ISNUMBER(E29),MIN(E29,IF(Förderrechner!$G$10=\"Nein\",0,IF($D$21=\"%\",D29/100,IF($D$21=\"10.000stel\",D29/10000,D29/1000))*$J$12)),\"\")","v":""},"","",{"$f":"IFERROR((Förderrechner!$C$7-$J$18)*IF(D29=\"\",\"\",D29)/IF($D$21=\"%\",100,IF($D$21=\"10.000stel\",10000,1000))-K29,\"\")","v":""}]
[8,{"$f":"IF(Förderrechner!$G$9>=A30,\"x\",\"\")","v":""},{"$f":"IF(Förderrechner!$G$23>=A30,\"x\",\"\")","v":""},null,{"$f":"IF(B30<>\"\",IF(AND(D30=0,Förderrechner!$G$10=\"Ja\"),\"<--Eingabe?\",$F$6/(Förderrechner!$G$8)),\"\")","v":""},{"$f":"IF(AND(H30<>\"\",Förderrechner!$G$20=\"ja\",B30<>\"\"),IF(Förderrechner!$F$26=\"2024-2028\",20%,IF(Förderrechner!$F$26=\"2029/30\",17%,IF(Förderrechner!$F$26=\"2031/32\",14%,IF(Förderrechner!F$26=\"2033/34\",11%,IF(Förderrechner!F$26=\"2035/36\",8%,0%))))),\"\")","v":""},"",{"$f":"IF(B30<>\"\",0.7-$J$15,IF(A30<=Förderrechner!$G$8,0,\"\"))","v":""},{"$f":"IF(ISNUMBER(E30),MIN(E30,IF(Förderrechner!$G$10=\"Nein\",0,IF($D$21=\"%\",D30/100,IF($D$21=\"10.000stel\",D30/10000,D30/1000))*$J$12)),\"\")","v":""},"","",{"$f":"IFERROR((Förderrechner!$C$7-$J$18)*IF(D30=\"\",\"\",D30)/IF($D$21=\"%\",100,IF($D$21=\"10.000stel\",10000,1000))-K30,\"\")","v":""}]
[9,{"$f":"IF(Förderrechner!$G$9>=A31,\"x\",\"\")","v":""},{"$f":"IF(Förderrechner!$G$23>=A31,\"x\",\"\")","v":""},null,{"$f":"IF(B31<>\"\",IF(AND(D31=0,Förderrechner!$G$10=\"Ja\"),\"<--Eingabe?\",$F$6/(Förderrechner!$G$8)),\"\")","v":""},{"$f":"IF(AND(H31<>\"\",Förderrechner!$G$20=\"ja\",B31<>\"\"),IF(Förderrechner!$F$26=\"2024-2028\",20%,IF(Förderrechner!$F$26=\"2029/30\",17%,IF(Förderrechner!$F$26=\"2031/32\",14%,IF(Förderrechner!F$26=\"2033/34\",11%,IF(Förderrechner!F$26=\"2035/36\",8%,0%))))),\"\")","v":""},"",{"$f":"IF(B31<>\"\",0.7-$J$15,IF(A31<=Förderrechner!$G$8,0,\"\"))","v":""},{"$f":"IF(ISNUMBER(E31),MIN(E31,IF(Förderrechner!$G$10=\"Nein\",0,IF($D$21=\"%\",D31/100,IF($D$21=\"10.000stel\",D31/10000,D31/1000))*$J$12)),\"\")","v":""},"","",{"$f":"IFERROR((Förderrechner!$C$7-$J$18)*IF(D31=\"\",\"\",D31)/IF($D$21=\"%\",100,IF($D$21=\"10.000stel\",10000,1000))-K31,\"\")","v":""}]
[10,{"$f":"IF(Förderrechner!$G$9>=A32,\"x\",\"\")","v":""},{"$f":"IF(Förderrechner!$G$23>=A32,\"x\",\"\")","v":""},null,{"$f":"IF(B32<>\"\",IF(AND(D32=0,Förderrechner!$G$10=\"Ja\"),\"<--Eingabe?\",$F$6/(Förderrechner!$G$8)),\"\")","v":""},{"$f":"IF(AND(H32<>\"\",Förderrechner!$G$20=\"ja\",B32<>\"\"),IF(Förderrechner!$F$26=\"2024-2028\",20%,IF(Förderrechner!$F$26=\"2029/30\",17%,IF(Förderrechner!$F$26=\"2031/32\",14%,IF(Förderrechner!F$26=\"2033/34\",11%,IF(Förderrechner!F$26=\"2035/36\",8%,0%))))),\"\")","v":""},"",{"$f":"IF(B32<>\"\",0.7-$J$15,IF(A32<=Förderrechner!$G$8,0,\"\"))","v":""},{"$f":"IF(ISNUMBER(E32),MIN(E32,IF(Förderrechner!$G$10=\"Nein\",0,IF($D$21=\"%\",D32/100,IF($D$21=\"10.000stel\",D32/10000,D32/1000))*$J$12)),\"\")","v":""},"","",{"$f":"IFERROR((Förderrechner!$C$7-$J$18)*IF(D32=\"\",\"\",D32)/IF($D$21=\"%\",100,IF($D$21=\"10.000stel\",10000,1000))-K32,\"\")","v":""}]
[11,{"$f":"IF(Förderrechner!$G$9>=A33,\"x\",\"\")","v":""},{"$f":"IF(Förderrechner!$G$23>=A33,\"x\",\"\")","v":""},null,{"$f":"IF(B33<>\"\",IF(AND(D33=0,Förderrechner!$G$10=\"Ja\"),\"<--Eingabe?\",$F$6/(Förderrechner!$G$8)),\"\")","v":""},{"$f":"IF(AND(H33<>\"\",Förderrechner!$G$20=\"ja\",B33<>\"\"),IF(Förderrechner!$F$26=\"2024-2028\",20%,IF(Förderrechner!$F$26=\"2029/30\",17%,IF(Förderrechner!$F$26=\"2031/32\",14%,IF(Förderrechner!F$26=\"2033/34\",11%,IF(Förderrechner!F$26=\"2035/36\",8%,0%))))),\"\")","v":""},"",{"$f":"IF(B33<>\"\",0.7-$J$15,IF(A33<=Förderrechner!$G$8,0,\"\"))","v":""},{"$f":"IF(ISNUMBER(E33),MIN(E33,IF(Förderrechner!$G$10=\"Nein\",0,IF($D$21=\"%\",D33/100,IF($D$21=\"10.000stel\",D33/10000,D33/1000))*$J$12)),\"\")","v":""},"","",{"$f":"IFERROR((Förderrechner!$C$7-$J$18)*IF(D33=\"\",\"\",D33)/IF($D$21=\"%\",100,IF($D$21=\"10.000stel\",10000,1000))-K33,\"\")","v":""}]
[12,{"$f":"IF(Förderrechner!$G$9>=A34,\"x\",\"\")","v":""},{"$f":"IF(Förderrechner!$G$23>=A34,\"x\",\"\")","v":""},null,{"$f":"IF(B34<>\"\",IF(AND(D34=0,Förderrechner!$G$10=\"Ja\"),\"<--Eingabe?\",$F$6/(Förderrechner!$G$8)),\"\")","v":""},{"$f":"IF(AND(H34<>\"\",Förderrechner!$G$20=\"ja\",B34<>\"\"),IF(Förderrechner!$F$26=\"2024-2028\",20%,IF(Förderrechner!$F$26=\"2029/30\",17%,IF(Förderrechner!$F$26=\"2031/32\",14%,IF(Förderrechner!F$26=\"2033/34\",11%,IF(Förderrechner!F$26=\"2035/36\",8%,0%))))),\"\")","v":""},"",{"$f":"IF(B34<>\"\",0.7-$J$15,IF(A34<=Förderrechner!$G$8,0,\"\"))","v":""},{"$f":"IF(ISNUMBER(E34),MIN(E34,IF(Förderrechner!$G$10=\"Nein\",0,IF($D$21=\"%\",D34/100,IF($D$21=\"10.000stel\",D34/10000,D34/1000))*$J$12)),\"\")","v":""},"","",{"$f":"IFERROR((Förderrechner!$C$7-$J$18)*IF(D34=\"\",\"\",D34)/IF($D$21=\"%\",100,IF($D$21=\"10.000stel\",10000,1000))-K34,\"\")","v":""}]
[13,{"$f":"IF(Förderrechner!$G$9>=A35,\"x\",\"\")","v":""},{"$f":"IF(Förderrechner!$G$23>=A35,\"x\",\"\")","v":""},null,{"$f":"IF(B35<>\"\",IF(AND(D35=0,Förderrechner!$G$10=\"Ja\"),\"<--Eingabe?\",$F$6/(Förderrechner!$G$8)),\"\")","v":""},{"$f":"IF(AND(H35<>\"\",Förderrechner!$G$20=\"ja\",B35<>\"\"),IF(Förderrechner!$F$26=\"2024-2028\",20%,IF(Förderrechner!$F$26=\"2029/30\",17%,IF(Förderrechner!$F$26=\"2031/32\",14%,IF(Förderrechner!F$26=\"2033/34\",11%,IF(Förderrechner!F$26=\"2035/36\",8%,0%))))),\"\")","v":""},"",{"$f":"IF(B35<>\"\",0.7-$J$15,IF(A35<=Förderrechner!$G$8,0,\"\"))","v":""},{"$f":"IF(ISNUMBER(E35),MIN(E35,IF(Förderrechner!$G$10=\"Nein\",0,IF($D$21=\"%\",D35/100,IF($D$21=\"10.000stel\",D35/10000,D35/1000))*$J$12)),\"\")","v":""},"","",{"$f":"IFERROR((Förderrechner!$C$7-$J$18)*IF(D35=\"\",\"\",D35)/IF($D$21=\"%\",100,IF($D$21=\"10.000stel\",10000,1000))-K35,\"\")","v":""}]
[14,{"$f":"IF(Förderrechner!$G$9>=A36,\"x\",\"\")","v":""},{"$f":"IF(Förderrechner!$G$23>=A36,\"x\",\"\")","v":""},null,{"$f":"IF(B36<>\"\",IF(AND(D36=0,Förderrechner!$G$10=\"Ja\"),\"<--Eingabe?\",$F$6/(Förderrechner!$G$8)),\"\")","v":""},{"$f":"IF(AND(H36<>\"\",Förderrechner!$G$20=\"ja\",B36<>\"\"),IF(Förderrechner!$F$26=\"2024-2028\",20%,IF(Förderrechner!$F$26=\"2029/30\",17%,IF(Förderrechner!$F$26=\"2031/32\",14%,IF(Förderrechner!F$26=\"2033/34\",11%,IF(Förderrechner!F$26=\"2035/36\",8%,0%))))),\"\")","v":""},"",{"$f":"IF(B36<>\"\",0.7-$J$15,IF(A36<=Förderrechner!$G$8,0,\"\"))","v":""},{"$f":"IF(ISNUMBER(E36),MIN(E36,IF(Förderrechner!$G$10=\"Nein\",0,IF($D$21=\"%\",D36/100,IF($D$21=\"10.000stel\",D36/10000,D36/1000))*$J$12)),\"\")","v":""},"","",{"$f":"IFERROR((Förderrechner!$C$7-$J$18)*IF(D36=\"\",\"\",D36)/IF($D$21=\"%\",100,IF($D$21=\"10.000stel\",10000,1000))-K36,\"\")","v":""}]
[15,{"$f":"IF(Förderrechner!$G$9>=A37,\"x\",\"\")","v":""},{"$f":"IF(Förderrechner!$G$23>=A37,\"x\",\"\")","v":""},null,{"$f":"IF(B37<>\"\",IF(AND(D37=0,Förderrechner!$G$10=\"Ja\"),\"<--Eingabe?\",$F$6/(Förderrechner!$G$8)),\"\")","v":""},{"$f":"IF(AND(H37<>\"\",Förderrechner!$G$20=\"ja\",B37<>\"\"),IF(Förderrechner!$F$26=\"2024-2028\",20%,IF(Förderrechner!$F$26=\"2029/30\",17%,IF(Förderrechner!$F$26=\"2031/32\",14%,IF(Förderrechner!F$26=\"2033/34\",11%,IF(Förderrechner!F$26=\"2035/36\",8%,0%))))),\"\")","v":""},"",{"$f":"IF(B37<>\"\",0.7-$J$15,IF(A37<=Förderrechner!$G$8,0,\"\"))","v":""},{"$f":"IF(ISNUMBER(E37),MIN(E37,IF(Förderrechner!$G$10=\"Nein\",0,IF($D$21=\"%\",D37/100,IF($D$21=\"10.000stel\",D37/10000,D37/1000))*$J$12)),\"\")","v":""},"","",{"$f":"IFERROR((Förderrechner!$C$7-$J$18)*IF(D37=\"\",\"\",D37)/IF($D$21=\"%\",100,IF($D$21=\"10.000stel\",10000,1000))-K37,\"\")","v":""}]
[16,{"$f":"IF(Förderrechner!$G$9>=A38,\"x\",\"\")","v":""},{"$f":"IF(Förderrechner!$G$23>=A38,\"x\",\"\")","v":""},null,{"$f":"IF(B38<>\"\",IF(AND(D38=0,Förderrechner!$G$10=\"Ja\"),\"<--Eingabe?\",$F$6/(Förderrechner!$G$8)),\"\")","v":""},{"$f":"IF(AND(H38<>\"\",Förderrechner!$G$20=\"ja\",B38<>\"\"),IF(Förderrechner!$F$26=\"2024-2028\",20%,IF(Förderrechner!$F$26=\"2029/30\",17%,IF(Förderrechner!$F$26=\"2031/32\",14%,IF(Förderrechner!F$26=\"2033/34\",11%,IF(Förderrechner!F$26=\"2035/36\",8%,0%))))),\"\")","v":""},"",{"$f":"IF(B38<>\"\",0.7-$J$15,IF(A38<=Förderrechner!$G$8,0,\"\"))","v":""},{"$f":"IF(ISNUMBER(E38),MIN(E38,IF(Förderrechner!$G$10=\"Nein\",0,IF($D$21=\"%\",D38/100,IF($D$21=\"10.000stel\",D38/10000,D38/1000))*$J$12)),\"\")","v":""},"","",{"$f":"IFERROR((Förderrechner!$C$7-$J$18)*IF(D38=\"\",\"\",D38)/IF($D$21=\"%\",100,IF($D$21=\"10.000stel\",10000,1000))-K38,\"\")","v":""}]
[17,{"$f":"IF(Förderrechner!$G$9>=A39,\"x\",\"\")","v":""},{"$f":"IF(Förderrechner!$G$23>=A39,\"x\",\"\")","v":""},null,{"$f":"IF(B39<>\"\",IF(AND(D39=0,Förderrechner!$G$10=\"Ja\"),\"<--Eingabe?\",$F$6/(Förderrechner!$G$8)),\"\")","v":""},{"$f":"IF(AND(H39<>\"\",Förderrechner!$G$20=\"ja\",B39<>\"\"),IF(Förderrechner!$F$26=\"2024-2028\",20%,IF(Förderrechner!$F$26=\"2029/30\",17%,IF(Förderrechner!$F$26=\"2031/32\",14%,IF(Förderrechner!F$26=\"2033/34\",11%,IF(Förderrechner!F$26=\"2035/36\",8%,0%))))),\"\")","v":""},"",{"$f":"IF(B39<>\"\",0.7-$J$15,IF(A39<=Förderrechner!$G$8,0,\"\"))","v":""},{"$f":"IF(ISNUMBER(E39),MIN(E39,IF(Förderrechner!$G$10=\"Nein\",0,IF($D$21=\"%\",D39/100,IF($D$21=\"10.000stel\",D39/10000,D39/1000))*$J$12)),\"\")","v":""},"","",{"$f":"IFERROR((Förderrechner!$C$7-$J$18)*IF(D39=\"\",\"\",D39)/IF($D$21=\"%\",100,IF($D$21=\"10.000stel\",10000,1000))-K39,\"\")","v":""}]
[18,{"$f":"IF(Förderrechner!$G$9>=A40,\"x\",\"\")","v":""},{"$f":"IF(Förderrechner!$G$23>=A40,\"x\",\"\")","v":""},null,{"$f":"IF(B40<>\"\",IF(AND(D40=0,Förderrechner!$G$10=\"Ja\"),\"<--Eingabe?\",$F$6/(Förderrechner!$G$8)),\"\")","v":""},{"$f":"IF(AND(H40<>\"\",Förderrechner!$G$20=\"ja\",B40<>\"\"),IF(Förderrechner!$F$26=\"2024-2028\",20%,IF(Förderrechner!$F$26=\"2029/30\",17%,IF(Förderrechner!$F$26=\"2031/32\",14%,IF(Förderrechner!F$26=\"2033/34\",11%,IF(Förderrechner!F$26=\"2035/36\",8%,0%))))),\"\")","v":""},"",{"$f":"IF(B40<>\"\",0.7-$J$15,IF(A40<=Förderrechner!$G$8,0,\"\"))","v":""},{"$f":"IF(ISNUMBER(E40),MIN(E40,IF(Förderrechner!$G$10=\"Nein\",0,IF($D$21=\"%\",D40/100,IF($D$21=\"10.000stel\",D40/10000,D40/1000))*$J$12)),\"\")","v":""},"","",{"$f":"IFERROR((Förderrechner!$C$7-$J$18)*IF(D40=\"\",\"\",D40)/IF($D$21=\"%\",100,IF($D$21=\"10.000stel\",10000,1000))-K40,\"\")","v":""}]
[19,{"$f":"IF(Förderrechner!$G$9>=A41,\"x\",\"\")","v":""},{"$f":"IF(Förderrechner!$G$23>=A41,\"x\",\"\")","v":""},null,{"$f":"IF(B41<>\"\",IF(AND(D41=0,Förderrechner!$G$10=\"Ja\"),\"<--Eingabe?\",$F$6/(Förderrechner!$G$8)),\"\")","v":""},{"$f":"IF(AND(H41<>\"\",Förderrechner!$G$20=\"ja\",B41<>\"\"),IF(Förderrechner!$F$26=\"2024-2028\",20%,IF(Förderrechner!$F$26=\"2029/30\",17%,IF(Förderrechner!$F$26=\"2031/32\",14%,IF(Förderrechner!F$26=\"2033/34\",11%,IF(Förderrechner!F$26=\"2035/36\",8%,0%))))),\"\")","v":""},"",{"$f":"IF(B41<>\"\",0.7-$J$15,IF(A41<=Förderrechner!$G$8,0,\"\"))","v":""},{"$f":"IF(ISNUMBER(E41),MIN(E41,IF(Förderrechner!$G$10=\"Nein\",0,IF($D$21=\"%\",D41/100,IF($D$21=\"10.000stel\",D41/10000,D41/1000))*$J$12)),\"\")","v":""},"","",{"$f":"IFERROR((Förderrechner!$C$7-$J$18)*IF(D41=\"\",\"\",D41)/IF($D$21=\"%\",100,IF($D$21=\"10.000stel\",10000,1000))-K41,\"\")","v":""}]
[20,{"$f":"IF(Förderrechner!$G$9>=A42,\"x\",\"\")","v":""},{"$f":"IF(Förderrechner!$G$23>=A42,\"x\",\"\")","v":""},null,{"$f":"IF(B42<>\"\",IF(AND(D42=0,Förderrechner!$G$10=\"Ja\"),\"<--Eingabe?\",$F$6/(Förderrechner!$G$8)),\"\")","v":""},{"$f":"IF(AND(H42<>\"\",Förderrechner!$G$20=\"ja\",B42<>\"\"),IF(Förderrechner!$F$26=\"2024-2028\",20%,IF(Förderrechner!$F$26=\"2029/30\",17%,IF(Förderrechner!$F$26=\"2031/32\",14%,IF(Förderrechner!F$26=\"2033/34\",11%,IF(Förderrechner!F$26=\"2035/36\",8%,0%))))),\"\")","v":""},"",{"$f":"IF(B42<>\"\",0.7-$J$15,IF(A42<=Förderrechner!$G$8,0,\"\"))","v":""},{"$f":"IF(ISNUMBER(E42),MIN(E42,IF(Förderrechner!$G$10=\"Nein\",0,IF($D$21=\"%\",D42/100,IF($D$21=\"10.000stel\",D42/10000,D42/1000))*$J$12)),\"\")","v":""},"","",{"$f":"IFERROR((Förderrechner!$C$7-$J$18)*IF(D42=\"\",\"\",D42)/IF($D$21=\"%\",100,IF($D$21=\"10.000stel\",10000,1000))-K42,\"\")","v":""}]
[21,{"$f":"IF(Förderrechner!$G$9>=A43,\"x\",\"\")","v":""},{"$f":"IF(Förderrechner!$G$23>=A43,\"x\",\"\")","v":""},null,{"$f":"IF(B43<>\"\",IF(AND(D43=0,Förderrechner!$G$10=\"Ja\"),\"<--Eingabe?\",$F$6/(Förderrechner!$G$8)),\"\")","v":""},{"$f":"IF(AND(H43<>\"\",Förderrechner!$G$20=\"ja\",B43<>\"\"),IF(Förderrechner!$F$26=\"2024-2028\",20%,IF(Förderrechner!$F$26=\"2029/30\",17%,IF(Förderrechner!$F$26=\"2031/32\",14%,IF(Förderrechner!F$26=\"2033/34\",11%,IF(Förderrechner!F$26=\"2035/36\",8%,0%))))),\"\")","v":""},"",{"$f":"IF(B43<>\"\",0.7-$J$15,IF(A43<=Förderrechner!$G$8,0,\"\"))","v":""},{"$f":"IF(ISNUMBER(E43),MIN(E43,IF(Förderrechner!$G$10=\"Nein\",0,IF($D$21=\"%\",D43/100,IF($D$21=\"10.000stel\",D43/10000,D43/1000))*$J$12)),\"\")","v":""},"","",{"$f":"IFERROR((Förderrechner!$C$7-$J$18)*IF(D43=\"\",\"\",D43)/IF($D$21=\"%\",100,IF($D$21=\"10.000stel\",10000,1000))-K43,\"\")","v":""}]
[22,{"$f":"IF(Förderrechner!$G$9>=A44,\"x\",\"\")","v":""},{"$f":"IF(Förderrechner!$G$23>=A44,\"x\",\"\")","v":""},null,{"$f":"IF(B44<>\"\",IF(AND(D44=0,Förderrechner!$G$10=\"Ja\"),\"<--Eingabe?\",$F$6/(Förderrechner!$G$8)),\"\")","v":""},{"$f":"IF(AND(H44<>\"\",Förderrechner!$G$20=\"ja\",B44<>\"\"),IF(Förderrechner!$F$26=\"2024-2028\",20%,IF(Förderrechner!$F$26=\"2029/30\",17%,IF(Förderrechner!$F$26=\"2031/32\",14%,IF(Förderrechner!F$26=\"2033/34\",11%,IF(Förderrechner!F$26=\"2035/36\",8%,0%))))),\"\")","v":""},"",{"$f":"IF(B44<>\"\",0.7-$J$15,IF(A44<=Förderrechner!$G$8,0,\"\"))","v":""},{"$f":"IF(ISNUMBER(E44),MIN(E44,IF(Förderrechner!$G$10=\"Nein\",0,IF($D$21=\"%\",D44/100,IF($D$21=\"10.000stel\",D44/10000,D44/1000))*$J$12)),\"\")","v":""},"","",{"$f":"IFERROR((Förderrechner!$C$7-$J$18)*IF(D44=\"\",\"\",D44)/IF($D$21=\"%\",100,IF($D$21=\"10.000stel\",10000,1000))-K44,\"\")","v":""}]
[23,{"$f":"IF(Förderrechner!$G$9>=A45,\"x\",\"\")","v":""},{"$f":"IF(Förderrechner!$G$23>=A45,\"x\",\"\")","v":""},null,{"$f":"IF(B45<>\"\",IF(AND(D45=0,Förderrechner!$G$10=\"Ja\"),\"<--Eingabe?\",$F$6/(Förderrechner!$G$8)),\"\")","v":""},{"$f":"IF(AND(H45<>\"\",Förderrechner!$G$20=\"ja\",B45<>\"\"),IF(Förderrechner!$F$26=\"2024-2028\",20%,IF(Förderrechner!$F$26=\"2029/30\",17%,IF(Förderrechner!$F$26=\"2031/32\",14%,IF(Förderrechner!F$26=\"2033/34\",11%,IF(Förderrechner!F$26=\"2035/36\",8%,0%))))),\"\")","v":""},"",{"$f":"IF(B45<>\"\",0.7-$J$15,IF(A45<=Förderrechner!$G$8,0,\"\"))","v":""},{"$f":"IF(ISNUMBER(E45),MIN(E45,IF(Förderrechner!$G$10=\"Nein\",0,IF($D$21=\"%\",D45/100,IF($D$21=\"10.000stel\",D45/10000,D45/1000))*$J$12)),\"\")","v":""},"","",{"$f":"IFERROR((Förderrechner!$C$7-$J$18)*IF(D45=\"\",\"\",D45)/IF($D$21=\"%\",100,IF($D$21=\"10.000stel\",10000,1000))-K45,\"\")","v":""}]
[24,{"$f":"IF(Förderrechner!$G$9>=A46,\"x\",\"\")","v":""},{"$f":"IF(Förderrechner!$G$23>=A46,\"x\",\"\")","v":""},null,{"$f":"IF(B46<>\"\",IF(AND(D46=0,Förderrechner!$G$10=\"Ja\"),\"<--Eingabe?\",$F$6/(Förderrechner!$G$8)),\"\")","v":""},{"$f":"IF(AND(H46<>\"\",Förderrechner!$G$20=\"ja\",B46<>\"\"),IF(Förderrechner!$F$26=\"2024-2028\",20%,IF(Förderrechner!$F$26=\"2029/30\",17%,IF(Förderrechner!$F$26=\"2031/32\",14%,IF(Förderrechner!F$26=\"2033/34\",11%,IF(Förderrechner!F$26=\"2035/36\",8%,0%))))),\"\")","v":""},"",{"$f":"IF(B46<>\"\",0.7-$J$15,IF(A46<=Förderrechner!$G$8,0,\"\"))","v":""},{"$f":"IF(ISNUMBER(E46),MIN(E46,IF(Förderrechner!$G$10=\"Nein\",0,IF($D$21=\"%\",D46/100,IF($D$21=\"10.000stel\",D46/10000,D46/1000))*$J$12)),\"\")","v":""},"","",{"$f":"IFERROR((Förderrechner!$C$7-$J$18)*IF(D46=\"\",\"\",D46)/IF($D$21=\"%\",100,IF($D$21=\"10.000stel\",10000,1000))-K46,\"\")","v":""}]
[25,{"$f":"IF(Förderrechner!$G$9>=A47,\"x\",\"\")","v":""},{"$f":"IF(Förderrechner!$G$23>=A47,\"x\",\"\")","v":""},null,{"$f":"IF(B47<>\"\",IF(AND(D47=0,Förderrechner!$G$10=\"Ja\"),\"<--Eingabe?\",$F$6/(Förderrechner!$G$8)),\"\")","v":""},{"$f":"IF(AND(H47<>\"\",Förderrechner!$G$20=\"ja\",B47<>\"\"),IF(Förderrechner!$F$26=\"2024-2028\",20%,IF(Förderrechner!$F$26=\"2029/30\",17%,IF(Förderrechner!$F$26=\"2031/32\",14%,IF(Förderrechner!F$26=\"2033/34\",11%,IF(Förderrechner!F$26=\"2035/36\",8%,0%))))),\"\")","v":""},"",{"$f":"IF(B47<>\"\",0.7-$J$15,IF(A47<=Förderrechner!$G$8,0,\"\"))","v":""},{"$f":"IF(ISNUMBER(E47),MIN(E47,IF(Förderrechner!$G$10=\"Nein\",0,IF($D$21=\"%\",D47/100,IF($D$21=\"10.000stel\",D47/10000,D47/1000))*$J$12)),\"\")","v":""},"","",{"$f":"IFERROR((Förderrechner!$C$7-$J$18)*IF(D47=\"\",\"\",D47)/IF($D$21=\"%\",100,IF($D$21=\"10.000stel\",10000,1000))-K47,\"\")","v":""}]
[26,{"$f":"IF(Förderrechner!$G$9>=A48,\"x\",\"\")","v":""},{"$f":"IF(Förderrechner!$G$23>=A48,\"x\",\"\")","v":""},null,{"$f":"IF(B48<>\"\",IF(AND(D48=0,Förderrechner!$G$10=\"Ja\"),\"<--Eingabe?\",$F$6/(Förderrechner!$G$8)),\"\")","v":""},{"$f":"IF(AND(H48<>\"\",Förderrechner!$G$20=\"ja\",B48<>\"\"),IF(Förderrechner!$F$26=\"2024-2028\",20%,IF(Förderrechner!$F$26=\"2029/30\",17%,IF(Förderrechner!$F$26=\"2031/32\",14%,IF(Förderrechner!F$26=\"2033/34\",11%,IF(Förderrechner!F$26=\"2035/36\",8%,0%))))),\"\")","v":""},"",{"$f":"IF(B48<>\"\",0.7-$J$15,IF(A48<=Förderrechner!$G$8,0,\"\"))","v":""},{"$f":"IF(ISNUMBER(E48),MIN(E48,IF(Förderrechner!$G$10=\"Nein\",0,IF($D$21=\"%\",D48/100,IF($D$21=\"10.000stel\",D48/10000,D48/1000))*$J$12)),\"\")","v":""},"","",{"$f":"IFERROR((Förderrechner!$C$7-$J$18)*IF(D48=\"\",\"\",D48)/IF($D$21=\"%\",100,IF($D$21=\"10.000stel\",10000,1000))-K48,\"\")","v":""}]
[27,{"$f":"IF(Förderrechner!$G$9>=A49,\"x\",\"\")","v":""},{"$f":"IF(Förderrechner!$G$23>=A49,\"x\",\"\")","v":""},null,{"$f":"IF(B49<>\"\",IF(AND(D49=0,Förderrechner!$G$10=\"Ja\"),\"<--Eingabe?\",$F$6/(Förderrechner!$G$8)),\"\")","v":""},{"$f":"IF(AND(H49<>\"\",Förderrechner!$G$20=\"ja\",B49<>\"\"),IF(Förderrechner!$F$26=\"2024-2028\",20%,IF(Förderrechner!$F$26=\"2029/30\",17%,IF(Förderrechner!$F$26=\"2031/32\",14%,IF(Förderrechner!F$26=\"2033/34\",11%,IF(Förderrechner!F$26=\"2035/36\",8%,0%))))),\"\")","v":""},"",{"$f":"IF(B49<>\"\",0.7-$J$15,IF(A49<=Förderrechner!$G$8,0,\"\"))","v":""},{"$f":"IF(ISNUMBER(E49),MIN(E49,IF(Förderrechner!$G$10=\"Nein\",0,IF($D$21=\"%\",D49/100,IF($D$21=\"10.000stel\",D49/10000,D49/1000))*$J$12)),\"\")","v":""},"","",{"$f":"IFERROR((Förderrechner!$C$7-$J$18)*IF(D49=\"\",\"\",D49)/IF($D$21=\"%\",100,IF($D$21=\"10.000stel\",10000,1000))-K49,\"\")","v":""}]
[28,{"$f":"IF(Förderrechner!$G$9>=A50,\"x\",\"\")","v":""},{"$f":"IF(Förderrechner!$G$23>=A50,\"x\",\"\")","v":""},null,{"$f":"IF(B50<>\"\",IF(AND(D50=0,Förderrechner!$G$10=\"Ja\"),\"<--Eingabe?\",$F$6/(Förderrechner!$G$8)),\"\")","v":""},{"$f":"IF(AND(H50<>\"\",Förderrechner!$G$20=\"ja\",B50<>\"\"),IF(Förderrechner!$F$26=\"2024-2028\",20%,IF(Förderrechner!$F$26=\"2029/30\",17%,IF(Förderrechner!$F$26=\"2031/32\",14%,IF(Förderrechner!F$26=\"2033/34\",11%,IF(Förderrechner!F$26=\"2035/36\",8%,0%))))),\"\")","v":""},"",{"$f":"IF(B50<>\"\",0.7-$J$15,IF(A50<=Förderrechner!$G$8,0,\"\"))","v":""},{"$f":"IF(ISNUMBER(E50),MIN(E50,IF(Förderrechner!$G$10=\"Nein\",0,IF($D$21=\"%\",D50/100,IF($D$21=\"10.000stel\",D50/10000,D50/1000))*$J$12)),\"\")","v":""},"","",{"$f":"IFERROR((Förderrechner!$C$7-$J$18)*IF(D50=\"\",\"\",D50)/IF($D$21=\"%\",100,IF($D$21=\"10.000stel\",10000,1000))-K50,\"\")","v":""}]
[29,{"$f":"IF(Förderrechner!$G$9>=A51,\"x\",\"\")","v":""},{"$f":"IF(Förderrechner!$G$23>=A51,\"x\",\"\")","v":""},null,{"$f":"IF(B51<>\"\",IF(AND(D51=0,Förderrechner!$G$10=\"Ja\"),\"<--Eingabe?\",$F$6/(Förderrechner!$G$8)),\"\")","v":""},{"$f":"IF(AND(H51<>\"\",Förderrechner!$G$20=\"ja\",B51<>\"\"),IF(Förderrechner!$F$26=\"2024-2028\",20%,IF(Förderrechner!$F$26=\"2029/30\",17%,IF(Förderrechner!$F$26=\"2031/32\",14%,IF(Förderrechner!F$26=\"2033/34\",11%,IF(Förderrechner!F$26=\"2035/36\",8%,0%))))),\"\")","v":""},"",{"$f":"IF(B51<>\"\",0.7-$J$15,IF(A51<=Förderrechner!$G$8,0,\"\"))","v":""},{"$f":"IF(ISNUMBER(E51),MIN(E51,IF(Förderrechner!$G$10=\"Nein\",0,IF($D$21=\"%\",D51/100,IF($D$21=\"10.000stel\",D51/10000,D51/1000))*$J$12)),\"\")","v":""},"","",{"$f":"IFERROR((Förderrechner!$C$7-$J$18)*IF(D51=\"\",\"\",D51)/IF($D$21=\"%\",100,IF($D$21=\"10.000stel\",10000,1000))-K51,\"\")","v":""}]
[30,{"$f":"IF(Förderrechner!$G$9>=A52,\"x\",\"\")","v":""},{"$f":"IF(Förderrechner!$G$23>=A52,\"x\",\"\")","v":""},null,{"$f":"IF(B52<>\"\",IF(AND(D52=0,Förderrechner!$G$10=\"Ja\"),\"<--Eingabe?\",$F$6/(Förderrechner!$G$8)),\"\")","v":""},{"$f":"IF(AND(H52<>\"\",Förderrechner!$G$20=\"ja\",B52<>\"\"),IF(Förderrechner!$F$26=\"2024-2028\",20%,IF(Förderrechner!$F$26=\"2029/30\",17%,IF(Förderrechner!$F$26=\"2031/32\",14%,IF(Förderrechner!F$26=\"2033/34\",11%,IF(Förderrechner!F$26=\"2035/36\",8%,0%))))),\"\")","v":""},"",{"$f":"IF(B52<>\"\",0.7-$J$15,IF(A52<=Förderrechner!$G$8,0,\"\"))","v":""},{"$f":"IF(ISNUMBER(E52),MIN(E52,IF(Förderrechner!$G$10=\"Nein\",0,IF($D$21=\"%\",D52/100,IF($D$21=\"10.000stel\",D52/10000,D52/1000))*$J$12)),\"\")","v":""},"","",{"$f":"IFERROR((Förderrechner!$C$7-$J$18)*IF(D52=\"\",\"\",D52)/IF($D$21=\"%\",100,IF($D$21=\"10.000stel\",10000,1000))-K52,\"\")","v":""}]
[31,{"$f":"IF(Förderrechner!$G$9>=A53,\"x\",\"\")","v":""},{"$f":"IF(Förderrechner!$G$23>=A53,\"x\",\"\")","v":""},null,{"$f":"IF(B53<>\"\",IF(AND(D53=0,Förderrechner!$G$10=\"Ja\"),\"<--Eingabe?\",$F$6/(Förderrechner!$G$8)),\"\")","v":""},{"$f":"IF(AND(H53<>\"\",Förderrechner!$G$20=\"ja\",B53<>\"\"),IF(Förderrechner!$F$26=\"2024-2028\",20%,IF(Förderrechner!$F$26=\"2029/30\",17%,IF(Förderrechner!$F$26=\"2031/32\",14%,IF(Förderrechner!F$26=\"2033/34\",11%,IF(Förderrechner!F$26=\"2035/36\",8%,0%))))),\"\")","v":""},"",{"$f":"IF(B53<>\"\",0.7-$J$15,IF(A53<=Förderrechner!$G$8,0,\"\"))","v":""},{"$f":"IF(ISNUMBER(E53),MIN(E53,IF(Förderrechner!$G$10=\"Nein\",0,IF($D$21=\"%\",D53/100,IF($D$21=\"10.000stel\",D53/10000,D53/1000))*$J$12)),\"\")","v":""},"","",{"$f":"IFERROR((Förderrechner!$C$7-$J$18)*IF(D53=\"\",\"\",D53)/IF($D$21=\"%\",100,IF($D$21=\"10.000stel\",10000,1000))-K53,\"\")","v":""}]
[32,{"$f":"IF(Förderrechner!$G$9>=A54,\"x\",\"\")","v":""},{"$f":"IF(Förderrechner!$G$23>=A54,\"x\",\"\")","v":""},null,{"$f":"IF(B54<>\"\",IF(AND(D54=0,Förderrechner!$G$10=\"Ja\"),\"<--Eingabe?\",$F$6/(Förderrechner!$G$8)),\"\")","v":""},{"$f":"IF(AND(H54<>\"\",Förderrechner!$G$20=\"ja\",B54<>\"\"),IF(Förderrechner!$F$26=\"2024-2028\",20%,IF(Förderrechner!$F$26=\"2029/30\",17%,IF(Förderrechner!$F$26=\"2031/32\",14%,IF(Förderrechner!F$26=\"2033/34\",11%,IF(Förderrechner!F$26=\"2035/36\",8%,0%))))),\"\")","v":""},"",{"$f":"IF(B54<>\"\",0.7-$J$15,IF(A54<=Förderrechner!$G$8,0,\"\"))","v":""},{"$f":"IF(ISNUMBER(E54),MIN(E54,IF(Förderrechner!$G$10=\"Nein\",0,IF($D$21=\"%\",D54/100,IF($D$21=\"10.000stel\",D54/10000,D54/1000))*$J$12)),\"\")","v":""},"","",{"$f":"IFERROR((Förderrechner!$C$7-$J$18)*IF(D54=\"\",\"\",D54)/IF($D$21=\"%\",100,IF($D$21=\"10.000stel\",10000,1000))-K54,\"\")","v":""}]
[33,{"$f":"IF(Förderrechner!$G$9>=A55,\"x\",\"\")","v":""},{"$f":"IF(Förderrechner!$G$23>=A55,\"x\",\"\")","v":""},null,{"$f":"IF(B55<>\"\",IF(AND(D55=0,Förderrechner!$G$10=\"Ja\"),\"<--Eingabe?\",$F$6/(Förderrechner!$G$8)),\"\")","v":""},{"$f":"IF(AND(H55<>\"\",Förderrechner!$G$20=\"ja\",B55<>\"\"),IF(Förderrechner!$F$26=\"2024-2028\",20%,IF(Förderrechner!$F$26=\"2029/30\",17%,IF(Förderrechner!$F$26=\"2031/32\",14%,IF(Förderrechner!F$26=\"2033/34\",11%,IF(Förderrechner!F$26=\"2035/36\",8%,0%))))),\"\")","v":""},"",{"$f":"IF(B55<>\"\",0.7-$J$15,IF(A55<=Förderrechner!$G$8,0,\"\"))","v":""},{"$f":"IF(ISNUMBER(E55),MIN(E55,IF(Förderrechner!$G$10=\"Nein\",0,IF($D$21=\"%\",D55/100,IF($D$21=\"10.000stel\",D55/10000,D55/1000))*$J$12)),\"\")","v":""},"","",{"$f":"IFERROR((Förderrechner!$C$7-$J$18)*IF(D55=\"\",\"\",D55)/IF($D$21=\"%\",100,IF($D$21=\"10.000stel\",10000,1000))-K55,\"\")","v":""}]
[34,{"$f":"IF(Förderrechner!$G$9>=A56,\"x\",\"\")","v":""},{"$f":"IF(Förderrechner!$G$23>=A56,\"x\",\"\")","v":""},null,{"$f":"IF(B56<>\"\",IF(AND(D56=0,Förderrechner!$G$10=\"Ja\"),\"<--Eingabe?\",$F$6/(Förderrechner!$G$8)),\"\")","v":""},{"$f":"IF(AND(H56<>\"\",Förderrechner!$G$20=\"ja\",B56<>\"\"),IF(Förderrechner!$F$26=\"2024-2028\",20%,IF(Förderrechner!$F$26=\"2029/30\",17%,IF(Förderrechner!$F$26=\"2031/32\",14%,IF(Förderrechner!F$26=\"2033/34\",11%,IF(Förderrechner!F$26=\"2035/36\",8%,0%))))),\"\")","v":""},"",{"$f":"IF(B56<>\"\",0.7-$J$15,IF(A56<=Förderrechner!$G$8,0,\"\"))","v":""},{"$f":"IF(ISNUMBER(E56),MIN(E56,IF(Förderrechner!$G$10=\"Nein\",0,IF($D$21=\"%\",D56/100,IF($D$21=\"10.000stel\",D56/10000,D56/1000))*$J$12)),\"\")","v":""},"","",{"$f":"IFERROR((Förderrechner!$C$7-$J$18)*IF(D56=\"\",\"\",D56)/IF($D$21=\"%\",100,IF($D$21=\"10.000stel\",10000,1000))-K56,\"\")","v":""}]
[35,{"$f":"IF(Förderrechner!$G$9>=A57,\"x\",\"\")","v":""},{"$f":"IF(Förderrechner!$G$23>=A57,\"x\",\"\")","v":""},null,{"$f":"IF(B57<>\"\",IF(AND(D57=0,Förderrechner!$G$10=\"Ja\"),\"<--Eingabe?\",$F$6/(Förderrechner!$G$8)),\"\")","v":""},{"$f":"IF(AND(H57<>\"\",Förderrechner!$G$20=\"ja\",B57<>\"\"),IF(Förderrechner!$F$26=\"2024-2028\",20%,IF(Förderrechner!$F$26=\"2029/30\",17%,IF(Förderrechner!$F$26=\"2031/32\",14%,IF(Förderrechner!F$26=\"2033/34\",11%,IF(Förderrechner!F$26=\"2035/36\",8%,0%))))),\"\")","v":""},"",{"$f":"IF(B57<>\"\",0.7-$J$15,IF(A57<=Förderrechner!$G$8,0,\"\"))","v":""},{"$f":"IF(ISNUMBER(E57),MIN(E57,IF(Förderrechner!$G$10=\"Nein\",0,IF($D$21=\"%\",D57/100,IF($D$21=\"10.000stel\",D57/10000,D57/1000))*$J$12)),\"\")","v":""},"","",{"$f":"IFERROR((Förderrechner!$C$7-$J$18)*IF(D57=\"\",\"\",D57)/IF($D$21=\"%\",100,IF($D$21=\"10.000stel\",10000,1000))-K57,\"\")","v":""}]
[36,{"$f":"IF(Förderrechner!$G$9>=A58,\"x\",\"\")","v":""},{"$f":"IF(Förderrechner!$G$23>=A58,\"x\",\"\")","v":""},null,{"$f":"IF(B58<>\"\",IF(AND(D58=0,Förderrechner!$G$10=\"Ja\"),\"<--Eingabe?\",$F$6/(Förderrechner!$G$8)),\"\")","v":""},{"$f":"IF(AND(H58<>\"\",Förderrechner!$G$20=\"ja\",B58<>\"\"),IF(Förderrechner!$F$26=\"2024-2028\",20%,IF(Förderrechner!$F$26=\"2029/30\",17%,IF(Förderrechner!$F$26=\"2031/32\",14%,IF(Förderrechner!F$26=\"2033/34\",11%,IF(Förderrechner!F$26=\"2035/36\",8%,0%))))),\"\")","v":""},"",{"$f":"IF(B58<>\"\",0.7-$J$15,IF(A58<=Förderrechner!$G$8,0,\"\"))","v":""},{"$f":"IF(ISNUMBER(E58),MIN(E58,IF(Förderrechner!$G$10=\"Nein\",0,IF($D$21=\"%\",D58/100,IF($D$21=\"10.000stel\",D58/10000,D58/1000))*$J$12)),\"\")","v":""},"","",{"$f":"IFERROR((Förderrechner!$C$7-$J$18)*IF(D58=\"\",\"\",D58)/IF($D$21=\"%\",100,IF($D$21=\"10.000stel\",10000,1000))-K58,\"\")","v":""}]
[37,{"$f":"IF(Förderrechner!$G$9>=A59,\"x\",\"\")","v":""},{"$f":"IF(Förderrechner!$G$23>=A59,\"x\",\"\")","v":""},null,{"$f":"IF(B59<>\"\",IF(AND(D59=0,Förderrechner!$G$10=\"Ja\"),\"<--Eingabe?\",$F$6/(Förderrechner!$G$8)),\"\")","v":""},{"$f":"IF(AND(H59<>\"\",Förderrechner!$G$20=\"ja\",B59<>\"\"),IF(Förderrechner!$F$26=\"2024-2028\",20%,IF(Förderrechner!$F$26=\"2029/30\",17%,IF(Förderrechner!$F$26=\"2031/32\",14%,IF(Förderrechner!F$26=\"2033/34\",11%,IF(Förderrechner!F$26=\"2035/36\",8%,0%))))),\"\")","v":""},"",{"$f":"IF(B59<>\"\",0.7-$J$15,IF(A59<=Förderrechner!$G$8,0,\"\"))","v":""},{"$f":"IF(ISNUMBER(E59),MIN(E59,IF(Förderrechner!$G$10=\"Nein\",0,IF($D$21=\"%\",D59/100,IF($D$21=\"10.000stel\",D59/10000,D59/1000))*$J$12)),\"\")","v":""},"","",{"$f":"IFERROR((Förderrechner!$C$7-$J$18)*IF(D59=\"\",\"\",D59)/IF($D$21=\"%\",100,IF($D$21=\"10.000stel\",10000,1000))-K59,\"\")","v":""}]
[38,{"$f":"IF(Förderrechner!$G$9>=A60,\"x\",\"\")","v":""},{"$f":"IF(Förderrechner!$G$23>=A60,\"x\",\"\")","v":""},null,{"$f":"IF(B60<>\"\",IF(AND(D60=0,Förderrechner!$G$10=\"Ja\"),\"<--Eingabe?\",$F$6/(Förderrechner!$G$8)),\"\")","v":""},{"$f":"IF(AND(H60<>\"\",Förderrechner!$G$20=\"ja\",B60<>\"\"),IF(Förderrechner!$F$26=\"2024-2028\",20%,IF(Förderrechner!$F$26=\"2029/30\",17%,IF(Förderrechner!$F$26=\"2031/32\",14%,IF(Förderrechner!F$26=\"2033/34\",11%,IF(Förderrechner!F$26=\"2035/36\",8%,0%))))),\"\")","v":""},"",{"$f":"IF(B60<>\"\",0.7-$J$15,IF(A60<=Förderrechner!$G$8,0,\"\"))","v":""},{"$f":"IF(ISNUMBER(E60),MIN(E60,IF(Förderrechner!$G$10=\"Nein\",0,IF($D$21=\"%\",D60/100,IF($D$21=\"10.000stel\",D60/10000,D60/1000))*$J$12)),\"\")","v":""},"","",{"$f":"IFERROR((Förderrechner!$C$7-$J$18)*IF(D60=\"\",\"\",D60)/IF($D$21=\"%\",100,IF($D$21=\"10.000stel\",10000,1000))-K60,\"\")","v":""}]
[39,{"$f":"IF(Förderrechner!$G$9>=A61,\"x\",\"\")","v":""},{"$f":"IF(Förderrechner!$G$23>=A61,\"x\",\"\")","v":""},null,{"$f":"IF(B61<>\"\",IF(AND(D61=0,Förderrechner!$G$10=\"Ja\"),\"<--Eingabe?\",$F$6/(Förderrechner!$G$8)),\"\")","v":""},{"$f":"IF(AND(H61<>\"\",Förderrechner!$G$20=\"ja\",B61<>\"\"),IF(Förderrechner!$F$26=\"2024-2028\",20%,IF(Förderrechner!$F$26=\"2029/30\",17%,IF(Förderrechner!$F$26=\"2031/32\",14%,IF(Förderrechner!F$26=\"2033/34\",11%,IF(Förderrechner!F$26=\"2035/36\",8%,0%))))),\"\")","v":""},"",{"$f":"IF(B61<>\"\",0.7-$J$15,IF(A61<=Förderrechner!$G$8,0,\"\"))","v":""},{"$f":"IF(ISNUMBER(E61),MIN(E61,IF(Förderrechner!$G$10=\"Nein\",0,IF($D$21=\"%\",D61/100,IF($D$21=\"10.000stel\",D61/10000,D61/1000))*$J$12)),\"\")","v":""},"","",{"$f":"IFERROR((Förderrechner!$C$7-$J$18)*IF(D61=\"\",\"\",D61)/IF($D$21=\"%\",100,IF($D$21=\"10.000stel\",10000,1000))-K61,\"\")","v":""}]
[40,{"$f":"IF(Förderrechner!$G$9>=A62,\"x\",\"\")","v":""},{"$f":"IF(Förderrechner!$G$23>=A62,\"x\",\"\")","v":""},null,{"$f":"IF(B62<>\"\",IF(AND(D62=0,Förderrechner!$G$10=\"Ja\"),\"<--Eingabe?\",$F$6/(Förderrechner!$G$8)),\"\")","v":""},{"$f":"IF(AND(H62<>\"\",Förderrechner!$G$20=\"ja\",B62<>\"\"),IF(Förderrechner!$F$26=\"2024-2028\",20%,IF(Förderrechner!$F$26=\"2029/30\",17%,IF(Förderrechner!$F$26=\"2031/32\",14%,IF(Förderrechner!F$26=\"2033/34\",11%,IF(Förderrechner!F$26=\"2035/36\",8%,0%))))),\"\")","v":""},"",{"$f":"IF(B62<>\"\",0.7-$J$15,IF(A62<=Förderrechner!$G$8,0,\"\"))","v":""},{"$f":"IF(ISNUMBER(E62),MIN(E62,IF(Förderrechner!$G$10=\"Nein\",0,IF($D$21=\"%\",D62/100,IF($D$21=\"10.000stel\",D62/10000,D62/1000))*$J$12)),\"\")","v":""},"","",{"$f":"IFERROR((Förderrechner!$C$7-$J$18)*IF(D62=\"\",\"\",D62)/IF($D$21=\"%\",100,IF($D$21=\"10.000stel\",10000,1000))-K62,\"\")","v":""}]
[41,{"$f":"IF(Förderrechner!$G$9>=A63,\"x\",\"\")","v":""},{"$f":"IF(Förderrechner!$G$23>=A63,\"x\",\"\")","v":""},null,{"$f":"IF(B63<>\"\",IF(AND(D63=0,Förderrechner!$G$10=\"Ja\"),\"<--Eingabe?\",$F$6/(Förderrechner!$G$8)),\"\")","v":""},{"$f":"IF(AND(H63<>\"\",Förderrechner!$G$20=\"ja\",B63<>\"\"),IF(Förderrechner!$F$26=\"2024-2028\",20%,IF(Förderrechner!$F$26=\"2029/30\",17%,IF(Förderrechner!$F$26=\"2031/32\",14%,IF(Förderrechner!F$26=\"2033/34\",11%,IF(Förderrechner!F$26=\"2035/36\",8%,0%))))),\"\")","v":""},"",{"$f":"IF(B63<>\"\",0.7-$J$15,IF(A63<=Förderrechner!$G$8,0,\"\"))","v":""},{"$f":"IF(ISNUMBER(E63),MIN(E63,IF(Förderrechner!$G$10=\"Nein\",0,IF($D$21=\"%\",D63/100,IF($D$21=\"10.000stel\",D63/10000,D63/1000))*$J$12)),\"\")","v":""},"","",{"$f":"IFERROR((Förderrechner!$C$7-$J$18)*IF(D63=\"\",\"\",D63)/IF($D$21=\"%\",100,IF($D$21=\"10.000stel\",10000,1000))-K63,\"\")","v":""}]
[42,{"$f":"IF(Förderrechner!$G$9>=A64,\"x\",\"\")","v":""},{"$f":"IF(Förderrechner!$G$23>=A64,\"x\",\"\")","v":""},null,{"$f":"IF(B64<>\"\",IF(AND(D64=0,Förderrechner!$G$10=\"Ja\"),\"<--Eingabe?\",$F$6/(Förderrechner!$G$8)),\"\")","v":""},{"$f":"IF(AND(H64<>\"\",Förderrechner!$G$20=\"ja\",B64<>\"\"),IF(Förderrechner!$F$26=\"2024-2028\",20%,IF(Förderrechner!$F$26=\"2029/30\",17%,IF(Förderrechner!$F$26=\"2031/32\",14%,IF(Förderrechner!F$26=\"2033/34\",11%,IF(Förderrechner!F$26=\"2035/36\",8%,0%))))),\"\")","v":""},"",{"$f":"IF(B64<>\"\",0.7-$J$15,IF(A64<=Förderrechner!$G$8,0,\"\"))","v":""},{"$f":"IF(ISNUMBER(E64),MIN(E64,IF(Förderrechner!$G$10=\"Nein\",0,IF($D$21=\"%\",D64/100,IF($D$21=\"10.000stel\",D64/10000,D64/1000))*$J$12)),\"\")","v":""},"","",{"$f":"IFERROR((Förderrechner!$C$7-$J$18)*IF(D64=\"\",\"\",D64)/IF($D$21=\"%\",100,IF($D$21=\"10.000stel\",10000,1000))-K64,\"\")","v":""}]
[43,{"$f":"IF(Förderrechner!$G$9>=A65,\"x\",\"\")","v":""},{"$f":"IF(Förderrechner!$G$23>=A65,\"x\",\"\")","v":""},null,{"$f":"IF(B65<>\"\",IF(AND(D65=0,Förderrechner!$G$10=\"Ja\"),\"<--Eingabe?\",$F$6/(Förderrechner!$G$8)),\"\")","v":""},{"$f":"IF(AND(H65<>\"\",Förderrechner!$G$20=\"ja\",B65<>\"\"),IF(Förderrechner!$F$26=\"2024-2028\",20%,IF(Förderrechner!$F$26=\"2029/30\",17%,IF(Förderrechner!$F$26=\"2031/32\",14%,IF(Förderrechner!F$26=\"2033/34\",11%,IF(Förderrechner!F$26=\"2035/36\",8%,0%))))),\"\")","v":""},"",{"$f":"IF(B65<>\"\",0.7-$J$15,IF(A65<=Förderrechner!$G$8,0,\"\"))","v":""},{"$f":"IF(ISNUMBER(E65),MIN(E65,IF(Förderrechner!$G$10=\"Nein\",0,IF($D$21=\"%\",D65/100,IF($D$21=\"10.000stel\",D65/10000,D65/1000))*$J$12)),\"\")","v":""},"","",{"$f":"IFERROR((Förderrechner!$C$7-$J$18)*IF(D65=\"\",\"\",D65)/IF($D$21=\"%\",100,IF($D$21=\"10.000stel\",10000,1000))-K65,\"\")","v":""}]
[44,{"$f":"IF(Förderrechner!$G$9>=A66,\"x\",\"\")","v":""},{"$f":"IF(Förderrechner!$G$23>=A66,\"x\",\"\")","v":""},null,{"$f":"IF(B66<>\"\",IF(AND(D66=0,Förderrechner!$G$10=\"Ja\"),\"<--Eingabe?\",$F$6/(Förderrechner!$G$8)),\"\")","v":""},{"$f":"IF(AND(H66<>\"\",Förderrechner!$G$20=\"ja\",B66<>\"\"),IF(Förderrechner!$F$26=\"2024-2028\",20%,IF(Förderrechner!$F$26=\"2029/30\",17%,IF(Förderrechner!$F$26=\"2031/32\",14%,IF(Förderrechner!F$26=\"2033/34\",11%,IF(Förderrechner!F$26=\"2035/36\",8%,0%))))),\"\")","v":""},"",{"$f":"IF(B66<>\"\",0.7-$J$15,IF(A66<=Förderrechner!$G$8,0,\"\"))","v":""},{"$f":"IF(ISNUMBER(E66),MIN(E66,IF(Förderrechner!$G$10=\"Nein\",0,IF($D$21=\"%\",D66/100,IF($D$21=\"10.000stel\",D66/10000,D66/1000))*$J$12)),\"\")","v":""},"","",{"$f":"IFERROR((Förderrechner!$C$7-$J$18)*IF(D66=\"\",\"\",D66)/IF($D$21=\"%\",100,IF($D$21=\"10.000stel\",10000,1000))-K66,\"\")","v":""}]
[45,{"$f":"IF(Förderrechner!$G$9>=A67,\"x\",\"\")","v":""},{"$f":"IF(Förderrechner!$G$23>=A67,\"x\",\"\")","v":""},null,{"$f":"IF(B67<>\"\",IF(AND(D67=0,Förderrechner!$G$10=\"Ja\"),\"<--Eingabe?\",$F$6/(Förderrechner!$G$8)),\"\")","v":""},{"$f":"IF(AND(H67<>\"\",Förderrechner!$G$20=\"ja\",B67<>\"\"),IF(Förderrechner!$F$26=\"2024-2028\",20%,IF(Förderrechner!$F$26=\"2029/30\",17%,IF(Förderrechner!$F$26=\"2031/32\",14%,IF(Förderrechner!F$26=\"2033/34\",11%,IF(Förderrechner!F$26=\"2035/36\",8%,0%))))),\"\")","v":""},"",{"$f":"IF(B67<>\"\",0.7-$J$15,IF(A67<=Förderrechner!$G$8,0,\"\"))","v":""},{"$f":"IF(ISNUMBER(E67),MIN(E67,IF(Förderrechner!$G$10=\"Nein\",0,IF($D$21=\"%\",D67/100,IF($D$21=\"10.000stel\",D67/10000,D67/1000))*$J$12)),\"\")","v":""},"","",{"$f":"IFERROR((Förderrechner!$C$7-$J$18)*IF(D67=\"\",\"\",D67)/IF($D$21=\"%\",100,IF($D$21=\"10.000stel\",10000,1000))-K67,\"\")","v":""}]
[46,{"$f":"IF(Förderrechner!$G$9>=A68,\"x\",\"\")","v":""},{"$f":"IF(Förderrechner!$G$23>=A68,\"x\",\"\")","v":""},null,{"$f":"IF(B68<>\"\",IF(AND(D68=0,Förderrechner!$G$10=\"Ja\"),\"<--Eingabe?\",$F$6/(Förderrechner!$G$8)),\"\")","v":""},{"$f":"IF(AND(H68<>\"\",Förderrechner!$G$20=\"ja\",B68<>\"\"),IF(Förderrechner!$F$26=\"2024-2028\",20%,IF(Förderrechner!$F$26=\"2029/30\",17%,IF(Förderrechner!$F$26=\"2031/32\",14%,IF(Förderrechner!F$26=\"2033/34\",11%,IF(Förderrechner!F$26=\"2035/36\",8%,0%))))),\"\")","v":""},"",{"$f":"IF(B68<>\"\",0.7-$J$15,IF(A68<=Förderrechner!$G$8,0,\"\"))","v":""},{"$f":"IF(ISNUMBER(E68),MIN(E68,IF(Förderrechner!$G$10=\"Nein\",0,IF($D$21=\"%\",D68/100,IF($D$21=\"10.000stel\",D68/10000,D68/1000))*$J$12)),\"\")","v":""},"","",{"$f":"IFERROR((Förderrechner!$C$7-$J$18)*IF(D68=\"\",\"\",D68)/IF($D$21=\"%\",100,IF($D$21=\"10.000stel\",10000,1000))-K68,\"\")","v":""}]
[47,{"$f":"IF(Förderrechner!$G$9>=A69,\"x\",\"\")","v":""},{"$f":"IF(Förderrechner!$G$23>=A69,\"x\",\"\")","v":""},null,{"$f":"IF(B69<>\"\",IF(AND(D69=0,Förderrechner!$G$10=\"Ja\"),\"<--Eingabe?\",$F$6/(Förderrechner!$G$8)),\"\")","v":""},{"$f":"IF(AND(H69<>\"\",Förderrechner!$G$20=\"ja\",B69<>\"\"),IF(Förderrechner!$F$26=\"2024-2028\",20%,IF(Förderrechner!$F$26=\"2029/30\",17%,IF(Förderrechner!$F$26=\"2031/32\",14%,IF(Förderrechner!F$26=\"2033/34\",11%,IF(Förderrechner!F$26=\"2035/36\",8%,0%))))),\"\")","v":""},"",{"$f":"IF(B69<>\"\",0.7-$J$15,IF(A69<=Förderrechner!$G$8,0,\"\"))","v":""},{"$f":"IF(ISNUMBER(E69),MIN(E69,IF(Förderrechner!$G$10=\"Nein\",0,IF($D$21=\"%\",D69/100,IF($D$21=\"10.000stel\",D69/10000,D69/1000))*$J$12)),\"\")","v":""},"","",{"$f":"IFERROR((Förderrechner!$C$7-$J$18)*IF(D69=\"\",\"\",D69)/IF($D$21=\"%\",100,IF($D$21=\"10.000stel\",10000,1000))-K69,\"\")","v":""}]
[48,{"$f":"IF(Förderrechner!$G$9>=A70,\"x\",\"\")","v":""},{"$f":"IF(Förderrechner!$G$23>=A70,\"x\",\"\")","v":""},null,{"$f":"IF(B70<>\"\",IF(AND(D70=0,Förderrechner!$G$10=\"Ja\"),\"<--Eingabe?\",$F$6/(Förderrechner!$G$8)),\"\")","v":""},{"$f":"IF(AND(H70<>\"\",Förderrechner!$G$20=\"ja\",B70<>\"\"),IF(Förderrechner!$F$26=\"2024-2028\",20%,IF(Förderrechner!$F$26=\"2029/30\",17%,IF(Förderrechner!$F$26=\"2031/32\",14%,IF(Förderrechner!F$26=\"2033/34\",11%,IF(Förderrechner!F$26=\"2035/36\",8%,0%))))),\"\")","v":""},"",{"$f":"IF(B70<>\"\",0.7-$J$15,IF(A70<=Förderrechner!$G$8,0,\"\"))","v":""},{"$f":"IF(ISNUMBER(E70),MIN(E70,IF(Förderrechner!$G$10=\"Nein\",0,IF($D$21=\"%\",D70/100,IF($D$21=\"10.000stel\",D70/10000,D70/1000))*$J$12)),\"\")","v":""},"","",{"$f":"IFERROR((Förderrechner!$C$7-$J$18)*IF(D70=\"\",\"\",D70)/IF($D$21=\"%\",100,IF($D$21=\"10.000stel\",10000,1000))-K70,\"\")","v":""}]
[49,{"$f":"IF(Förderrechner!$G$9>=A71,\"x\",\"\")","v":""},{"$f":"IF(Förderrechner!$G$23>=A71,\"x\",\"\")","v":""},null,{"$f":"IF(B71<>\"\",IF(AND(D71=0,Förderrechner!$G$10=\"Ja\"),\"<--Eingabe?\",$F$6/(Förderrechner!$G$8)),\"\")","v":""},{"$f":"IF(AND(H71<>\"\",Förderrechner!$G$20=\"ja\",B71<>\"\"),IF(Förderrechner!$F$26=\"2024-2028\",20%,IF(Förderrechner!$F$26=\"2029/30\",17%,IF(Förderrechner!$F$26=\"2031/32\",14%,IF(Förderrechner!F$26=\"2033/34\",11%,IF(Förderrechner!F$26=\"2035/36\",8%,0%))))),\"\")","v":""},"",{"$f":"IF(B71<>\"\",0.7-$J$15,IF(A71<=Förderrechner!$G$8,0,\"\"))","v":""},{"$f":"IF(ISNUMBER(E71),MIN(E71,IF(Förderrechner!$G$10=\"Nein\",0,IF($D$21=\"%\",D71/100,IF($D$21=\"10.000stel\",D71/10000,D71/1000))*$J$12)),\"\")","v":""},"","",{"$f":"IFERROR((Förderrechner!$C$7-$J$18)*IF(D71=\"\",\"\",D71)/IF($D$21=\"%\",100,IF($D$21=\"10.000stel\",10000,1000))-K71,\"\")","v":""}]
[50,{"$f":"IF(Förderrechner!$G$9>=A72,\"x\",\"\")","v":""},{"$f":"IF(Förderrechner!$G$23>=A72,\"x\",\"\")","v":""},null,{"$f":"IF(B72<>\"\",IF(AND(D72=0,Förderrechner!$G$10=\"Ja\"),\"<--Eingabe?\",$F$6/(Förderrechner!$G$8)),\"\")","v":""},{"$f":"IF(AND(H72<>\"\",Förderrechner!$G$20=\"ja\",B72<>\"\"),IF(Förderrechner!$F$26=\"2024-2028\",20%,IF(Förderrechner!$F$26=\"2029/30\",17%,IF(Förderrechner!$F$26=\"2031/32\",14%,IF(Förderrechner!F$26=\"2033/34\",11%,IF(Förderrechner!F$26=\"2035/36\",8%,0%))))),\"\")","v":""},"",{"$f":"IF(B72<>\"\",0.7-$J$15,IF(A72<=Förderrechner!$G$8,0,\"\"))","v":""},{"$f":"IF(ISNUMBER(E72),MIN(E72,IF(Förderrechner!$G$10=\"Nein\",0,IF($D$21=\"%\",D72/100,IF($D$21=\"10.000stel\",D72/10000,D72/1000))*$J$12)),\"\")","v":""},"","",{"$f":"IFERROR((Förderrechner!$C$7-$J$18)*IF(D72=\"\",\"\",D72)/IF($D$21=\"%\",100,IF($D$21=\"10.000stel\",10000,1000))-K72,\"\")","v":""}]
[51,{"$f":"IF(Förderrechner!$G$9>=A73,\"x\",\"\")","v":""},{"$f":"IF(Förderrechner!$G$23>=A73,\"x\",\"\")","v":""},null,{"$f":"IF(B73<>\"\",IF(AND(D73=0,Förderrechner!$G$10=\"Ja\"),\"<--Eingabe?\",$F$6/(Förderrechner!$G$8)),\"\")","v":""},{"$f":"IF(AND(H73<>\"\",Förderrechner!$G$20=\"ja\",B73<>\"\"),IF(Förderrechner!$F$26=\"2024-2028\",20%,IF(Förderrechner!$F$26=\"2029/30\",17%,IF(Förderrechner!$F$26=\"2031/32\",14%,IF(Förderrechner!F$26=\"2033/34\",11%,IF(Förderrechner!F$26=\"2035/36\",8%,0%))))),\"\")","v":""},"",{"$f":"IF(B73<>\"\",0.7-$J$15,IF(A73<=Förderrechner!$G$8,0,\"\"))","v":""},{"$f":"IF(ISNUMBER(E73),MIN(E73,IF(Förderrechner!$G$10=\"Nein\",0,IF($D$21=\"%\",D73/100,IF($D$21=\"10.000stel\",D73/10000,D73/1000))*$J$12)),\"\")","v":""},"","",{"$f":"IFERROR((Förderrechner!$C$7-$J$18)*IF(D73=\"\",\"\",D73)/IF($D$21=\"%\",100,IF($D$21=\"10.000stel\",10000,1000))-K73,\"\")","v":""}]
[52,{"$f":"IF(Förderrechner!$G$9>=A74,\"x\",\"\")","v":""},{"$f":"IF(Förderrechner!$G$23>=A74,\"x\",\"\")","v":""},null,{"$f":"IF(B74<>\"\",IF(AND(D74=0,Förderrechner!$G$10=\"Ja\"),\"<--Eingabe?\",$F$6/(Förderrechner!$G$8)),\"\")","v":""},{"$f":"IF(AND(H74<>\"\",Förderrechner!$G$20=\"ja\",B74<>\"\"),IF(Förderrechner!$F$26=\"2024-2028\",20%,IF(Förderrechner!$F$26=\"2029/30\",17%,IF(Förderrechner!$F$26=\"2031/32\",14%,IF(Förderrechner!F$26=\"2033/34\",11%,IF(Förderrechner!F$26=\"2035/36\",8%,0%))))),\"\")","v":""},"",{"$f":"IF(B74<>\"\",0.7-$J$15,IF(A74<=Förderrechner!$G$8,0,\"\"))","v":""},{"$f":"IF(ISNUMBER(E74),MIN(E74,IF(Förderrechner!$G$10=\"Nein\",0,IF($D$21=\"%\",D74/100,IF($D$21=\"10.000stel\",D74/10000,D74/1000))*$J$12)),\"\")","v":""},"","",{"$f":"IFERROR((Förderrechner!$C$7-$J$18)*IF(D74=\"\",\"\",D74)/IF($D$21=\"%\",100,IF($D$21=\"10.000stel\",10000,1000))-K74,\"\")","v":""}]
[53,{"$f":"IF(Förderrechner!$G$9>=A75,\"x\",\"\")","v":""},{"$f":"IF(Förderrechner!$G$23>=A75,\"x\",\"\")","v":""},null,{"$f":"IF(B75<>\"\",IF(AND(D75=0,Förderrechner!$G$10=\"Ja\"),\"<--Eingabe?\",$F$6/(Förderrechner!$G$8)),\"\")","v":""},{"$f":"IF(AND(H75<>\"\",Förderrechner!$G$20=\"ja\",B75<>\"\"),IF(Förderrechner!$F$26=\"2024-2028\",20%,IF(Förderrechner!$F$26=\"2029/30\",17%,IF(Förderrechner!$F$26=\"2031/32\",14%,IF(Förderrechner!F$26=\"2033/34\",11%,IF(Förderrechner!F$26=\"2035/36\",8%,0%))))),\"\")","v":""},"",{"$f":"IF(B75<>\"\",0.7-$J$15,IF(A75<=Förderrechner!$G$8,0,\"\"))","v":""},{"$f":"IF(ISNUMBER(E75),MIN(E75,IF(Förderrechner!$G$10=\"Nein\",0,IF($D$21=\"%\",D75/100,IF($D$21=\"10.000stel\",D75/10000,D75/1000))*$J$12)),\"\")","v":""},"","",{"$f":"IFERROR((Förderrechner!$C$7-$J$18)*IF(D75=\"\",\"\",D75)/IF($D$21=\"%\",100,IF($D$21=\"10.000stel\",10000,1000))-K75,\"\")","v":""}]
[54,{"$f":"IF(Förderrechner!$G$9>=A76,\"x\",\"\")","v":""},{"$f":"IF(Förderrechner!$G$23>=A76,\"x\",\"\")","v":""},null,{"$f":"IF(B76<>\"\",IF(AND(D76=0,Förderrechner!$G$10=\"Ja\"),\"<--Eingabe?\",$F$6/(Förderrechner!$G$8)),\"\")","v":""},{"$f":"IF(AND(H76<>\"\",Förderrechner!$G$20=\"ja\",B76<>\"\"),IF(Förderrechner!$F$26=\"2024-2028\",20%,IF(Förderrechner!$F$26=\"2029/30\",17%,IF(Förderrechner!$F$26=\"2031/32\",14%,IF(Förderrechner!F$26=\"2033/34\",11%,IF(Förderrechner!F$26=\"2035/36\",8%,0%))))),\"\")","v":""},"",{"$f":"IF(B76<>\"\",0.7-$J$15,IF(A76<=Förderrechner!$G$8,0,\"\"))","v":""},{"$f":"IF(ISNUMBER(E76),MIN(E76,IF(Förderrechner!$G$10=\"Nein\",0,IF($D$21=\"%\",D76/100,IF($D$21=\"10.000stel\",D76/10000,D76/1000))*$J$12)),\"\")","v":""},"","",{"$f":"IFERROR((Förderrechner!$C$7-$J$18)*IF(D76=\"\",\"\",D76)/IF($D$21=\"%\",100,IF($D$21=\"10.000stel\",10000,1000))-K76,\"\")","v":""}]
[55,{"$f":"IF(Förderrechner!$G$9>=A77,\"x\",\"\")","v":""},{"$f":"IF(Förderrechner!$G$23>=A77,\"x\",\"\")","v":""},null,{"$f":"IF(B77<>\"\",IF(AND(D77=0,Förderrechner!$G$10=\"Ja\"),\"<--Eingabe?\",$F$6/(Förderrechner!$G$8)),\"\")","v":""},{"$f":"IF(AND(H77<>\"\",Förderrechner!$G$20=\"ja\",B77<>\"\"),IF(Förderrechner!$F$26=\"2024-2028\",20%,IF(Förderrechner!$F$26=\"2029/30\",17%,IF(Förderrechner!$F$26=\"2031/32\",14%,IF(Förderrechner!F$26=\"2033/34\",11%,IF(Förderrechner!F$26=\"2035/36\",8%,0%))))),\"\")","v":""},"",{"$f":"IF(B77<>\"\",0.7-$J$15,IF(A77<=Förderrechner!$G$8,0,\"\"))","v":""},{"$f":"IF(ISNUMBER(E77),MIN(E77,IF(Förderrechner!$G$10=\"Nein\",0,IF($D$21=\"%\",D77/100,IF($D$21=\"10.000stel\",D77/10000,D77/1000))*$J$12)),\"\")","v":""},"","",{"$f":"IFERROR((Förderrechner!$C$7-$J$18)*IF(D77=\"\",\"\",D77)/IF($D$21=\"%\",100,IF($D$21=\"10.000stel\",10000,1000))-K77,\"\")","v":""}]
[56,{"$f":"IF(Förderrechner!$G$9>=A78,\"x\",\"\")","v":""},{"$f":"IF(Förderrechner!$G$23>=A78,\"x\",\"\")","v":""},null,{"$f":"IF(B78<>\"\",IF(AND(D78=0,Förderrechner!$G$10=\"Ja\"),\"<--Eingabe?\",$F$6/(Förderrechner!$G$8)),\"\")","v":""},{"$f":"IF(AND(H78<>\"\",Förderrechner!$G$20=\"ja\",B78<>\"\"),IF(Förderrechner!$F$26=\"2024-2028\",20%,IF(Förderrechner!$F$26=\"2029/30\",17%,IF(Förderrechner!$F$26=\"2031/32\",14%,IF(Förderrechner!F$26=\"2033/34\",11%,IF(Förderrechner!F$26=\"2035/36\",8%,0%))))),\"\")","v":""},"",{"$f":"IF(B78<>\"\",0.7-$J$15,IF(A78<=Förderrechner!$G$8,0,\"\"))","v":""},{"$f":"IF(ISNUMBER(E78),MIN(E78,IF(Förderrechner!$G$10=\"Nein\",0,IF($D$21=\"%\",D78/100,IF($D$21=\"10.000stel\",D78/10000,D78/1000))*$J$12)),\"\")","v":""},"","",{"$f":"IFERROR((Förderrechner!$C$7-$J$18)*IF(D78=\"\",\"\",D78)/IF($D$21=\"%\",100,IF($D$21=\"10.000stel\",10000,1000))-K78,\"\")","v":""}]
[57,{"$f":"IF(Förderrechner!$G$9>=A79,\"x\",\"\")","v":""},{"$f":"IF(Förderrechner!$G$23>=A79,\"x\",\"\")","v":""},null,{"$f":"IF(B79<>\"\",IF(AND(D79=0,Förderrechner!$G$10=\"Ja\"),\"<--Eingabe?\",$F$6/(Förderrechner!$G$8)),\"\")","v":""},{"$f":"IF(AND(H79<>\"\",Förderrechner!$G$20=\"ja\",B79<>\"\"),IF(Förderrechner!$F$26=\"2024-2028\",20%,IF(Förderrechner!$F$26=\"2029/30\",17%,IF(Förderrechner!$F$26=\"2031/32\",14%,IF(Förderrechner!F$26=\"2033/34\",11%,IF(Förderrechner!F$26=\"2035/36\",8%,0%))))),\"\")","v":""},"",{"$f":"IF(B79<>\"\",0.7-$J$15,IF(A79<=Förderrechner!$G$8,0,\"\"))","v":""},{"$f":"IF(ISNUMBER(E79),MIN(E79,IF(Förderrechner!$G$10=\"Nein\",0,IF($D$21=\"%\",D79/100,IF($D$21=\"10.000stel\",D79/10000,D79/1000))*$J$12)),\"\")","v":""},"","",{"$f":"IFERROR((Förderrechner!$C$7-$J$18)*IF(D79=\"\",\"\",D79)/IF($D$21=\"%\",100,IF($D$21=\"10.000stel\",10000,1000))-K79,\"\")","v":""}]
[58,{"$f":"IF(Förderrechner!$G$9>=A80,\"x\",\"\")","v":""},{"$f":"IF(Förderrechner!$G$23>=A80,\"x\",\"\")","v":""},null,{"$f":"IF(B80<>\"\",IF(AND(D80=0,Förderrechner!$G$10=\"Ja\"),\"<--Eingabe?\",$F$6/(Förderrechner!$G$8)),\"\")","v":""},{"$f":"IF(AND(H80<>\"\",Förderrechner!$G$20=\"ja\",B80<>\"\"),IF(Förderrechner!$F$26=\"2024-2028\",20%,IF(Förderrechner!$F$26=\"2029/30\",17%,IF(Förderrechner!$F$26=\"2031/32\",14%,IF(Förderrechner!F$26=\"2033/34\",11%,IF(Förderrechner!F$26=\"2035/36\",8%,0%))))),\"\")","v":""},"",{"$f":"IF(B80<>\"\",0.7-$J$15,IF(A80<=Förderrechner!$G$8,0,\"\"))","v":""},{"$f":"IF(ISNUMBER(E80),MIN(E80,IF(Förderrechner!$G$10=\"Nein\",0,IF($D$21=\"%\",D80/100,IF($D$21=\"10.000stel\",D80/10000,D80/1000))*$J$12)),\"\")","v":""},"","",{"$f":"IFERROR((Förderrechner!$C$7-$J$18)*IF(D80=\"\",\"\",D80)/IF($D$21=\"%\",100,IF($D$21=\"10.000stel\",10000,1000))-K80,\"\")","v":""}]
[59,{"$f":"IF(Förderrechner!$G$9>=A81,\"x\",\"\")","v":""},{"$f":"IF(Förderrechner!$G$23>=A81,\"x\",\"\")","v":""},null,{"$f":"IF(B81<>\"\",IF(AND(D81=0,Förderrechner!$G$10=\"Ja\"),\"<--Eingabe?\",$F$6/(Förderrechner!$G$8)),\"\")","v":""},{"$f":"IF(AND(H81<>\"\",Förderrechner!$G$20=\"ja\",B81<>\"\"),IF(Förderrechner!$F$26=\"2024-2028\",20%,IF(Förderrechner!$F$26=\"2029/30\",17%,IF(Förderrechner!$F$26=\"2031/32\",14%,IF(Förderrechner!F$26=\"2033/34\",11%,IF(Förderrechner!F$26=\"2035/36\",8%,0%))))),\"\")","v":""},"",{"$f":"IF(B81<>\"\",0.7-$J$15,IF(A81<=Förderrechner!$G$8,0,\"\"))","v":""},{"$f":"IF(ISNUMBER(E81),MIN(E81,IF(Förderrechner!$G$10=\"Nein\",0,IF($D$21=\"%\",D81/100,IF($D$21=\"10.000stel\",D81/10000,D81/1000))*$J$12)),\"\")","v":""},"","",{"$f":"IFERROR((Förderrechner!$C$7-$J$18)*IF(D81=\"\",\"\",D81)/IF($D$21=\"%\",100,IF($D$21=\"10.000stel\",10000,1000))-K81,\"\")","v":""}]
[60,{"$f":"IF(Förderrechner!$G$9>=A82,\"x\",\"\")","v":""},{"$f":"IF(Förderrechner!$G$23>=A82,\"x\",\"\")","v":""},null,{"$f":"IF(B82<>\"\",IF(AND(D82=0,Förderrechner!$G$10=\"Ja\"),\"<--Eingabe?\",$F$6/(Förderrechner!$G$8)),\"\")","v":""},{"$f":"IF(AND(H82<>\"\",Förderrechner!$G$20=\"ja\",B82<>\"\"),IF(Förderrechner!$F$26=\"2024-2028\",20%,IF(Förderrechner!$F$26=\"2029/30\",17%,IF(Förderrechner!$F$26=\"2031/32\",14%,IF(Förderrechner!F$26=\"2033/34\",11%,IF(Förderrechner!F$26=\"2035/36\",8%,0%))))),\"\")","v":""},"",{"$f":"IF(B82<>\"\",0.7-$J$15,IF(A82<=Förderrechner!$G$8,0,\"\"))","v":""},{"$f":"IF(ISNUMBER(E82),MIN(E82,IF(Förderrechner!$G$10=\"Nein\",0,IF($D$21=\"%\",D82/100,IF($D$21=\"10.000stel\",D82/10000,D82/1000))*$J$12)),\"\")","v":""},"","",{"$f":"IFERROR((Förderrechner!$C$7-$J$18)*IF(D82=\"\",\"\",D82)/IF($D$21=\"%\",100,IF($D$21=\"10.000stel\",10000,1000))-K82,\"\")","v":""}]
[61,{"$f":"IF(Förderrechner!$G$9>=A83,\"x\",\"\")","v":""},{"$f":"IF(Förderrechner!$G$23>=A83,\"x\",\"\")","v":""},null,{"$f":"IF(B83<>\"\",IF(AND(D83=0,Förderrechner!$G$10=\"Ja\"),\"<--Eingabe?\",$F$6/(Förderrechner!$G$8)),\"\")","v":""},{"$f":"IF(AND(H83<>\"\",Förderrechner!$G$20=\"ja\",B83<>\"\"),IF(Förderrechner!$F$26=\"2024-2028\",20%,IF(Förderrechner!$F$26=\"2029/30\",17%,IF(Förderrechner!$F$26=\"2031/32\",14%,IF(Förderrechner!F$26=\"2033/34\",11%,IF(Förderrechner!F$26=\"2035/36\",8%,0%))))),\"\")","v":""},"",{"$f":"IF(B83<>\"\",0.7-$J$15,IF(A83<=Förderrechner!$G$8,0,\"\"))","v":""},{"$f":"IF(ISNUMBER(E83),MIN(E83,IF(Förderrechner!$G$10=\"Nein\",0,IF($D$21=\"%\",D83/100,IF($D$21=\"10.000stel\",D83/10000,D83/1000))*$J$12)),\"\")","v":""},"","",{"$f":"IFERROR((Förderrechner!$C$7-$J$18)*IF(D83=\"\",\"\",D83)/IF($D$21=\"%\",100,IF($D$21=\"10.000stel\",10000,1000))-K83,\"\")","v":""}]
[62,{"$f":"IF(Förderrechner!$G$9>=A84,\"x\",\"\")","v":""},{"$f":"IF(Förderrechner!$G$23>=A84,\"x\",\"\")","v":""},null,{"$f":"IF(B84<>\"\",IF(AND(D84=0,Förderrechner!$G$10=\"Ja\"),\"<--Eingabe?\",$F$6/(Förderrechner!$G$8)),\"\")","v":""},{"$f":"IF(AND(H84<>\"\",Förderrechner!$G$20=\"ja\",B84<>\"\"),IF(Förderrechner!$F$26=\"2024-2028\",20%,IF(Förderrechner!$F$26=\"2029/30\",17%,IF(Förderrechner!$F$26=\"2031/32\",14%,IF(Förderrechner!F$26=\"2033/34\",11%,IF(Förderrechner!F$26=\"2035/36\",8%,0%))))),\"\")","v":""},"",{"$f":"IF(B84<>\"\",0.7-$J$15,IF(A84<=Förderrechner!$G$8,0,\"\"))","v":""},{"$f":"IF(ISNUMBER(E84),MIN(E84,IF(Förderrechner!$G$10=\"Nein\",0,IF($D$21=\"%\",D84/100,IF($D$21=\"10.000stel\",D84/10000,D84/1000))*$J$12)),\"\")","v":""},"","",{"$f":"IFERROR((Förderrechner!$C$7-$J$18)*IF(D84=\"\",\"\",D84)/IF($D$21=\"%\",100,IF($D$21=\"10.000stel\",10000,1000))-K84,\"\")","v":""}]
[63,{"$f":"IF(Förderrechner!$G$9>=A85,\"x\",\"\")","v":""},{"$f":"IF(Förderrechner!$G$23>=A85,\"x\",\"\")","v":""},null,{"$f":"IF(B85<>\"\",IF(AND(D85=0,Förderrechner!$G$10=\"Ja\"),\"<--Eingabe?\",$F$6/(Förderrechner!$G$8)),\"\")","v":""},{"$f":"IF(AND(H85<>\"\",Förderrechner!$G$20=\"ja\",B85<>\"\"),IF(Förderrechner!$F$26=\"2024-2028\",20%,IF(Förderrechner!$F$26=\"2029/30\",17%,IF(Förderrechner!$F$26=\"2031/32\",14%,IF(Förderrechner!F$26=\"2033/34\",11%,IF(Förderrechner!F$26=\"2035/36\",8%,0%))))),\"\")","v":""},"",{"$f":"IF(B85<>\"\",0.7-$J$15,IF(A85<=Förderrechner!$G$8,0,\"\"))","v":""},{"$f":"IF(ISNUMBER(E85),MIN(E85,IF(Förderrechner!$G$10=\"Nein\",0,IF($D$21=\"%\",D85/100,IF($D$21=\"10.000stel\",D85/10000,D85/1000))*$J$12)),\"\")","v":""},"","",{"$f":"IFERROR((Förderrechner!$C$7-$J$18)*IF(D85=\"\",\"\",D85)/IF($D$21=\"%\",100,IF($D$21=\"10.000stel\",10000,1000))-K85,\"\")","v":""}]
[64,{"$f":"IF(Förderrechner!$G$9>=A86,\"x\",\"\")","v":""},{"$f":"IF(Förderrechner!$G$23>=A86,\"x\",\"\")","v":""},null,{"$f":"IF(B86<>\"\",IF(AND(D86=0,Förderrechner!$G$10=\"Ja\"),\"<--Eingabe?\",$F$6/(Förderrechner!$G$8)),\"\")","v":""},{"$f":"IF(AND(H86<>\"\",Förderrechner!$G$20=\"ja\",B86<>\"\"),IF(Förderrechner!$F$26=\"2024-2028\",20%,IF(Förderrechner!$F$26=\"2029/30\",17%,IF(Förderrechner!$F$26=\"2031/32\",14%,IF(Förderrechner!F$26=\"2033/34\",11%,IF(Förderrechner!F$26=\"2035/36\",8%,0%))))),\"\")","v":""},"",{"$f":"IF(B86<>\"\",0.7-$J$15,IF(A86<=Förderrechner!$G$8,0,\"\"))","v":""},{"$f":"IF(ISNUMBER(E86),MIN(E86,IF(Förderrechner!$G$10=\"Nein\",0,IF($D$21=\"%\",D86/100,IF($D$21=\"10.000stel\",D86/10000,D86/1000))*$J$12)),\"\")","v":""},"","",{"$f":"IFERROR((Förderrechner!$C$7-$J$18)*IF(D86=\"\",\"\",D86)/IF($D$21=\"%\",100,IF($D$21=\"10.000stel\",10000,1000))-K86,\"\")","v":""}]
[65,{"$f":"IF(Förderrechner!$G$9>=A87,\"x\",\"\")","v":""},{"$f":"IF(Förderrechner!$G$23>=A87,\"x\",\"\")","v":""},null,{"$f":"IF(B87<>\"\",IF(AND(D87=0,Förderrechner!$G$10=\"Ja\"),\"<--Eingabe?\",$F$6/(Förderrechner!$G$8)),\"\")","v":""},{"$f":"IF(AND(H87<>\"\",Förderrechner!$G$20=\"ja\",B87<>\"\"),IF(Förderrechner!$F$26=\"2024-2028\",20%,IF(Förderrechner!$F$26=\"2029/30\",17%,IF(Förderrechner!$F$26=\"2031/32\",14%,IF(Förderrechner!F$26=\"2033/34\",11%,IF(Förderrechner!F$26=\"2035/36\",8%,0%))))),\"\")","v":""},"",{"$f":"IF(B87<>\"\",0.7-$J$15,IF(A87<=Förderrechner!$G$8,0,\"\"))","v":""},{"$f":"IF(ISNUMBER(E87),MIN(E87,IF(Förderrechner!$G$10=\"Nein\",0,IF($D$21=\"%\",D87/100,IF($D$21=\"10.000stel\",D87/10000,D87/1000))*$J$12)),\"\")","v":""},"","",{"$f":"IFERROR((Förderrechner!$C$7-$J$18)*IF(D87=\"\",\"\",D87)/IF($D$21=\"%\",100,IF($D$21=\"10.000stel\",10000,1000))-K87,\"\")","v":""}]
[66,{"$f":"IF(Förderrechner!$G$9>=A88,\"x\",\"\")","v":""},{"$f":"IF(Förderrechner!$G$23>=A88,\"x\",\"\")","v":""},null,{"$f":"IF(B88<>\"\",IF(AND(D88=0,Förderrechner!$G$10=\"Ja\"),\"<--Eingabe?\",$F$6/(Förderrechner!$G$8)),\"\")","v":""},{"$f":"IF(AND(H88<>\"\",Förderrechner!$G$20=\"ja\",B88<>\"\"),IF(Förderrechner!$F$26=\"2024-2028\",20%,IF(Förderrechner!$F$26=\"2029/30\",17%,IF(Förderrechner!$F$26=\"2031/32\",14%,IF(Förderrechner!F$26=\"2033/34\",11%,IF(Förderrechner!F$26=\"2035/36\",8%,0%))))),\"\")","v":""},"",{"$f":"IF(B88<>\"\",0.7-$J$15,IF(A88<=Förderrechner!$G$8,0,\"\"))","v":""},{"$f":"IF(ISNUMBER(E88),MIN(E88,IF(Förderrechner!$G$10=\"Nein\",0,IF($D$21=\"%\",D88/100,IF($D$21=\"10.000stel\",D88/10000,D88/1000))*$J$12)),\"\")","v":""},"","",{"$f":"IFERROR((Förderrechner!$C$7-$J$18)*IF(D88=\"\",\"\",D88)/IF($D$21=\"%\",100,IF($D$21=\"10.000stel\",10000,1000))-K88,\"\")","v":""}]
[67,{"$f":"IF(Förderrechner!$G$9>=A89,\"x\",\"\")","v":""},{"$f":"IF(Förderrechner!$G$23>=A89,\"x\",\"\")","v":""},null,{"$f":"IF(B89<>\"\",IF(AND(D89=0,Förderrechner!$G$10=\"Ja\"),\"<--Eingabe?\",$F$6/(Förderrechner!$G$8)),\"\")","v":""},{"$f":"IF(AND(H89<>\"\",Förderrechner!$G$20=\"ja\",B89<>\"\"),IF(Förderrechner!$F$26=\"2024-2028\",20%,IF(Förderrechner!$F$26=\"2029/30\",17%,IF(Förderrechner!$F$26=\"2031/32\",14%,IF(Förderrechner!F$26=\"2033/34\",11%,IF(Förderrechner!F$26=\"2035/36\",8%,0%))))),\"\")","v":""},{"$f":"IF(C89<>\"\",30%,\"\")","v":""},{"$f":"IF(B89<>\"\",0.7-$J$15,IF(A89<=Förderrechner!$G$8,0,\"\"))","v":""},{"$f":"IF(ISNUMBER(E89),MIN(E89,IF(Förderrechner!$G$10=\"Nein\",0,IF($D$21=\"%\",D89/100,IF($D$21=\"10.000stel\",D89/10000,D89/1000))*$J$12)),\"\")","v":""},{"$f":"IF(H89=\"\",\"\",MIN(H89,SUM(F89:G89))+$J$15)","v":""},{"$f":"IFERROR(IF(J89<>\"\",IFERROR(I89*(J89-$J$15),0),\"\"),\"\")","v":""},{"$f":"IFERROR((Förderrechner!$C$7-$J$18)*IF(D89=\"\",\"\",D89)/IF($D$21=\"%\",100,IF($D$21=\"10.000stel\",10000,1000))-K89,\"\")","v":""}]
[68,{"$f":"IF(Förderrechner!$G$9>=A90,\"x\",\"\")","v":""},{"$f":"IF(Förderrechner!$G$23>=A90,\"x\",\"\")","v":""},null,{"$f":"IF(B90<>\"\",IF(AND(D90=0,Förderrechner!$G$10=\"Ja\"),\"<--Eingabe?\",$F$6/(Förderrechner!$G$8)),\"\")","v":""},{"$f":"IF(AND(H90<>\"\",Förderrechner!$G$20=\"ja\",B90<>\"\"),IF(Förderrechner!$F$26=\"2024-2028\",20%,IF(Förderrechner!$F$26=\"2029/30\",17%,IF(Förderrechner!$F$26=\"2031/32\",14%,IF(Förderrechner!F$26=\"2033/34\",11%,IF(Förderrechner!F$26=\"2035/36\",8%,0%))))),\"\")","v":""},"",{"$f":"IF(B90<>\"\",0.7-$J$15,IF(A90<=Förderrechner!$G$8,0,\"\"))","v":""},{"$f":"IF(ISNUMBER(E90),MIN(E90,IF(Förderrechner!$G$10=\"Nein\",0,IF($D$21=\"%\",D90/100,IF($D$21=\"10.000stel\",D90/10000,D90/1000))*$J$12)),\"\")","v":""},"","",{"$f":"IFERROR((Förderrechner!$C$7-$J$18)*IF(D90=\"\",\"\",D90)/IF($D$21=\"%\",100,IF($D$21=\"10.000stel\",10000,1000))-K90,\"\")","v":""}]
[69,{"$f":"IF(Förderrechner!$G$9>=A91,\"x\",\"\")","v":""},{"$f":"IF(Förderrechner!$G$23>=A91,\"x\",\"\")","v":""},null,{"$f":"IF(B91<>\"\",IF(AND(D91=0,Förderrechner!$G$10=\"Ja\"),\"<--Eingabe?\",$F$6/(Förderrechner!$G$8)),\"\")","v":""},{"$f":"IF(AND(H91<>\"\",Förderrechner!$G$20=\"ja\",B91<>\"\"),IF(Förderrechner!$F$26=\"2024-2028\",20%,IF(Förderrechner!$F$26=\"2029/30\",17%,IF(Förderrechner!$F$26=\"2031/32\",14%,IF(Förderrechner!F$26=\"2033/34\",11%,IF(Förderrechner!F$26=\"2035/36\",8%,0%))))),\"\")","v":""},"",{"$f":"IF(B91<>\"\",0.7-$J$15,IF(A91<=Förderrechner!$G$8,0,\"\"))","v":""},{"$f":"IF(ISNUMBER(E91),MIN(E91,IF(Förderrechner!$G$10=\"Nein\",0,IF($D$21=\"%\",D91/100,IF($D$21=\"10.000stel\",D91/10000,D91/1000))*$J$12)),\"\")","v":""},"","",{"$f":"IFERROR((Förderrechner!$C$7-$J$18)*IF(D91=\"\",\"\",D91)/IF($D$21=\"%\",100,IF($D$21=\"10.000stel\",10000,1000))-K91,\"\")","v":""}]
[70,{"$f":"IF(Förderrechner!$G$9>=A92,\"x\",\"\")","v":""},{"$f":"IF(Förderrechner!$G$23>=A92,\"x\",\"\")","v":""},null,{"$f":"IF(B92<>\"\",IF(AND(D92=0,Förderrechner!$G$10=\"Ja\"),\"<--Eingabe?\",$F$6/(Förderrechner!$G$8)),\"\")","v":""},{"$f":"IF(AND(H92<>\"\",Förderrechner!$G$20=\"ja\",B92<>\"\"),IF(Förderrechner!$F$26=\"2024-2028\",20%,IF(Förderrechner!$F$26=\"2029/30\",17%,IF(Förderrechner!$F$26=\"2031/32\",14%,IF(Förderrechner!F$26=\"2033/34\",11%,IF(Förderrechner!F$26=\"2035/36\",8%,0%))))),\"\")","v":""},"",{"$f":"IF(B92<>\"\",0.7-$J$15,IF(A92<=Förderrechner!$G$8,0,\"\"))","v":""},{"$f":"IF(ISNUMBER(E92),MIN(E92,IF(Förderrechner!$G$10=\"Nein\",0,IF($D$21=\"%\",D92/100,IF($D$21=\"10.000stel\",D92/10000,D92/1000))*$J$12)),\"\")","v":""},"","",{"$f":"IFERROR((Förderrechner!$C$7-$J$18)*IF(D92=\"\",\"\",D92)/IF($D$21=\"%\",100,IF($D$21=\"10.000stel\",10000,1000))-K92,\"\")","v":""}]
[71,{"$f":"IF(Förderrechner!$G$9>=A93,\"x\",\"\")","v":""},{"$f":"IF(Förderrechner!$G$23>=A93,\"x\",\"\")","v":""},null,{"$f":"IF(B93<>\"\",IF(AND(D93=0,Förderrechner!$G$10=\"Ja\"),\"<--Eingabe?\",$F$6/(Förderrechner!$G$8)),\"\")","v":""},{"$f":"IF(AND(H93<>\"\",Förderrechner!$G$20=\"ja\",B93<>\"\"),IF(Förderrechner!$F$26=\"2024-2028\",20%,IF(Förderrechner!$F$26=\"2029/30\",17%,IF(Förderrechner!$F$26=\"2031/32\",14%,IF(Förderrechner!F$26=\"2033/34\",11%,IF(Förderrechner!F$26=\"2035/36\",8%,0%))))),\"\")","v":""},"",{"$f":"IF(B93<>\"\",0.7-$J$15,IF(A93<=Förderrechner!$G$8,0,\"\"))","v":""},{"$f":"IF(ISNUMBER(E93),MIN(E93,IF(Förderrechner!$G$10=\"Nein\",0,IF($D$21=\"%\",D93/100,IF($D$21=\"10.000stel\",D93/10000,D93/1000))*$J$12)),\"\")","v":""},"","",{"$f":"IFERROR((Förderrechner!$C$7-$J$18)*IF(D93=\"\",\"\",D93)/IF($D$21=\"%\",100,IF($D$21=\"10.000stel\",10000,1000))-K93,\"\")","v":""}]
[72,{"$f":"IF(Förderrechner!$G$9>=A94,\"x\",\"\")","v":""},{"$f":"IF(Förderrechner!$G$23>=A94,\"x\",\"\")","v":""},null,{"$f":"IF(B94<>\"\",IF(AND(D94=0,Förderrechner!$G$10=\"Ja\"),\"<--Eingabe?\",$F$6/(Förderrechner!$G$8)),\"\")","v":""},{"$f":"IF(AND(H94<>\"\",Förderrechner!$G$20=\"ja\",B94<>\"\"),IF(Förderrechner!$F$26=\"2024-2028\",20%,IF(Förderrechner!$F$26=\"2029/30\",17%,IF(Förderrechner!$F$26=\"2031/32\",14%,IF(Förderrechner!F$26=\"2033/34\",11%,IF(Förderrechner!F$26=\"2035/36\",8%,0%))))),\"\")","v":""},"",{"$f":"IF(B94<>\"\",0.7-$J$15,IF(A94<=Förderrechner!$G$8,0,\"\"))","v":""},{"$f":"IF(ISNUMBER(E94),MIN(E94,IF(Förderrechner!$G$10=\"Nein\",0,IF($D$21=\"%\",D94/100,IF($D$21=\"10.000stel\",D94/10000,D94/1000))*$J$12)),\"\")","v":""},"","",{"$f":"IFERROR((Förderrechner!$C$7-$J$18)*IF(D94=\"\",\"\",D94)/IF($D$21=\"%\",100,IF($D$21=\"10.000stel\",10000,1000))-K94,\"\")","v":""}]
[73,{"$f":"IF(Förderrechner!$G$9>=A95,\"x\",\"\")","v":""},{"$f":"IF(Förderrechner!$G$23>=A95,\"x\",\"\")","v":""},null,{"$f":"IF(B95<>\"\",IF(AND(D95=0,Förderrechner!$G$10=\"Ja\"),\"<--Eingabe?\",$F$6/(Förderrechner!$G$8)),\"\")","v":""},{"$f":"IF(AND(H95<>\"\",Förderrechner!$G$20=\"ja\",B95<>\"\"),IF(Förderrechner!$F$26=\"2024-2028\",20%,IF(Förderrechner!$F$26=\"2029/30\",17%,IF(Förderrechner!$F$26=\"2031/32\",14%,IF(Förderrechner!F$26=\"2033/34\",11%,IF(Förderrechner!F$26=\"2035/36\",8%,0%))))),\"\")","v":""},"",{"$f":"IF(B95<>\"\",0.7-$J$15,IF(A95<=Förderrechner!$G$8,0,\"\"))","v":""},{"$f":"IF(ISNUMBER(E95),MIN(E95,IF(Förderrechner!$G$10=\"Nein\",0,IF($D$21=\"%\",D95/100,IF($D$21=\"10.000stel\",D95/10000,D95/1000))*$J$12)),\"\")","v":""},"","",{"$f":"IFERROR((Förderrechner!$C$7-$J$18)*IF(D95=\"\",\"\",D95)/IF($D$21=\"%\",100,IF($D$21=\"10.000stel\",10000,1000))-K95,\"\")","v":""}]
[74,{"$f":"IF(Förderrechner!$G$9>=A96,\"x\",\"\")","v":""},{"$f":"IF(Förderrechner!$G$23>=A96,\"x\",\"\")","v":""},null,{"$f":"IF(B96<>\"\",IF(AND(D96=0,Förderrechner!$G$10=\"Ja\"),\"<--Eingabe?\",$F$6/(Förderrechner!$G$8)),\"\")","v":""},{"$f":"IF(AND(H96<>\"\",Förderrechner!$G$20=\"ja\",B96<>\"\"),IF(Förderrechner!$F$26=\"2024-2028\",20%,IF(Förderrechner!$F$26=\"2029/30\",17%,IF(Förderrechner!$F$26=\"2031/32\",14%,IF(Förderrechner!F$26=\"2033/34\",11%,IF(Förderrechner!F$26=\"2035/36\",8%,0%))))),\"\")","v":""},"",{"$f":"IF(B96<>\"\",0.7-$J$15,IF(A96<=Förderrechner!$G$8,0,\"\"))","v":""},{"$f":"IF(ISNUMBER(E96),MIN(E96,IF(Förderrechner!$G$10=\"Nein\",0,IF($D$21=\"%\",D96/100,IF($D$21=\"10.000stel\",D96/10000,D96/1000))*$J$12)),\"\")","v":""},"","",{"$f":"IFERROR((Förderrechner!$C$7-$J$18)*IF(D96=\"\",\"\",D96)/IF($D$21=\"%\",100,IF($D$21=\"10.000stel\",10000,1000))-K96,\"\")","v":""}]
[75,{"$f":"IF(Förderrechner!$G$9>=A97,\"x\",\"\")","v":""},{"$f":"IF(Förderrechner!$G$23>=A97,\"x\",\"\")","v":""},null,{"$f":"IF(B97<>\"\",IF(AND(D97=0,Förderrechner!$G$10=\"Ja\"),\"<--Eingabe?\",$F$6/(Förderrechner!$G$8)),\"\")","v":""},{"$f":"IF(AND(H97<>\"\",Förderrechner!$G$20=\"ja\",B97<>\"\"),IF(Förderrechner!$F$26=\"2024-2028\",20%,IF(Förderrechner!$F$26=\"2029/30\",17%,IF(Förderrechner!$F$26=\"2031/32\",14%,IF(Förderrechner!F$26=\"2033/34\",11%,IF(Förderrechner!F$26=\"2035/36\",8%,0%))))),\"\")","v":""},"",{"$f":"IF(B97<>\"\",0.7-$J$15,IF(A97<=Förderrechner!$G$8,0,\"\"))","v":""},{"$f":"IF(ISNUMBER(E97),MIN(E97,IF(Förderrechner!$G$10=\"Nein\",0,IF($D$21=\"%\",D97/100,IF($D$21=\"10.000stel\",D97/10000,D97/1000))*$J$12)),\"\")","v":""},"","",{"$f":"IFERROR((Förderrechner!$C$7-$J$18)*IF(D97=\"\",\"\",D97)/IF($D$21=\"%\",100,IF($D$21=\"10.000stel\",10000,1000))-K97,\"\")","v":""}]
[76,{"$f":"IF(Förderrechner!$G$9>=A98,\"x\",\"\")","v":""},{"$f":"IF(Förderrechner!$G$23>=A98,\"x\",\"\")","v":""},null,{"$f":"IF(B98<>\"\",IF(AND(D98=0,Förderrechner!$G$10=\"Ja\"),\"<--Eingabe?\",$F$6/(Förderrechner!$G$8)),\"\")","v":""},{"$f":"IF(AND(H98<>\"\",Förderrechner!$G$20=\"ja\",B98<>\"\"),IF(Förderrechner!$F$26=\"2024-2028\",20%,IF(Förderrechner!$F$26=\"2029/30\",17%,IF(Förderrechner!$F$26=\"2031/32\",14%,IF(Förderrechner!F$26=\"2033/34\",11%,IF(Förderrechner!F$26=\"2035/36\",8%,0%))))),\"\")","v":""},"",{"$f":"IF(B98<>\"\",0.7-$J$15,IF(A98<=Förderrechner!$G$8,0,\"\"))","v":""},{"$f":"IF(ISNUMBER(E98),MIN(E98,IF(Förderrechner!$G$10=\"Nein\",0,IF($D$21=\"%\",D98/100,IF($D$21=\"10.000stel\",D98/10000,D98/1000))*$J$12)),\"\")","v":""},"","",{"$f":"IFERROR((Förderrechner!$C$7-$J$18)*IF(D98=\"\",\"\",D98)/IF($D$21=\"%\",100,IF($D$21=\"10.000stel\",10000,1000))-K98,\"\")","v":""}]
[77,{"$f":"IF(Förderrechner!$G$9>=A99,\"x\",\"\")","v":""},{"$f":"IF(Förderrechner!$G$23>=A99,\"x\",\"\")","v":""},null,{"$f":"IF(B99<>\"\",IF(AND(D99=0,Förderrechner!$G$10=\"Ja\"),\"<--Eingabe?\",$F$6/(Förderrechner!$G$8)),\"\")","v":""},{"$f":"IF(AND(H99<>\"\",Förderrechner!$G$20=\"ja\",B99<>\"\"),IF(Förderrechner!$F$26=\"2024-2028\",20%,IF(Förderrechner!$F$26=\"2029/30\",17%,IF(Förderrechner!$F$26=\"2031/32\",14%,IF(Förderrechner!F$26=\"2033/34\",11%,IF(Förderrechner!F$26=\"2035/36\",8%,0%))))),\"\")","v":""},"",{"$f":"IF(B99<>\"\",0.7-$J$15,IF(A99<=Förderrechner!$G$8,0,\"\"))","v":""},{"$f":"IF(ISNUMBER(E99),MIN(E99,IF(Förderrechner!$G$10=\"Nein\",0,IF($D$21=\"%\",D99/100,IF($D$21=\"10.000stel\",D99/10000,D99/1000))*$J$12)),\"\")","v":""},"","",{"$f":"IFERROR((Förderrechner!$C$7-$J$18)*IF(D99=\"\",\"\",D99)/IF($D$21=\"%\",100,IF($D$21=\"10.000stel\",10000,1000))-K99,\"\")","v":""}]
[78,{"$f":"IF(Förderrechner!$G$9>=A100,\"x\",\"\")","v":""},{"$f":"IF(Förderrechner!$G$23>=A100,\"x\",\"\")","v":""},null,{"$f":"IF(B100<>\"\",IF(AND(D100=0,Förderrechner!$G$10=\"Ja\"),\"<--Eingabe?\",$F$6/(Förderrechner!$G$8)),\"\")","v":""},{"$f":"IF(AND(H100<>\"\",Förderrechner!$G$20=\"ja\",B100<>\"\"),IF(Förderrechner!$F$26=\"2024-2028\",20%,IF(Förderrechner!$F$26=\"2029/30\",17%,IF(Förderrechner!$F$26=\"2031/32\",14%,IF(Förderrechner!F$26=\"2033/34\",11%,IF(Förderrechner!F$26=\"2035/36\",8%,0%))))),\"\")","v":""},"",{"$f":"IF(B100<>\"\",0.7-$J$15,IF(A100<=Förderrechner!$G$8,0,\"\"))","v":""},{"$f":"IF(ISNUMBER(E100),MIN(E100,IF(Förderrechner!$G$10=\"Nein\",0,IF($D$21=\"%\",D100/100,IF($D$21=\"10.000stel\",D100/10000,D100/1000))*$J$12)),\"\")","v":""},"","",{"$f":"IFERROR((Förderrechner!$C$7-$J$18)*IF(D100=\"\",\"\",D100)/IF($D$21=\"%\",100,IF($D$21=\"10.000stel\",10000,1000))-K100,\"\")","v":""}]
[79,{"$f":"IF(Förderrechner!$G$9>=A101,\"x\",\"\")","v":""},{"$f":"IF(Förderrechner!$G$23>=A101,\"x\",\"\")","v":""},null,{"$f":"IF(B101<>\"\",IF(AND(D101=0,Förderrechner!$G$10=\"Ja\"),\"<--Eingabe?\",$F$6/(Förderrechner!$G$8)),\"\")","v":""},{"$f":"IF(AND(H101<>\"\",Förderrechner!$G$20=\"ja\",B101<>\"\"),IF(Förderrechner!$F$26=\"2024-2028\",20%,IF(Förderrechner!$F$26=\"2029/30\",17%,IF(Förderrechner!$F$26=\"2031/32\",14%,IF(Förderrechner!F$26=\"2033/34\",11%,IF(Förderrechner!F$26=\"2035/36\",8%,0%))))),\"\")","v":""},"",{"$f":"IF(B101<>\"\",0.7-$J$15,IF(A101<=Förderrechner!$G$8,0,\"\"))","v":""},{"$f":"IF(ISNUMBER(E101),MIN(E101,IF(Förderrechner!$G$10=\"Nein\",0,IF($D$21=\"%\",D101/100,IF($D$21=\"10.000stel\",D101/10000,D101/1000))*$J$12)),\"\")","v":""},"","",{"$f":"IFERROR((Förderrechner!$C$7-$J$18)*IF(D101=\"\",\"\",D101)/IF($D$21=\"%\",100,IF($D$21=\"10.000stel\",10000,1000))-K101,\"\")","v":""}]
[80,{"$f":"IF(Förderrechner!$G$9>=A102,\"x\",\"\")","v":""},{"$f":"IF(Förderrechner!$G$23>=A102,\"x\",\"\")","v":""},null,{"$f":"IF(B102<>\"\",IF(AND(D102=0,Förderrechner!$G$10=\"Ja\"),\"<--Eingabe?\",$F$6/(Förderrechner!$G$8)),\"\")","v":""},{"$f":"IF(AND(H102<>\"\",Förderrechner!$G$20=\"ja\",B102<>\"\"),IF(Förderrechner!$F$26=\"2024-2028\",20%,IF(Förderrechner!$F$26=\"2029/30\",17%,IF(Förderrechner!$F$26=\"2031/32\",14%,IF(Förderrechner!F$26=\"2033/34\",11%,IF(Förderrechner!F$26=\"2035/36\",8%,0%))))),\"\")","v":""},"",{"$f":"IF(B102<>\"\",0.7-$J$15,IF(A102<=Förderrechner!$G$8,0,\"\"))","v":""},{"$f":"IF(ISNUMBER(E102),MIN(E102,IF(Förderrechner!$G$10=\"Nein\",0,IF($D$21=\"%\",D102/100,IF($D$21=\"10.000stel\",D102/10000,D102/1000))*$J$12)),\"\")","v":""},"","",{"$f":"IFERROR((Förderrechner!$C$7-$J$18)*IF(D102=\"\",\"\",D102)/IF($D$21=\"%\",100,IF($D$21=\"10.000stel\",10000,1000))-K102,\"\")","v":""}]
[81,{"$f":"IF(Förderrechner!$G$9>=A103,\"x\",\"\")","v":""},{"$f":"IF(Förderrechner!$G$23>=A103,\"x\",\"\")","v":""},null,{"$f":"IF(B103<>\"\",IF(AND(D103=0,Förderrechner!$G$10=\"Ja\"),\"<--Eingabe?\",$F$6/(Förderrechner!$G$8)),\"\")","v":""},{"$f":"IF(AND(H103<>\"\",Förderrechner!$G$20=\"ja\",B103<>\"\"),IF(Förderrechner!$F$26=\"2024-2028\",20%,IF(Förderrechner!$F$26=\"2029/30\",17%,IF(Förderrechner!$F$26=\"2031/32\",14%,IF(Förderrechner!F$26=\"2033/34\",11%,IF(Förderrechner!F$26=\"2035/36\",8%,0%))))),\"\")","v":""},"",{"$f":"IF(B103<>\"\",0.7-$J$15,IF(A103<=Förderrechner!$G$8,0,\"\"))","v":""},{"$f":"IF(ISNUMBER(E103),MIN(E103,IF(Förderrechner!$G$10=\"Nein\",0,IF($D$21=\"%\",D103/100,IF($D$21=\"10.000stel\",D103/10000,D103/1000))*$J$12)),\"\")","v":""},"","",{"$f":"IFERROR((Förderrechner!$C$7-$J$18)*IF(D103=\"\",\"\",D103)/IF($D$21=\"%\",100,IF($D$21=\"10.000stel\",10000,1000))-K103,\"\")","v":""}]
[82,{"$f":"IF(Förderrechner!$G$9>=A104,\"x\",\"\")","v":""},{"$f":"IF(Förderrechner!$G$23>=A104,\"x\",\"\")","v":""},null,{"$f":"IF(B104<>\"\",IF(AND(D104=0,Förderrechner!$G$10=\"Ja\"),\"<--Eingabe?\",$F$6/(Förderrechner!$G$8)),\"\")","v":""},{"$f":"IF(AND(H104<>\"\",Förderrechner!$G$20=\"ja\",B104<>\"\"),IF(Förderrechner!$F$26=\"2024-2028\",20%,IF(Förderrechner!$F$26=\"2029/30\",17%,IF(Förderrechner!$F$26=\"2031/32\",14%,IF(Förderrechner!F$26=\"2033/34\",11%,IF(Förderrechner!F$26=\"2035/36\",8%,0%))))),\"\")","v":""},"",{"$f":"IF(B104<>\"\",0.7-$J$15,IF(A104<=Förderrechner!$G$8,0,\"\"))","v":""},{"$f":"IF(ISNUMBER(E104),MIN(E104,IF(Förderrechner!$G$10=\"Nein\",0,IF($D$21=\"%\",D104/100,IF($D$21=\"10.000stel\",D104/10000,D104/1000))*$J$12)),\"\")","v":""},"","",{"$f":"IFERROR((Förderrechner!$C$7-$J$18)*IF(D104=\"\",\"\",D104)/IF($D$21=\"%\",100,IF($D$21=\"10.000stel\",10000,1000))-K104,\"\")","v":""}]
[83,{"$f":"IF(Förderrechner!$G$9>=A105,\"x\",\"\")","v":""},{"$f":"IF(Förderrechner!$G$23>=A105,\"x\",\"\")","v":""},null,{"$f":"IF(B105<>\"\",IF(AND(D105=0,Förderrechner!$G$10=\"Ja\"),\"<--Eingabe?\",$F$6/(Förderrechner!$G$8)),\"\")","v":""},{"$f":"IF(AND(H105<>\"\",Förderrechner!$G$20=\"ja\",B105<>\"\"),IF(Förderrechner!$F$26=\"2024-2028\",20%,IF(Förderrechner!$F$26=\"2029/30\",17%,IF(Förderrechner!$F$26=\"2031/32\",14%,IF(Förderrechner!F$26=\"2033/34\",11%,IF(Förderrechner!F$26=\"2035/36\",8%,0%))))),\"\")","v":""},"",{"$f":"IF(B105<>\"\",0.7-$J$15,IF(A105<=Förderrechner!$G$8,0,\"\"))","v":""},{"$f":"IF(ISNUMBER(E105),MIN(E105,IF(Förderrechner!$G$10=\"Nein\",0,IF($D$21=\"%\",D105/100,IF($D$21=\"10.000stel\",D105/10000,D105/1000))*$J$12)),\"\")","v":""},"","",{"$f":"IFERROR((Förderrechner!$C$7-$J$18)*IF(D105=\"\",\"\",D105)/IF($D$21=\"%\",100,IF($D$21=\"10.000stel\",10000,1000))-K105,\"\")","v":""}]
[84,{"$f":"IF(Förderrechner!$G$9>=A106,\"x\",\"\")","v":""},{"$f":"IF(Förderrechner!$G$23>=A106,\"x\",\"\")","v":""},null,{"$f":"IF(B106<>\"\",IF(AND(D106=0,Förderrechner!$G$10=\"Ja\"),\"<--Eingabe?\",$F$6/(Förderrechner!$G$8)),\"\")","v":""},{"$f":"IF(AND(H106<>\"\",Förderrechner!$G$20=\"ja\",B106<>\"\"),IF(Förderrechner!$F$26=\"2024-2028\",20%,IF(Förderrechner!$F$26=\"2029/30\",17%,IF(Förderrechner!$F$26=\"2031/32\",14%,IF(Förderrechner!F$26=\"2033/34\",11%,IF(Förderrechner!F$26=\"2035/36\",8%,0%))))),\"\")","v":""},"",{"$f":"IF(B106<>\"\",0.7-$J$15,IF(A106<=Förderrechner!$G$8,0,\"\"))","v":""},{"$f":"IF(ISNUMBER(E106),MIN(E106,IF(Förderrechner!$G$10=\"Nein\",0,IF($D$21=\"%\",D106/100,IF($D$21=\"10.000stel\",D106/10000,D106/1000))*$J$12)),\"\")","v":""},"","",{"$f":"IFERROR((Förderrechner!$C$7-$J$18)*IF(D106=\"\",\"\",D106)/IF($D$21=\"%\",100,IF($D$21=\"10.000stel\",10000,1000))-K106,\"\")","v":""}]
[85,{"$f":"IF(Förderrechner!$G$9>=A107,\"x\",\"\")","v":""},{"$f":"IF(Förderrechner!$G$23>=A107,\"x\",\"\")","v":""},null,{"$f":"IF(B107<>\"\",IF(AND(D107=0,Förderrechner!$G$10=\"Ja\"),\"<--Eingabe?\",$F$6/(Förderrechner!$G$8)),\"\")","v":""},{"$f":"IF(AND(H107<>\"\",Förderrechner!$G$20=\"ja\",B107<>\"\"),IF(Förderrechner!$F$26=\"2024-2028\",20%,IF(Förderrechner!$F$26=\"2029/30\",17%,IF(Förderrechner!$F$26=\"2031/32\",14%,IF(Förderrechner!F$26=\"2033/34\",11%,IF(Förderrechner!F$26=\"2035/36\",8%,0%))))),\"\")","v":""},"",{"$f":"IF(B107<>\"\",0.7-$J$15,IF(A107<=Förderrechner!$G$8,0,\"\"))","v":""},{"$f":"IF(ISNUMBER(E107),MIN(E107,IF(Förderrechner!$G$10=\"Nein\",0,IF($D$21=\"%\",D107/100,IF($D$21=\"10.000stel\",D107/10000,D107/1000))*$J$12)),\"\")","v":""},"","",{"$f":"IFERROR((Förderrechner!$C$7-$J$18)*IF(D107=\"\",\"\",D107)/IF($D$21=\"%\",100,IF($D$21=\"10.000stel\",10000,1000))-K107,\"\")","v":""}]
[86,{"$f":"IF(Förderrechner!$G$9>=A108,\"x\",\"\")","v":""},{"$f":"IF(Förderrechner!$G$23>=A108,\"x\",\"\")","v":""},null,{"$f":"IF(B108<>\"\",IF(AND(D108=0,Förderrechner!$G$10=\"Ja\"),\"<--Eingabe?\",$F$6/(Förderrechner!$G$8)),\"\")","v":""},{"$f":"IF(AND(H108<>\"\",Förderrechner!$G$20=\"ja\",B108<>\"\"),IF(Förderrechner!$F$26=\"2024-2028\",20%,IF(Förderrechner!$F$26=\"2029/30\",17%,IF(Förderrechner!$F$26=\"2031/32\",14%,IF(Förderrechner!F$26=\"2033/34\",11%,IF(Förderrechner!F$26=\"2035/36\",8%,0%))))),\"\")","v":""},"",{"$f":"IF(B108<>\"\",0.7-$J$15,IF(A108<=Förderrechner!$G$8,0,\"\"))","v":""},{"$f":"IF(ISNUMBER(E108),MIN(E108,IF(Förderrechner!$G$10=\"Nein\",0,IF($D$21=\"%\",D108/100,IF($D$21=\"10.000stel\",D108/10000,D108/1000))*$J$12)),\"\")","v":""},"","",{"$f":"IFERROR((Förderrechner!$C$7-$J$18)*IF(D108=\"\",\"\",D108)/IF($D$21=\"%\",100,IF($D$21=\"10.000stel\",10000,1000))-K108,\"\")","v":""}]
[87,{"$f":"IF(Förderrechner!$G$9>=A109,\"x\",\"\")","v":""},{"$f":"IF(Förderrechner!$G$23>=A109,\"x\",\"\")","v":""},null,{"$f":"IF(B109<>\"\",IF(AND(D109=0,Förderrechner!$G$10=\"Ja\"),\"<--Eingabe?\",$F$6/(Förderrechner!$G$8)),\"\")","v":""},{"$f":"IF(AND(H109<>\"\",Förderrechner!$G$20=\"ja\",B109<>\"\"),IF(Förderrechner!$F$26=\"2024-2028\",20%,IF(Förderrechner!$F$26=\"2029/30\",17%,IF(Förderrechner!$F$26=\"2031/32\",14%,IF(Förderrechner!F$26=\"2033/34\",11%,IF(Förderrechner!F$26=\"2035/36\",8%,0%))))),\"\")","v":""},"",{"$f":"IF(B109<>\"\",0.7-$J$15,IF(A109<=Förderrechner!$G$8,0,\"\"))","v":""},{"$f":"IF(ISNUMBER(E109),MIN(E109,IF(Förderrechner!$G$10=\"Nein\",0,IF($D$21=\"%\",D109/100,IF($D$21=\"10.000stel\",D109/10000,D109/1000))*$J$12)),\"\")","v":""},"","",{"$f":"IFERROR((Förderrechner!$C$7-$J$18)*IF(D109=\"\",\"\",D109)/IF($D$21=\"%\",100,IF($D$21=\"10.000stel\",10000,1000))-K109,\"\")","v":""}]
[88,{"$f":"IF(Förderrechner!$G$9>=A110,\"x\",\"\")","v":""},{"$f":"IF(Förderrechner!$G$23>=A110,\"x\",\"\")","v":""},null,{"$f":"IF(B110<>\"\",IF(AND(D110=0,Förderrechner!$G$10=\"Ja\"),\"<--Eingabe?\",$F$6/(Förderrechner!$G$8)),\"\")","v":""},{"$f":"IF(AND(H110<>\"\",Förderrechner!$G$20=\"ja\",B110<>\"\"),IF(Förderrechner!$F$26=\"2024-2028\",20%,IF(Förderrechner!$F$26=\"2029/30\",17%,IF(Förderrechner!$F$26=\"2031/32\",14%,IF(Förderrechner!F$26=\"2033/34\",11%,IF(Förderrechner!F$26=\"2035/36\",8%,0%))))),\"\")","v":""},"",{"$f":"IF(B110<>\"\",0.7-$J$15,IF(A110<=Förderrechner!$G$8,0,\"\"))","v":""},{"$f":"IF(ISNUMBER(E110),MIN(E110,IF(Förderrechner!$G$10=\"Nein\",0,IF($D$21=\"%\",D110/100,IF($D$21=\"10.000stel\",D110/10000,D110/1000))*$J$12)),\"\")","v":""},"","",{"$f":"IFERROR((Förderrechner!$C$7-$J$18)*IF(D110=\"\",\"\",D110)/IF($D$21=\"%\",100,IF($D$21=\"10.000stel\",10000,1000))-K110,\"\")","v":""}]
[89,{"$f":"IF(Förderrechner!$G$9>=A111,\"x\",\"\")","v":""},{"$f":"IF(Förderrechner!$G$23>=A111,\"x\",\"\")","v":""},null,{"$f":"IF(B111<>\"\",IF(AND(D111=0,Förderrechner!$G$10=\"Ja\"),\"<--Eingabe?\",$F$6/(Förderrechner!$G$8)),\"\")","v":""},{"$f":"IF(AND(H111<>\"\",Förderrechner!$G$20=\"ja\",B111<>\"\"),IF(Förderrechner!$F$26=\"2024-2028\",20%,IF(Förderrechner!$F$26=\"2029/30\",17%,IF(Förderrechner!$F$26=\"2031/32\",14%,IF(Förderrechner!F$26=\"2033/34\",11%,IF(Förderrechner!F$26=\"2035/36\",8%,0%))))),\"\")","v":""},"",{"$f":"IF(B111<>\"\",0.7-$J$15,IF(A111<=Förderrechner!$G$8,0,\"\"))","v":""},{"$f":"IF(ISNUMBER(E111),MIN(E111,IF(Förderrechner!$G$10=\"Nein\",0,IF($D$21=\"%\",D111/100,IF($D$21=\"10.000stel\",D111/10000,D111/1000))*$J$12)),\"\")","v":""},"","",{"$f":"IFERROR((Förderrechner!$C$7-$J$18)*IF(D111=\"\",\"\",D111)/IF($D$21=\"%\",100,IF($D$21=\"10.000stel\",10000,1000))-K111,\"\")","v":""}]
[90,{"$f":"IF(Förderrechner!$G$9>=A112,\"x\",\"\")","v":""},{"$f":"IF(Förderrechner!$G$23>=A112,\"x\",\"\")","v":""},null,{"$f":"IF(B112<>\"\",IF(AND(D112=0,Förderrechner!$G$10=\"Ja\"),\"<--Eingabe?\",$F$6/(Förderrechner!$G$8)),\"\")","v":""},{"$f":"IF(AND(H112<>\"\",Förderrechner!$G$20=\"ja\",B112<>\"\"),IF(Förderrechner!$F$26=\"2024-2028\",20%,IF(Förderrechner!$F$26=\"2029/30\",17%,IF(Förderrechner!$F$26=\"2031/32\",14%,IF(Förderrechner!F$26=\"2033/34\",11%,IF(Förderrechner!F$26=\"2035/36\",8%,0%))))),\"\")","v":""},"",{"$f":"IF(B112<>\"\",0.7-$J$15,IF(A112<=Förderrechner!$G$8,0,\"\"))","v":""},{"$f":"IF(ISNUMBER(E112),MIN(E112,IF(Förderrechner!$G$10=\"Nein\",0,IF($D$21=\"%\",D112/100,IF($D$21=\"10.000stel\",D112/10000,D112/1000))*$J$12)),\"\")","v":""},"","",{"$f":"IFERROR((Förderrechner!$C$7-$J$18)*IF(D112=\"\",\"\",D112)/IF($D$21=\"%\",100,IF($D$21=\"10.000stel\",10000,1000))-K112,\"\")","v":""}]
[91,{"$f":"IF(Förderrechner!$G$9>=A113,\"x\",\"\")","v":""},{"$f":"IF(Förderrechner!$G$23>=A113,\"x\",\"\")","v":""},null,{"$f":"IF(B113<>\"\",IF(AND(D113=0,Förderrechner!$G$10=\"Ja\"),\"<--Eingabe?\",$F$6/(Förderrechner!$G$8)),\"\")","v":""},{"$f":"IF(AND(H113<>\"\",Förderrechner!$G$20=\"ja\",B113<>\"\"),IF(Förderrechner!$F$26=\"2024-2028\",20%,IF(Förderrechner!$F$26=\"2029/30\",17%,IF(Förderrechner!$F$26=\"2031/32\",14%,IF(Förderrechner!F$26=\"2033/34\",11%,IF(Förderrechner!F$26=\"2035/36\",8%,0%))))),\"\")","v":""},"",{"$f":"IF(B113<>\"\",0.7-$J$15,IF(A113<=Förderrechner!$G$8,0,\"\"))","v":""},{"$f":"IF(ISNUMBER(E113),MIN(E113,IF(Förderrechner!$G$10=\"Nein\",0,IF($D$21=\"%\",D113/100,IF($D$21=\"10.000stel\",D113/10000,D113/1000))*$J$12)),\"\")","v":""},"","",{"$f":"IFERROR((Förderrechner!$C$7-$J$18)*IF(D113=\"\",\"\",D113)/IF($D$21=\"%\",100,IF($D$21=\"10.000stel\",10000,1000))-K113,\"\")","v":""}]
[92,{"$f":"IF(Förderrechner!$G$9>=A114,\"x\",\"\")","v":""},{"$f":"IF(Förderrechner!$G$23>=A114,\"x\",\"\")","v":""},null,{"$f":"IF(B114<>\"\",IF(AND(D114=0,Förderrechner!$G$10=\"Ja\"),\"<--Eingabe?\",$F$6/(Förderrechner!$G$8)),\"\")","v":""},{"$f":"IF(AND(H114<>\"\",Förderrechner!$G$20=\"ja\",B114<>\"\"),IF(Förderrechner!$F$26=\"2024-2028\",20%,IF(Förderrechner!$F$26=\"2029/30\",17%,IF(Förderrechner!$F$26=\"2031/32\",14%,IF(Förderrechner!F$26=\"2033/34\",11%,IF(Förderrechner!F$26=\"2035/36\",8%,0%))))),\"\")","v":""},"",{"$f":"IF(B114<>\"\",0.7-$J$15,IF(A114<=Förderrechner!$G$8,0,\"\"))","v":""},{"$f":"IF(ISNUMBER(E114),MIN(E114,IF(Förderrechner!$G$10=\"Nein\",0,IF($D$21=\"%\",D114/100,IF($D$21=\"10.000stel\",D114/10000,D114/1000))*$J$12)),\"\")","v":""},"","",{"$f":"IFERROR((Förderrechner!$C$7-$J$18)*IF(D114=\"\",\"\",D114)/IF($D$21=\"%\",100,IF($D$21=\"10.000stel\",10000,1000))-K114,\"\")","v":""}]
[93,{"$f":"IF(Förderrechner!$G$9>=A115,\"x\",\"\")","v":""},{"$f":"IF(Förderrechner!$G$23>=A115,\"x\",\"\")","v":""},null,{"$f":"IF(B115<>\"\",IF(AND(D115=0,Förderrechner!$G$10=\"Ja\"),\"<--Eingabe?\",$F$6/(Förderrechner!$G$8)),\"\")","v":""},{"$f":"IF(AND(H115<>\"\",Förderrechner!$G$20=\"ja\",B115<>\"\"),IF(Förderrechner!$F$26=\"2024-2028\",20%,IF(Förderrechner!$F$26=\"2029/30\",17%,IF(Förderrechner!$F$26=\"2031/32\",14%,IF(Förderrechner!F$26=\"2033/34\",11%,IF(Förderrechner!F$26=\"2035/36\",8%,0%))))),\"\")","v":""},"",{"$f":"IF(B115<>\"\",0.7-$J$15,IF(A115<=Förderrechner!$G$8,0,\"\"))","v":""},{"$f":"IF(ISNUMBER(E115),MIN(E115,IF(Förderrechner!$G$10=\"Nein\",0,IF($D$21=\"%\",D115/100,IF($D$21=\"10.000stel\",D115/10000,D115/1000))*$J$12)),\"\")","v":""},"","",{"$f":"IFERROR((Förderrechner!$C$7-$J$18)*IF(D115=\"\",\"\",D115)/IF($D$21=\"%\",100,IF($D$21=\"10.000stel\",10000,1000))-K115,\"\")","v":""}]
[94,{"$f":"IF(Förderrechner!$G$9>=A116,\"x\",\"\")","v":""},{"$f":"IF(Förderrechner!$G$23>=A116,\"x\",\"\")","v":""},null,{"$f":"IF(B116<>\"\",IF(AND(D116=0,Förderrechner!$G$10=\"Ja\"),\"<--Eingabe?\",$F$6/(Förderrechner!$G$8)),\"\")","v":""},{"$f":"IF(AND(H116<>\"\",Förderrechner!$G$20=\"ja\",B116<>\"\"),IF(Förderrechner!$F$26=\"2024-2028\",20%,IF(Förderrechner!$F$26=\"2029/30\",17%,IF(Förderrechner!$F$26=\"2031/32\",14%,IF(Förderrechner!F$26=\"2033/34\",11%,IF(Förderrechner!F$26=\"2035/36\",8%,0%))))),\"\")","v":""},"",{"$f":"IF(B116<>\"\",0.7-$J$15,IF(A116<=Förderrechner!$G$8,0,\"\"))","v":""},{"$f":"IF(ISNUMBER(E116),MIN(E116,IF(Förderrechner!$G$10=\"Nein\",0,IF($D$21=\"%\",D116/100,IF($D$21=\"10.000stel\",D116/10000,D116/1000))*$J$12)),\"\")","v":""},"","",{"$f":"IFERROR((Förderrechner!$C$7-$J$18)*IF(D116=\"\",\"\",D116)/IF($D$21=\"%\",100,IF($D$21=\"10.000stel\",10000,1000))-K116,\"\")","v":""}]
[95,{"$f":"IF(Förderrechner!$G$9>=A117,\"x\",\"\")","v":""},{"$f":"IF(Förderrechner!$G$23>=A117,\"x\",\"\")","v":""},null,{"$f":"IF(B117<>\"\",IF(AND(D117=0,Förderrechner!$G$10=\"Ja\"),\"<--Eingabe?\",$F$6/(Förderrechner!$G$8)),\"\")","v":""},{"$f":"IF(AND(H117<>\"\",Förderrechner!$G$20=\"ja\",B117<>\"\"),IF(Förderrechner!$F$26=\"2024-2028\",20%,IF(Förderrechner!$F$26=\"2029/30\",17%,IF(Förderrechner!$F$26=\"2031/32\",14%,IF(Förderrechner!F$26=\"2033/34\",11%,IF(Förderrechner!F$26=\"2035/36\",8%,0%))))),\"\")","v":""},"",{"$f":"IF(B117<>\"\",0.7-$J$15,IF(A117<=Förderrechner!$G$8,0,\"\"))","v":""},{"$f":"IF(ISNUMBER(E117),MIN(E117,IF(Förderrechner!$G$10=\"Nein\",0,IF($D$21=\"%\",D117/100,IF($D$21=\"10.000stel\",D117/10000,D117/1000))*$J$12)),\"\")","v":""},"","",{"$f":"IFERROR((Förderrechner!$C$7-$J$18)*IF(D117=\"\",\"\",D117)/IF($D$21=\"%\",100,IF($D$21=\"10.000stel\",10000,1000))-K117,\"\")","v":""}]
[96,{"$f":"IF(Förderrechner!$G$9>=A118,\"x\",\"\")","v":""},{"$f":"IF(Förderrechner!$G$23>=A118,\"x\",\"\")","v":""},null,{"$f":"IF(B118<>\"\",IF(AND(D118=0,Förderrechner!$G$10=\"Ja\"),\"<--Eingabe?\",$F$6/(Förderrechner!$G$8)),\"\")","v":""},{"$f":"IF(AND(H118<>\"\",Förderrechner!$G$20=\"ja\",B118<>\"\"),IF(Förderrechner!$F$26=\"2024-2028\",20%,IF(Förderrechner!$F$26=\"2029/30\",17%,IF(Förderrechner!$F$26=\"2031/32\",14%,IF(Förderrechner!F$26=\"2033/34\",11%,IF(Förderrechner!F$26=\"2035/36\",8%,0%))))),\"\")","v":""},"",{"$f":"IF(B118<>\"\",0.7-$J$15,IF(A118<=Förderrechner!$G$8,0,\"\"))","v":""},{"$f":"IF(ISNUMBER(E118),MIN(E118,IF(Förderrechner!$G$10=\"Nein\",0,IF($D$21=\"%\",D118/100,IF($D$21=\"10.000stel\",D118/10000,D118/1000))*$J$12)),\"\")","v":""},"","",{"$f":"IFERROR((Förderrechner!$C$7-$J$18)*IF(D118=\"\",\"\",D118)/IF($D$21=\"%\",100,IF($D$21=\"10.000stel\",10000,1000))-K118,\"\")","v":""}]
[97,{"$f":"IF(Förderrechner!$G$9>=A119,\"x\",\"\")","v":""},{"$f":"IF(Förderrechner!$G$23>=A119,\"x\",\"\")","v":""},null,{"$f":"IF(B119<>\"\",IF(AND(D119=0,Förderrechner!$G$10=\"Ja\"),\"<--Eingabe?\",$F$6/(Förderrechner!$G$8)),\"\")","v":""},{"$f":"IF(AND(H119<>\"\",Förderrechner!$G$20=\"ja\",B119<>\"\"),IF(Förderrechner!$F$26=\"2024-2028\",20%,IF(Förderrechner!$F$26=\"2029/30\",17%,IF(Förderrechner!$F$26=\"2031/32\",14%,IF(Förderrechner!F$26=\"2033/34\",11%,IF(Förderrechner!F$26=\"2035/36\",8%,0%))))),\"\")","v":""},"",{"$f":"IF(B119<>\"\",0.7-$J$15,IF(A119<=Förderrechner!$G$8,0,\"\"))","v":""},{"$f":"IF(ISNUMBER(E119),MIN(E119,IF(Förderrechner!$G$10=\"Nein\",0,IF($D$21=\"%\",D119/100,IF($D$21=\"10.000stel\",D119/10000,D119/1000))*$J$12)),\"\")","v":""},"","",{"$f":"IFERROR((Förderrechner!$C$7-$J$18)*IF(D119=\"\",\"\",D119)/IF($D$21=\"%\",100,IF($D$21=\"10.000stel\",10000,1000))-K119,\"\")","v":""}]
[98,{"$f":"IF(Förderrechner!$G$9>=A120,\"x\",\"\")","v":""},{"$f":"IF(Förderrechner!$G$23>=A120,\"x\",\"\")","v":""},null,{"$f":"IF(B120<>\"\",IF(AND(D120=0,Förderrechner!$G$10=\"Ja\"),\"<--Eingabe?\",$F$6/(Förderrechner!$G$8)),\"\")","v":""},{"$f":"IF(AND(H120<>\"\",Förderrechner!$G$20=\"ja\",B120<>\"\"),IF(Förderrechner!$F$26=\"2024-2028\",20%,IF(Förderrechner!$F$26=\"2029/30\",17%,IF(Förderrechner!$F$26=\"2031/32\",14%,IF(Förderrechner!F$26=\"2033/34\",11%,IF(Förderrechner!F$26=\"2035/36\",8%,0%))))),\"\")","v":""},"",{"$f":"IF(B120<>\"\",0.7-$J$15,IF(A120<=Förderrechner!$G$8,0,\"\"))","v":""},{"$f":"IF(ISNUMBER(E120),MIN(E120,IF(Förderrechner!$G$10=\"Nein\",0,IF($D$21=\"%\",D120/100,IF($D$21=\"10.000stel\",D120/10000,D120/1000))*$J$12)),\"\")","v":""},"","",{"$f":"IFERROR((Förderrechner!$C$7-$J$18)*IF(D120=\"\",\"\",D120)/IF($D$21=\"%\",100,IF($D$21=\"10.000stel\",10000,1000))-K120,\"\")","v":""}]
[99,{"$f":"IF(Förderrechner!$G$9>=A121,\"x\",\"\")","v":""},{"$f":"IF(Förderrechner!$G$23>=A121,\"x\",\"\")","v":""},null,{"$f":"IF(B121<>\"\",IF(AND(D121=0,Förderrechner!$G$10=\"Ja\"),\"<--Eingabe?\",$F$6/(Förderrechner!$G$8)),\"\")","v":""},{"$f":"IF(AND(H121<>\"\",Förderrechner!$G$20=\"ja\",B121<>\"\"),IF(Förderrechner!$F$26=\"2024-2028\",20%,IF(Förderrechner!$F$26=\"2029/30\",17%,IF(Förderrechner!$F$26=\"2031/32\",14%,IF(Förderrechner!F$26=\"2033/34\",11%,IF(Förderrechner!F$26=\"2035/36\",8%,0%))))),\"\")","v":""},"",{"$f":"IF(B121<>\"\",0.7-$J$15,IF(A121<=Förderrechner!$G$8,0,\"\"))","v":""},{"$f":"IF(ISNUMBER(E121),MIN(E121,IF(Förderrechner!$G$10=\"Nein\",0,IF($D$21=\"%\",D121/100,IF($D$21=\"10.000stel\",D121/10000,D121/1000))*$J$12)),\"\")","v":""},"","",{"$f":"IFERROR((Förderrechner!$C$7-$J$18)*IF(D121=\"\",\"\",D121)/IF($D$21=\"%\",100,IF($D$21=\"10.000stel\",10000,1000))-K121,\"\")","v":""}]
[100,{"$f":"IF(Förderrechner!$G$9>=A122,\"x\",\"\")","v":""},{"$f":"IF(Förderrechner!$G$23>=A122,\"x\",\"\")","v":""},null,{"$f":"IF(B122<>\"\",IF(AND(D122=0,Förderrechner!$G$10=\"Ja\"),\"<--Eingabe?\",$F$6/(Förderrechner!$G$8)),\"\")","v":""},{"$f":"IF(AND(H122<>\"\",Förderrechner!$G$20=\"ja\",B122<>\"\"),IF(Förderrechner!$F$26=\"2024-2028\",20%,IF(Förderrechner!$F$26=\"2029/30\",17%,IF(Förderrechner!$F$26=\"2031/32\",14%,IF(Förderrechner!F$26=\"2033/34\",11%,IF(Förderrechner!F$26=\"2035/36\",8%,0%))))),\"\")","v":""},"",{"$f":"IF(B122<>\"\",0.7-$J$15,IF(A122<=Förderrechner!$G$8,0,\"\"))","v":""},{"$f":"IF(ISNUMBER(E122),MIN(E122,IF(Förderrechner!$G$10=\"Nein\",0,IF($D$21=\"%\",D122/100,IF($D$21=\"10.000stel\",D122/10000,D122/1000))*$J$12)),\"\")","v":""},"","",{"$f":"IFERROR((Förderrechner!$C$7-$J$18)*IF(D122=\"\",\"\",D122)/IF($D$21=\"%\",100,IF($D$21=\"10.000stel\",10000,1000))-K122,\"\")","v":""}]
[101,{"$f":"IF(Förderrechner!$G$9>=A123,\"x\",\"\")","v":""},{"$f":"IF(Förderrechner!$G$23>=A123,\"x\",\"\")","v":""},null,{"$f":"IF(B123<>\"\",IF(AND(D123=0,Förderrechner!$G$10=\"Ja\"),\"<--Eingabe?\",$F$6/(Förderrechner!$G$8)),\"\")","v":""},{"$f":"IF(AND(H123<>\"\",Förderrechner!$G$20=\"ja\",B123<>\"\"),IF(Förderrechner!$F$26=\"2024-2028\",20%,IF(Förderrechner!$F$26=\"2029/30\",17%,IF(Förderrechner!$F$26=\"2031/32\",14%,IF(Förderrechner!F$26=\"2033/34\",11%,IF(Förderrechner!F$26=\"2035/36\",8%,0%))))),\"\")","v":""},"",{"$f":"IF(B123<>\"\",0.7-$J$15,IF(A123<=Förderrechner!$G$8,0,\"\"))","v":""},{"$f":"IF(ISNUMBER(E123),MIN(E123,IF(Förderrechner!$G$10=\"Nein\",0,IF($D$21=\"%\",D123/100,IF($D$21=\"10.000stel\",D123/10000,D123/1000))*$J$12)),\"\")","v":""},"","",{"$f":"IFERROR((Förderrechner!$C$7-$J$18)*IF(D123=\"\",\"\",D123)/IF($D$21=\"%\",100,IF($D$21=\"10.000stel\",10000,1000))-K123,\"\")","v":""}]
[102,{"$f":"IF(Förderrechner!$G$9>=A124,\"x\",\"\")","v":""},{"$f":"IF(Förderrechner!$G$23>=A124,\"x\",\"\")","v":""},null,{"$f":"IF(B124<>\"\",IF(AND(D124=0,Förderrechner!$G$10=\"Ja\"),\"<--Eingabe?\",$F$6/(Förderrechner!$G$8)),\"\")","v":""},{"$f":"IF(AND(H124<>\"\",Förderrechner!$G$20=\"ja\",B124<>\"\"),IF(Förderrechner!$F$26=\"2024-2028\",20%,IF(Förderrechner!$F$26=\"2029/30\",17%,IF(Förderrechner!$F$26=\"2031/32\",14%,IF(Förderrechner!F$26=\"2033/34\",11%,IF(Förderrechner!F$26=\"2035/36\",8%,0%))))),\"\")","v":""},"",{"$f":"IF(B124<>\"\",0.7-$J$15,IF(A124<=Förderrechner!$G$8,0,\"\"))","v":""},{"$f":"IF(ISNUMBER(E124),MIN(E124,IF(Förderrechner!$G$10=\"Nein\",0,IF($D$21=\"%\",D124/100,IF($D$21=\"10.000stel\",D124/10000,D124/1000))*$J$12)),\"\")","v":""},"","",{"$f":"IFERROR((Förderrechner!$C$7-$J$18)*IF(D124=\"\",\"\",D124)/IF($D$21=\"%\",100,IF($D$21=\"10.000stel\",10000,1000))-K124,\"\")","v":""}]
[103,{"$f":"IF(Förderrechner!$G$9>=A125,\"x\",\"\")","v":""},{"$f":"IF(Förderrechner!$G$23>=A125,\"x\",\"\")","v":""},null,{"$f":"IF(B125<>\"\",IF(AND(D125=0,Förderrechner!$G$10=\"Ja\"),\"<--Eingabe?\",$F$6/(Förderrechner!$G$8)),\"\")","v":""},{"$f":"IF(AND(H125<>\"\",Förderrechner!$G$20=\"ja\",B125<>\"\"),IF(Förderrechner!$F$26=\"2024-2028\",20%,IF(Förderrechner!$F$26=\"2029/30\",17%,IF(Förderrechner!$F$26=\"2031/32\",14%,IF(Förderrechner!F$26=\"2033/34\",11%,IF(Förderrechner!F$26=\"2035/36\",8%,0%))))),\"\")","v":""},"",{"$f":"IF(B125<>\"\",0.7-$J$15,IF(A125<=Förderrechner!$G$8,0,\"\"))","v":""},{"$f":"IF(ISNUMBER(E125),MIN(E125,IF(Förderrechner!$G$10=\"Nein\",0,IF($D$21=\"%\",D125/100,IF($D$21=\"10.000stel\",D125/10000,D125/1000))*$J$12)),\"\")","v":""},"","",{"$f":"IFERROR((Förderrechner!$C$7-$J$18)*IF(D125=\"\",\"\",D125)/IF($D$21=\"%\",100,IF($D$21=\"10.000stel\",10000,1000))-K125,\"\")","v":""}]
[104,{"$f":"IF(Förderrechner!$G$9>=A126,\"x\",\"\")","v":""},{"$f":"IF(Förderrechner!$G$23>=A126,\"x\",\"\")","v":""},null,{"$f":"IF(B126<>\"\",IF(AND(D126=0,Förderrechner!$G$10=\"Ja\"),\"<--Eingabe?\",$F$6/(Förderrechner!$G$8)),\"\")","v":""},{"$f":"IF(AND(H126<>\"\",Förderrechner!$G$20=\"ja\",B126<>\"\"),IF(Förderrechner!$F$26=\"2024-2028\",20%,IF(Förderrechner!$F$26=\"2029/30\",17%,IF(Förderrechner!$F$26=\"2031/32\",14%,IF(Förderrechner!F$26=\"2033/34\",11%,IF(Förderrechner!F$26=\"2035/36\",8%,0%))))),\"\")","v":""},"",{"$f":"IF(B126<>\"\",0.7-$J$15,IF(A126<=Förderrechner!$G$8,0,\"\"))","v":""},{"$f":"IF(ISNUMBER(E126),MIN(E126,IF(Förderrechner!$G$10=\"Nein\",0,IF($D$21=\"%\",D126/100,IF($D$21=\"10.000stel\",D126/10000,D126/1000))*$J$12)),\"\")","v":""},"","",{"$f":"IFERROR((Förderrechner!$C$7-$J$18)*IF(D126=\"\",\"\",D126)/IF($D$21=\"%\",100,IF($D$21=\"10.000stel\",10000,1000))-K126,\"\")","v":""}]
[105,{"$f":"IF(Förderrechner!$G$9>=A127,\"x\",\"\")","v":""},{"$f":"IF(Förderrechner!$G$23>=A127,\"x\",\"\")","v":""},null,{"$f":"IF(B127<>\"\",IF(AND(D127=0,Förderrechner!$G$10=\"Ja\"),\"<--Eingabe?\",$F$6/(Förderrechner!$G$8)),\"\")","v":""},{"$f":"IF(AND(H127<>\"\",Förderrechner!$G$20=\"ja\",B127<>\"\"),IF(Förderrechner!$F$26=\"2024-2028\",20%,IF(Förderrechner!$F$26=\"2029/30\",17%,IF(Förderrechner!$F$26=\"2031/32\",14%,IF(Förderrechner!F$26=\"2033/34\",11%,IF(Förderrechner!F$26=\"2035/36\",8%,0%))))),\"\")","v":""},"",{"$f":"IF(B127<>\"\",0.7-$J$15,IF(A127<=Förderrechner!$G$8,0,\"\"))","v":""},{"$f":"IF(ISNUMBER(E127),MIN(E127,IF(Förderrechner!$G$10=\"Nein\",0,IF($D$21=\"%\",D127/100,IF($D$21=\"10.000stel\",D127/10000,D127/1000))*$J$12)),\"\")","v":""},"","",{"$f":"IFERROR((Förderrechner!$C$7-$J$18)*IF(D127=\"\",\"\",D127)/IF($D$21=\"%\",100,IF($D$21=\"10.000stel\",10000,1000))-K127,\"\")","v":""}]
[106,{"$f":"IF(Förderrechner!$G$9>=A128,\"x\",\"\")","v":""},{"$f":"IF(Förderrechner!$G$23>=A128,\"x\",\"\")","v":""},null,{"$f":"IF(B128<>\"\",IF(AND(D128=0,Förderrechner!$G$10=\"Ja\"),\"<--Eingabe?\",$F$6/(Förderrechner!$G$8)),\"\")","v":""},{"$f":"IF(AND(H128<>\"\",Förderrechner!$G$20=\"ja\",B128<>\"\"),IF(Förderrechner!$F$26=\"2024-2028\",20%,IF(Förderrechner!$F$26=\"2029/30\",17%,IF(Förderrechner!$F$26=\"2031/32\",14%,IF(Förderrechner!F$26=\"2033/34\",11%,IF(Förderrechner!F$26=\"2035/36\",8%,0%))))),\"\")","v":""},"",{"$f":"IF(B128<>\"\",0.7-$J$15,IF(A128<=Förderrechner!$G$8,0,\"\"))","v":""},{"$f":"IF(ISNUMBER(E128),MIN(E128,IF(Förderrechner!$G$10=\"Nein\",0,IF($D$21=\"%\",D128/100,IF($D$21=\"10.000stel\",D128/10000,D128/1000))*$J$12)),\"\")","v":""},"","",{"$f":"IFERROR((Förderrechner!$C$7-$J$18)*IF(D128=\"\",\"\",D128)/IF($D$21=\"%\",100,IF($D$21=\"10.000stel\",10000,1000))-K128,\"\")","v":""}]
[107,{"$f":"IF(Förderrechner!$G$9>=A129,\"x\",\"\")","v":""},{"$f":"IF(Förderrechner!$G$23>=A129,\"x\",\"\")","v":""},null,{"$f":"IF(B129<>\"\",IF(AND(D129=0,Förderrechner!$G$10=\"Ja\"),\"<--Eingabe?\",$F$6/(Förderrechner!$G$8)),\"\")","v":""},{"$f":"IF(AND(H129<>\"\",Förderrechner!$G$20=\"ja\",B129<>\"\"),IF(Förderrechner!$F$26=\"2024-2028\",20%,IF(Förderrechner!$F$26=\"2029/30\",17%,IF(Förderrechner!$F$26=\"2031/32\",14%,IF(Förderrechner!F$26=\"2033/34\",11%,IF(Förderrechner!F$26=\"2035/36\",8%,0%))))),\"\")","v":""},"",{"$f":"IF(B129<>\"\",0.7-$J$15,IF(A129<=Förderrechner!$G$8,0,\"\"))","v":""},{"$f":"IF(ISNUMBER(E129),MIN(E129,IF(Förderrechner!$G$10=\"Nein\",0,IF($D$21=\"%\",D129/100,IF($D$21=\"10.000stel\",D129/10000,D129/1000))*$J$12)),\"\")","v":""},"","",{"$f":"IFERROR((Förderrechner!$C$7-$J$18)*IF(D129=\"\",\"\",D129)/IF($D$21=\"%\",100,IF($D$21=\"10.000stel\",10000,1000))-K129,\"\")","v":""}]
[108,{"$f":"IF(Förderrechner!$G$9>=A130,\"x\",\"\")","v":""},{"$f":"IF(Förderrechner!$G$23>=A130,\"x\",\"\")","v":""},null,{"$f":"IF(B130<>\"\",IF(AND(D130=0,Förderrechner!$G$10=\"Ja\"),\"<--Eingabe?\",$F$6/(Förderrechner!$G$8)),\"\")","v":""},{"$f":"IF(AND(H130<>\"\",Förderrechner!$G$20=\"ja\",B130<>\"\"),IF(Förderrechner!$F$26=\"2024-2028\",20%,IF(Förderrechner!$F$26=\"2029/30\",17%,IF(Förderrechner!$F$26=\"2031/32\",14%,IF(Förderrechner!F$26=\"2033/34\",11%,IF(Förderrechner!F$26=\"2035/36\",8%,0%))))),\"\")","v":""},"",{"$f":"IF(B130<>\"\",0.7-$J$15,IF(A130<=Förderrechner!$G$8,0,\"\"))","v":""},{"$f":"IF(ISNUMBER(E130),MIN(E130,IF(Förderrechner!$G$10=\"Nein\",0,IF($D$21=\"%\",D130/100,IF($D$21=\"10.000stel\",D130/10000,D130/1000))*$J$12)),\"\")","v":""},"","",{"$f":"IFERROR((Förderrechner!$C$7-$J$18)*IF(D130=\"\",\"\",D130)/IF($D$21=\"%\",100,IF($D$21=\"10.000stel\",10000,1000))-K130,\"\")","v":""}]
[109,{"$f":"IF(Förderrechner!$G$9>=A131,\"x\",\"\")","v":""},{"$f":"IF(Förderrechner!$G$23>=A131,\"x\",\"\")","v":""},null,{"$f":"IF(B131<>\"\",IF(AND(D131=0,Förderrechner!$G$10=\"Ja\"),\"<--Eingabe?\",$F$6/(Förderrechner!$G$8)),\"\")","v":""},{"$f":"IF(AND(H131<>\"\",Förderrechner!$G$20=\"ja\",B131<>\"\"),IF(Förderrechner!$F$26=\"2024-2028\",20%,IF(Förderrechner!$F$26=\"2029/30\",17%,IF(Förderrechner!$F$26=\"2031/32\",14%,IF(Förderrechner!F$26=\"2033/34\",11%,IF(Förderrechner!F$26=\"2035/36\",8%,0%))))),\"\")","v":""},"",{"$f":"IF(B131<>\"\",0.7-$J$15,IF(A131<=Förderrechner!$G$8,0,\"\"))","v":""},{"$f":"IF(ISNUMBER(E131),MIN(E131,IF(Förderrechner!$G$10=\"Nein\",0,IF($D$21=\"%\",D131/100,IF($D$21=\"10.000stel\",D131/10000,D131/1000))*$J$12)),\"\")","v":""},"","",{"$f":"IFERROR((Förderrechner!$C$7-$J$18)*IF(D131=\"\",\"\",D131)/IF($D$21=\"%\",100,IF($D$21=\"10.000stel\",10000,1000))-K131,\"\")","v":""}]
[110,{"$f":"IF(Förderrechner!$G$9>=A132,\"x\",\"\")","v":""},{"$f":"IF(Förderrechner!$G$23>=A132,\"x\",\"\")","v":""},null,{"$f":"IF(B132<>\"\",IF(AND(D132=0,Förderrechner!$G$10=\"Ja\"),\"<--Eingabe?\",$F$6/(Förderrechner!$G$8)),\"\")","v":""},{"$f":"IF(AND(H132<>\"\",Förderrechner!$G$20=\"ja\",B132<>\"\"),IF(Förderrechner!$F$26=\"2024-2028\",20%,IF(Förderrechner!$F$26=\"2029/30\",17%,IF(Förderrechner!$F$26=\"2031/32\",14%,IF(Förderrechner!F$26=\"2033/34\",11%,IF(Förderrechner!F$26=\"2035/36\",8%,0%))))),\"\")","v":""},"",{"$f":"IF(B132<>\"\",0.7-$J$15,IF(A132<=Förderrechner!$G$8,0,\"\"))","v":""},{"$f":"IF(ISNUMBER(E132),MIN(E132,IF(Förderrechner!$G$10=\"Nein\",0,IF($D$21=\"%\",D132/100,IF($D$21=\"10.000stel\",D132/10000,D132/1000))*$J$12)),\"\")","v":""},"","",{"$f":"IFERROR((Förderrechner!$C$7-$J$18)*IF(D132=\"\",\"\",D132)/IF($D$21=\"%\",100,IF($D$21=\"10.000stel\",10000,1000))-K132,\"\")","v":""}]
[111,{"$f":"IF(Förderrechner!$G$9>=A133,\"x\",\"\")","v":""},{"$f":"IF(Förderrechner!$G$23>=A133,\"x\",\"\")","v":""},null,{"$f":"IF(B133<>\"\",IF(AND(D133=0,Förderrechner!$G$10=\"Ja\"),\"<--Eingabe?\",$F$6/(Förderrechner!$G$8)),\"\")","v":""},{"$f":"IF(AND(H133<>\"\",Förderrechner!$G$20=\"ja\",B133<>\"\"),IF(Förderrechner!$F$26=\"2024-2028\",20%,IF(Förderrechner!$F$26=\"2029/30\",17%,IF(Förderrechner!$F$26=\"2031/32\",14%,IF(Förderrechner!F$26=\"2033/34\",11%,IF(Förderrechner!F$26=\"2035/36\",8%,0%))))),\"\")","v":""},"",{"$f":"IF(B133<>\"\",0.7-$J$15,IF(A133<=Förderrechner!$G$8,0,\"\"))","v":""},{"$f":"IF(ISNUMBER(E133),MIN(E133,IF(Förderrechner!$G$10=\"Nein\",0,IF($D$21=\"%\",D133/100,IF($D$21=\"10.000stel\",D133/10000,D133/1000))*$J$12)),\"\")","v":""},"","",{"$f":"IFERROR((Förderrechner!$C$7-$J$18)*IF(D133=\"\",\"\",D133)/IF($D$21=\"%\",100,IF($D$21=\"10.000stel\",10000,1000))-K133,\"\")","v":""}]
[112,{"$f":"IF(Förderrechner!$G$9>=A134,\"x\",\"\")","v":""},{"$f":"IF(Förderrechner!$G$23>=A134,\"x\",\"\")","v":""},null,{"$f":"IF(B134<>\"\",IF(AND(D134=0,Förderrechner!$G$10=\"Ja\"),\"<--Eingabe?\",$F$6/(Förderrechner!$G$8)),\"\")","v":""},{"$f":"IF(AND(H134<>\"\",Förderrechner!$G$20=\"ja\",B134<>\"\"),IF(Förderrechner!$F$26=\"2024-2028\",20%,IF(Förderrechner!$F$26=\"2029/30\",17%,IF(Förderrechner!$F$26=\"2031/32\",14%,IF(Förderrechner!F$26=\"2033/34\",11%,IF(Förderrechner!F$26=\"2035/36\",8%,0%))))),\"\")","v":""},"",{"$f":"IF(B134<>\"\",0.7-$J$15,IF(A134<=Förderrechner!$G$8,0,\"\"))","v":""},{"$f":"IF(ISNUMBER(E134),MIN(E134,IF(Förderrechner!$G$10=\"Nein\",0,IF($D$21=\"%\",D134/100,IF($D$21=\"10.000stel\",D134/10000,D134/1000))*$J$12)),\"\")","v":""},"","",{"$f":"IFERROR((Förderrechner!$C$7-$J$18)*IF(D134=\"\",\"\",D134)/IF($D$21=\"%\",100,IF($D$21=\"10.000stel\",10000,1000))-K134,\"\")","v":""}]
[113,{"$f":"IF(Förderrechner!$G$9>=A135,\"x\",\"\")","v":""},{"$f":"IF(Förderrechner!$G$23>=A135,\"x\",\"\")","v":""},null,{"$f":"IF(B135<>\"\",IF(AND(D135=0,Förderrechner!$G$10=\"Ja\"),\"<--Eingabe?\",$F$6/(Förderrechner!$G$8)),\"\")","v":""},{"$f":"IF(AND(H135<>\"\",Förderrechner!$G$20=\"ja\",B135<>\"\"),IF(Förderrechner!$F$26=\"2024-2028\",20%,IF(Förderrechner!$F$26=\"2029/30\",17%,IF(Förderrechner!$F$26=\"2031/32\",14%,IF(Förderrechner!F$26=\"2033/34\",11%,IF(Förderrechner!F$26=\"2035/36\",8%,0%))))),\"\")","v":""},"",{"$f":"IF(B135<>\"\",0.7-$J$15,IF(A135<=Förderrechner!$G$8,0,\"\"))","v":""},{"$f":"IF(ISNUMBER(E135),MIN(E135,IF(Förderrechner!$G$10=\"Nein\",0,IF($D$21=\"%\",D135/100,IF($D$21=\"10.000stel\",D135/10000,D135/1000))*$J$12)),\"\")","v":""},"","",{"$f":"IFERROR((Förderrechner!$C$7-$J$18)*IF(D135=\"\",\"\",D135)/IF($D$21=\"%\",100,IF($D$21=\"10.000stel\",10000,1000))-K135,\"\")","v":""}]
[114,{"$f":"IF(Förderrechner!$G$9>=A136,\"x\",\"\")","v":""},{"$f":"IF(Förderrechner!$G$23>=A136,\"x\",\"\")","v":""},null,{"$f":"IF(B136<>\"\",IF(AND(D136=0,Förderrechner!$G$10=\"Ja\"),\"<--Eingabe?\",$F$6/(Förderrechner!$G$8)),\"\")","v":""},{"$f":"IF(AND(H136<>\"\",Förderrechner!$G$20=\"ja\",B136<>\"\"),IF(Förderrechner!$F$26=\"2024-2028\",20%,IF(Förderrechner!$F$26=\"2029/30\",17%,IF(Förderrechner!$F$26=\"2031/32\",14%,IF(Förderrechner!F$26=\"2033/34\",11%,IF(Förderrechner!F$26=\"2035/36\",8%,0%))))),\"\")","v":""},"",{"$f":"IF(B136<>\"\",0.7-$J$15,IF(A136<=Förderrechner!$G$8,0,\"\"))","v":""},{"$f":"IF(ISNUMBER(E136),MIN(E136,IF(Förderrechner!$G$10=\"Nein\",0,IF($D$21=\"%\",D136/100,IF($D$21=\"10.000stel\",D136/10000,D136/1000))*$J$12)),\"\")","v":""},"","",{"$f":"IFERROR((Förderrechner!$C$7-$J$18)*IF(D136=\"\",\"\",D136)/IF($D$21=\"%\",100,IF($D$21=\"10.000stel\",10000,1000))-K136,\"\")","v":""}]
[115,{"$f":"IF(Förderrechner!$G$9>=A137,\"x\",\"\")","v":""},{"$f":"IF(Förderrechner!$G$23>=A137,\"x\",\"\")","v":""},null,{"$f":"IF(B137<>\"\",IF(AND(D137=0,Förderrechner!$G$10=\"Ja\"),\"<--Eingabe?\",$F$6/(Förderrechner!$G$8)),\"\")","v":""},{"$f":"IF(AND(H137<>\"\",Förderrechner!$G$20=\"ja\",B137<>\"\"),IF(Förderrechner!$F$26=\"2024-2028\",20%,IF(Förderrechner!$F$26=\"2029/30\",17%,IF(Förderrechner!$F$26=\"2031/32\",14%,IF(Förderrechner!F$26=\"2033/34\",11%,IF(Förderrechner!F$26=\"2035/36\",8%,0%))))),\"\")","v":""},"",{"$f":"IF(B137<>\"\",0.7-$J$15,IF(A137<=Förderrechner!$G$8,0,\"\"))","v":""},{"$f":"IF(ISNUMBER(E137),MIN(E137,IF(Förderrechner!$G$10=\"Nein\",0,IF($D$21=\"%\",D137/100,IF($D$21=\"10.000stel\",D137/10000,D137/1000))*$J$12)),\"\")","v":""},"","",{"$f":"IFERROR((Förderrechner!$C$7-$J$18)*IF(D137=\"\",\"\",D137)/IF($D$21=\"%\",100,IF($D$21=\"10.000stel\",10000,1000))-K137,\"\")","v":""}]
[116,{"$f":"IF(Förderrechner!$G$9>=A138,\"x\",\"\")","v":""},{"$f":"IF(Förderrechner!$G$23>=A138,\"x\",\"\")","v":""},null,{"$f":"IF(B138<>\"\",IF(AND(D138=0,Förderrechner!$G$10=\"Ja\"),\"<--Eingabe?\",$F$6/(Förderrechner!$G$8)),\"\")","v":""},{"$f":"IF(AND(H138<>\"\",Förderrechner!$G$20=\"ja\",B138<>\"\"),IF(Förderrechner!$F$26=\"2024-2028\",20%,IF(Förderrechner!$F$26=\"2029/30\",17%,IF(Förderrechner!$F$26=\"2031/32\",14%,IF(Förderrechner!F$26=\"2033/34\",11%,IF(Förderrechner!F$26=\"2035/36\",8%,0%))))),\"\")","v":""},"",{"$f":"IF(B138<>\"\",0.7-$J$15,IF(A138<=Förderrechner!$G$8,0,\"\"))","v":""},{"$f":"IF(ISNUMBER(E138),MIN(E138,IF(Förderrechner!$G$10=\"Nein\",0,IF($D$21=\"%\",D138/100,IF($D$21=\"10.000stel\",D138/10000,D138/1000))*$J$12)),\"\")","v":""},"","",{"$f":"IFERROR((Förderrechner!$C$7-$J$18)*IF(D138=\"\",\"\",D138)/IF($D$21=\"%\",100,IF($D$21=\"10.000stel\",10000,1000))-K138,\"\")","v":""}]
[117,{"$f":"IF(Förderrechner!$G$9>=A139,\"x\",\"\")","v":""},{"$f":"IF(Förderrechner!$G$23>=A139,\"x\",\"\")","v":""},null,{"$f":"IF(B139<>\"\",IF(AND(D139=0,Förderrechner!$G$10=\"Ja\"),\"<--Eingabe?\",$F$6/(Förderrechner!$G$8)),\"\")","v":""},{"$f":"IF(AND(H139<>\"\",Förderrechner!$G$20=\"ja\",B139<>\"\"),IF(Förderrechner!$F$26=\"2024-2028\",20%,IF(Förderrechner!$F$26=\"2029/30\",17%,IF(Förderrechner!$F$26=\"2031/32\",14%,IF(Förderrechner!F$26=\"2033/34\",11%,IF(Förderrechner!F$26=\"2035/36\",8%,0%))))),\"\")","v":""},"",{"$f":"IF(B139<>\"\",0.7-$J$15,IF(A139<=Förderrechner!$G$8,0,\"\"))","v":""},{"$f":"IF(ISNUMBER(E139),MIN(E139,IF(Förderrechner!$G$10=\"Nein\",0,IF($D$21=\"%\",D139/100,IF($D$21=\"10.000stel\",D139/10000,D139/1000))*$J$12)),\"\")","v":""},"","",{"$f":"IFERROR((Förderrechner!$C$7-$J$18)*IF(D139=\"\",\"\",D139)/IF($D$21=\"%\",100,IF($D$21=\"10.000stel\",10000,1000))-K139,\"\")","v":""}]
[118,{"$f":"IF(Förderrechner!$G$9>=A140,\"x\",\"\")","v":""},{"$f":"IF(Förderrechner!$G$23>=A140,\"x\",\"\")","v":""},null,{"$f":"IF(B140<>\"\",IF(AND(D140=0,Förderrechner!$G$10=\"Ja\"),\"<--Eingabe?\",$F$6/(Förderrechner!$G$8)),\"\")","v":""},{"$f":"IF(AND(H140<>\"\",Förderrechner!$G$20=\"ja\",B140<>\"\"),IF(Förderrechner!$F$26=\"2024-2028\",20%,IF(Förderrechner!$F$26=\"2029/30\",17%,IF(Förderrechner!$F$26=\"2031/32\",14%,IF(Förderrechner!F$26=\"2033/34\",11%,IF(Förderrechner!F$26=\"2035/36\",8%,0%))))),\"\")","v":""},"",{"$f":"IF(B140<>\"\",0.7-$J$15,IF(A140<=Förderrechner!$G$8,0,\"\"))","v":""},{"$f":"IF(ISNUMBER(E140),MIN(E140,IF(Förderrechner!$G$10=\"Nein\",0,IF($D$21=\"%\",D140/100,IF($D$21=\"10.000stel\",D140/10000,D140/1000))*$J$12)),\"\")","v":""},"","",{"$f":"IFERROR((Förderrechner!$C$7-$J$18)*IF(D140=\"\",\"\",D140)/IF($D$21=\"%\",100,IF($D$21=\"10.000stel\",10000,1000))-K140,\"\")","v":""}]
[119,{"$f":"IF(Förderrechner!$G$9>=A141,\"x\",\"\")","v":""},{"$f":"IF(Förderrechner!$G$23>=A141,\"x\",\"\")","v":""},null,{"$f":"IF(B141<>\"\",IF(AND(D141=0,Förderrechner!$G$10=\"Ja\"),\"<--Eingabe?\",$F$6/(Förderrechner!$G$8)),\"\")","v":""},{"$f":"IF(AND(H141<>\"\",Förderrechner!$G$20=\"ja\",B141<>\"\"),IF(Förderrechner!$F$26=\"2024-2028\",20%,IF(Förderrechner!$F$26=\"2029/30\",17%,IF(Förderrechner!$F$26=\"2031/32\",14%,IF(Förderrechner!F$26=\"2033/34\",11%,IF(Förderrechner!F$26=\"2035/36\",8%,0%))))),\"\")","v":""},"",{"$f":"IF(B141<>\"\",0.7-$J$15,IF(A141<=Förderrechner!$G$8,0,\"\"))","v":""},{"$f":"IF(ISNUMBER(E141),MIN(E141,IF(Förderrechner!$G$10=\"Nein\",0,IF($D$21=\"%\",D141/100,IF($D$21=\"10.000stel\",D141/10000,D141/1000))*$J$12)),\"\")","v":""},"","",{"$f":"IFERROR((Förderrechner!$C$7-$J$18)*IF(D141=\"\",\"\",D141)/IF($D$21=\"%\",100,IF($D$21=\"10.000stel\",10000,1000))-K141,\"\")","v":""}]
[120,{"$f":"IF(Förderrechner!$G$9>=A142,\"x\",\"\")","v":""},{"$f":"IF(Förderrechner!$G$23>=A142,\"x\",\"\")","v":""},null,{"$f":"IF(B142<>\"\",IF(AND(D142=0,Förderrechner!$G$10=\"Ja\"),\"<--Eingabe?\",$F$6/(Förderrechner!$G$8)),\"\")","v":""},{"$f":"IF(AND(H142<>\"\",Förderrechner!$G$20=\"ja\",B142<>\"\"),IF(Förderrechner!$F$26=\"2024-2028\",20%,IF(Förderrechner!$F$26=\"2029/30\",17%,IF(Förderrechner!$F$26=\"2031/32\",14%,IF(Förderrechner!F$26=\"2033/34\",11%,IF(Förderrechner!F$26=\"2035/36\",8%,0%))))),\"\")","v":""},"",{"$f":"IF(B142<>\"\",0.7-$J$15,IF(A142<=Förderrechner!$G$8,0,\"\"))","v":""},{"$f":"IF(ISNUMBER(E142),MIN(E142,IF(Förderrechner!$G$10=\"Nein\",0,IF($D$21=\"%\",D142/100,IF($D$21=\"10.000stel\",D142/10000,D142/1000))*$J$12)),\"\")","v":""},"","",{"$f":"IFERROR((Förderrechner!$C$7-$J$18)*IF(D142=\"\",\"\",D142)/IF($D$21=\"%\",100,IF($D$21=\"10.000stel\",10000,1000))-K142,\"\")","v":""}]
[121,{"$f":"IF(Förderrechner!$G$9>=A143,\"x\",\"\")","v":""},{"$f":"IF(Förderrechner!$G$23>=A143,\"x\",\"\")","v":""},null,{"$f":"IF(B143<>\"\",IF(AND(D143=0,Förderrechner!$G$10=\"Ja\"),\"<--Eingabe?\",$F$6/(Förderrechner!$G$8)),\"\")","v":""},{"$f":"IF(AND(H143<>\"\",Förderrechner!$G$20=\"ja\",B143<>\"\"),IF(Förderrechner!$F$26=\"2024-2028\",20%,IF(Förderrechner!$F$26=\"2029/30\",17%,IF(Förderrechner!$F$26=\"2031/32\",14%,IF(Förderrechner!F$26=\"2033/34\",11%,IF(Förderrechner!F$26=\"2035/36\",8%,0%))))),\"\")","v":""},"",{"$f":"IF(B143<>\"\",0.7-$J$15,IF(A143<=Förderrechner!$G$8,0,\"\"))","v":""},{"$f":"IF(ISNUMBER(E143),MIN(E143,IF(Förderrechner!$G$10=\"Nein\",0,IF($D$21=\"%\",D143/100,IF($D$21=\"10.000stel\",D143/10000,D143/1000))*$J$12)),\"\")","v":""},"","",{"$f":"IFERROR((Förderrechner!$C$7-$J$18)*IF(D143=\"\",\"\",D143)/IF($D$21=\"%\",100,IF($D$21=\"10.000stel\",10000,1000))-K143,\"\")","v":""}]
[122,{"$f":"IF(Förderrechner!$G$9>=A144,\"x\",\"\")","v":""},{"$f":"IF(Förderrechner!$G$23>=A144,\"x\",\"\")","v":""},null,{"$f":"IF(B144<>\"\",IF(AND(D144=0,Förderrechner!$G$10=\"Ja\"),\"<--Eingabe?\",$F$6/(Förderrechner!$G$8)),\"\")","v":""},{"$f":"IF(AND(H144<>\"\",Förderrechner!$G$20=\"ja\",B144<>\"\"),IF(Förderrechner!$F$26=\"2024-2028\",20%,IF(Förderrechner!$F$26=\"2029/30\",17%,IF(Förderrechner!$F$26=\"2031/32\",14%,IF(Förderrechner!F$26=\"2033/34\",11%,IF(Förderrechner!F$26=\"2035/36\",8%,0%))))),\"\")","v":""},"",{"$f":"IF(B144<>\"\",0.7-$J$15,IF(A144<=Förderrechner!$G$8,0,\"\"))","v":""},{"$f":"IF(ISNUMBER(E144),MIN(E144,IF(Förderrechner!$G$10=\"Nein\",0,IF($D$21=\"%\",D144/100,IF($D$21=\"10.000stel\",D144/10000,D144/1000))*$J$12)),\"\")","v":""},"","",{"$f":"IFERROR((Förderrechner!$C$7-$J$18)*IF(D144=\"\",\"\",D144)/IF($D$21=\"%\",100,IF($D$21=\"10.000stel\",10000,1000))-K144,\"\")","v":""}]
[123,{"$f":"IF(Förderrechner!$G$9>=A145,\"x\",\"\")","v":""},{"$f":"IF(Förderrechner!$G$23>=A145,\"x\",\"\")","v":""},null,{"$f":"IF(B145<>\"\",IF(AND(D145=0,Förderrechner!$G$10=\"Ja\"),\"<--Eingabe?\",$F$6/(Förderrechner!$G$8)),\"\")","v":""},{"$f":"IF(AND(H145<>\"\",Förderrechner!$G$20=\"ja\",B145<>\"\"),IF(Förderrechner!$F$26=\"2024-2028\",20%,IF(Förderrechner!$F$26=\"2029/30\",17%,IF(Förderrechner!$F$26=\"2031/32\",14%,IF(Förderrechner!F$26=\"2033/34\",11%,IF(Förderrechner!F$26=\"2035/36\",8%,0%))))),\"\")","v":""},"",{"$f":"IF(B145<>\"\",0.7-$J$15,IF(A145<=Förderrechner!$G$8,0,\"\"))","v":""},{"$f":"IF(ISNUMBER(E145),MIN(E145,IF(Förderrechner!$G$10=\"Nein\",0,IF($D$21=\"%\",D145/100,IF($D$21=\"10.000stel\",D145/10000,D145/1000))*$J$12)),\"\")","v":""},"","",{"$f":"IFERROR((Förderrechner!$C$7-$J$18)*IF(D145=\"\",\"\",D145)/IF($D$21=\"%\",100,IF($D$21=\"10.000stel\",10000,1000))-K145,\"\")","v":""}]
[124,{"$f":"IF(Förderrechner!$G$9>=A146,\"x\",\"\")","v":""},{"$f":"IF(Förderrechner!$G$23>=A146,\"x\",\"\")","v":""},null,{"$f":"IF(B146<>\"\",IF(AND(D146=0,Förderrechner!$G$10=\"Ja\"),\"<--Eingabe?\",$F$6/(Förderrechner!$G$8)),\"\")","v":""},{"$f":"IF(AND(H146<>\"\",Förderrechner!$G$20=\"ja\",B146<>\"\"),IF(Förderrechner!$F$26=\"2024-2028\",20%,IF(Förderrechner!$F$26=\"2029/30\",17%,IF(Förderrechner!$F$26=\"2031/32\",14%,IF(Förderrechner!F$26=\"2033/34\",11%,IF(Förderrechner!F$26=\"2035/36\",8%,0%))))),\"\")","v":""},"",{"$f":"IF(B146<>\"\",0.7-$J$15,IF(A146<=Förderrechner!$G$8,0,\"\"))","v":""},{"$f":"IF(ISNUMBER(E146),MIN(E146,IF(Förderrechner!$G$10=\"Nein\",0,IF($D$21=\"%\",D146/100,IF($D$21=\"10.000stel\",D146/10000,D146/1000))*$J$12)),\"\")","v":""},"","",{"$f":"IFERROR((Förderrechner!$C$7-$J$18)*IF(D146=\"\",\"\",D146)/IF($D$21=\"%\",100,IF($D$21=\"10.000stel\",10000,1000))-K146,\"\")","v":""}]
[125,{"$f":"IF(Förderrechner!$G$9>=A147,\"x\",\"\")","v":""},{"$f":"IF(Förderrechner!$G$23>=A147,\"x\",\"\")","v":""},null,{"$f":"IF(B147<>\"\",IF(AND(D147=0,Förderrechner!$G$10=\"Ja\"),\"<--Eingabe?\",$F$6/(Förderrechner!$G$8)),\"\")","v":""},{"$f":"IF(AND(H147<>\"\",Förderrechner!$G$20=\"ja\",B147<>\"\"),IF(Förderrechner!$F$26=\"2024-2028\",20%,IF(Förderrechner!$F$26=\"2029/30\",17%,IF(Förderrechner!$F$26=\"2031/32\",14%,IF(Förderrechner!F$26=\"2033/34\",11%,IF(Förderrechner!F$26=\"2035/36\",8%,0%))))),\"\")","v":""},"",{"$f":"IF(B147<>\"\",0.7-$J$15,IF(A147<=Förderrechner!$G$8,0,\"\"))","v":""},{"$f":"IF(ISNUMBER(E147),MIN(E147,IF(Förderrechner!$G$10=\"Nein\",0,IF($D$21=\"%\",D147/100,IF($D$21=\"10.000stel\",D147/10000,D147/1000))*$J$12)),\"\")","v":""},"","",{"$f":"IFERROR((Förderrechner!$C$7-$J$18)*IF(D147=\"\",\"\",D147)/IF($D$21=\"%\",100,IF($D$21=\"10.000stel\",10000,1000))-K147,\"\")","v":""}]
["<--- Mit Klick auf das Plus(+) am Bildschirmrand können Sie die Ansicht auf 125 Wohneinheiten erweitern.  "]
["Es gelten die Hinweise der Registerkarte \"Förderrechner\"."]